Workbook

Sheet صورت وضعیت
A19: صندوق سرمایه‌گذاری بخشی صنایع سورنا- نماد سورنافود
A20: صورت وضعیت پرتفوی
A21: برای ماه منتهی به 1405/05/31

Sheet سهام
A1: صندوق سرمایه‌گذاری بخشی صنایع سورنا- نماد سورنافود
A2: صورت وضعیت پرتفوی
A3: برای ماه منتهی به 1405/05/31
A4: -1 | B4: سرمایه گذاری ها
A5: -1-1 | C5: سرمایه گذاری در سهام و حق تقدم سهام
E6: 1405/04/31 | K6: تغییرات طی دوره | S6: 1405/05/31
A7: نام شرکت | E7: تعداد | G7: بهای تمام شده | I7: خالص ارزش فروش | K7: خرید طی دوره | O7: فروش طی دوره | S7: تعداد | U7: قیمت بازار هر سهم | W7: بهای تمام شده | Y7: خالص ارزش فروش | AA7: درصد به کل دارایی ها
K8: تعداد | M8: بهای تمام شده | O8: تعداد | Q8: مبلغ فروش
A9: آلومینای ایران | E9: 0 | G9: 0 | I9: 0 | K9: 0 | M9: 0 | O9: 0 | Q9: 0 | S9: =E9+K9+O9 -> 0 | U9: 0 | W9: 0 | Y9: 0 | AA9: =(Y9/9464046397255)*100 -> 0
A10: اقتصادی و خودکفایی آزادگان | E10: 5855768 | G10: 38349923957 | I10: 7.8557999e+10 | K10: 1200000 | M10: 17566069532 | O10: -2373037 | Q10: 31581435027 | S10: =E10+K10+O10 -> 4682731 | U10: 13930 | W10: 40374771828 | Y10: 6.4726212e+10 | AA10: =(Y10/9464046397255)*100 -> 0.68391689
A11: بهار رز عالیس چناران | E11: 31481945 | G11: 107582487879 | I11: 1.3869934e+11 | K11: 3000000 | M11: 17776877882 | O11: -3905450 | Q11: 20410974888 | S11: =E11+K11+O11 -> 30576495 | U11: 5500 | W11: 111341016243 | Y11: 1.6687076e+11 | AA11: =(Y11/9464046397255)*100 -> 1.7632074
A12: پاکدیس | E12: 40657081 | G12: 323617942121 | I12: 4.3634774e+11 | K12: 0 | M12: 0 | O12: -3438501 | Q12: 43414537706 | S12: =E12+K12+O12 -> 37218580 | U12: 12400 | W12: 296248524784 | Y12: 4.5794292e+11 | AA12: =(Y12/9464046397255)*100 -> 4.8387645
A13: پگاه‌آذربایجان‌غربی‌ | E13: 6498707 | G13: 73748563419 | I13: 9.2857997e+10 | K13: 0 | M13: 0 | O13: -610243 | Q13: 9949980431 | S13: =E13+K13+O13 -> 5888464 | U13: 17860 | W13: 66823409757 | Y13: 1.0435502e+11 | AA13: =(Y13/9464046397255)*100 -> 1.1026469
A14: پارس مینو | E14: 64530384 | G14: 84362869570 | I14: 1.1570504e+11 | K14: 23524991 | M14: 40907377342 | O14: -19006104 | Q14: 32083948158 | S14: =E14+K14+O14 -> 69049271 | U14: 1765 | W14: 98952403975 | Y14: 1.2092989e+11 | AA14: =(Y14/9464046397255)*100 -> 1.2777821
A15: توسعه صنایع بهشهر | E15: 188488690 | G15: 655616696443 | I15: 1.0286742e+12 | K15: 0 | M15: 0 | O15: -6794377 | Q15: 34998739340 | S15: =E15+K15+O15 -> 181694313 | U15: 5100 | W15: 631983941591 | Y15: 9.1947806e+11 | AA15: =(Y15/9464046397255)*100 -> 9.7154856
A16: ح. توسعه صنایع بهشهر | E16: 0 | G16: 0 | I16: 0 | K16: 0 | M16: 0 | O16: 0 | Q16: 0 | S16: =E16+K16+O16 -> 0 | U16: 0 | W16: 0 | Y16: 0 | AA16: =(Y16/9464046397255)*100 -> 0
A17: تولیدی‌مهرام‌ | E17: 15527440 | G17: 121369898044 | I17: 2.7178676e+11 | K17: 5188333 | M17: 92622702751 | O17: -1249329 | Q17: 20955463948 | S17: =E17+K17+O17 -> 19466444 | U17: 18450 | W17: 204227247760 | Y17: 3.5637962e+11 | AA17: =(Y17/9464046397255)*100 -> 3.7656157
A18: دشت‌ مرغاب‌ | E18: 21846965 | G18: 58743720176 | I18: 6.2346181e+10 | K18: 1500000 | M18: 5594865068 | O18: -4224583 | Q18: 12478817350 | S18: =E18+K18+O18 -> 19122382 | U18: 3740 | W18: 52979216946 | Y18: 7.0964877e+10 | AA18: =(Y18/9464046397255)*100 -> 0.74983653
A19: ح. دشت مرغاب | E19: 0 | G19: 0 | I19: 0 | K19: 0 | M19: 0 | O19: 0 | Q19: 0 | S19: =E19+K19+O19 -> 0 | U19: 0 | W19: 0 | Y19: 0 | AA19: =(Y19/9464046397255)*100 -> 0
A20: سالمین | E20: 32615664 | G20: 147669489329 | I20: 2.4822839e+11 | K20: 1814370 | M20: 7411798582 | O20: -10080308 | Q20: 78221548709 | S20: =E20+K20+O20 -> 24349726 | U20: 8680 | W20: 102030254930 | Y20: 1.9409485e+11 | AA20: =(Y20/9464046397255)*100 -> 2.0508654
... A34: کشت و صنعت جوین | E34: 315594 | G34: 1323373147 | I34: 1.3778796e+09 | K34: 0 | M34: 0 | O34: -315594 | Q34: 1386780808 | S34: =E34+K34+O34 -> 0 | U34: 0 | W34: 0 | Y34: 0 | AA34: =(Y34/9464046397255)*100 -> 0
A35: جنرال مکانیک | E35: 0 | K35: 0 | M35: 0 | O35: 0 | Q35: 0 | S35: =E35+K35+O35 -> 0 | U35: 0 | W35: 0 | Y35: 0 | AA35: =(Y35/9464046397255)*100 -> 0
A36: کشت و صنعت چین چین | E36: 13592534 | G36: 31270190031 | I36: 4.5857377e+10 | K36: 0 | M36: 0 | O36: -330838 | Q36: 1181884553 | S36: =E36+K36+O36 -> 13261696 | U36: 4040 | W36: 30509083447 | Y36: 5.31631e+10 | AA36: =(Y36/9464046397255)*100 -> 0.56173752
A37: ملی کشت و صنعت و دامپروری پارس | E37: 0 | G37: 0 | I37: 0 | K37: 0 | M37: 0 | O37: 0 | Q37: 0 | S37: =E37+K37+O37 -> 0 | U37: 0 | W37: 0 | Y37: 0 | AA37: =(Y37/9464046397255)*100 -> 0
A38: صنایع غذایی رضوی | E38: 0 | G38: 0 | I38: 0 | K38: 0 | M38: 0 | O38: 0 | Q38: 0 | S38: =E38+K38+O38 -> 0 | U38: 0 | W38: 0 | Y38: 0 | AA38: =(Y38/9464046397255)*100 -> 0
A39: بهنوش ایران | E39: 2355922 | G39: 206336022905 | I39: 1.5459281e+11 | K39: 0 | M39: 0 | O39: -461122 | Q39: 32043962652 | S39: =E39+K39+O39 -> 1894800 | U39: 77050 | W39: 165950101997 | Y39: 1.448658e+11 | AA39: =(Y39/9464046397255)*100 -> 1.5306963
A40: زعفران0510نگین سحرخیز | E40: 1742 | G40: 3189042601 | I40: 4683422744 | K40: 0 | M40: 0 | O40: 0 | Q40: 0 | S40: =E40+K40+O40 -> 1742 | U40: 2711026 | W40: 3189042601 | Y40: 4.711273e+09 | AA40: =(Y40/9464046397255)*100 -> 0.049780747
A41: فروشگاههای زنجیره ای افق کوروش | E41: 1700000 | G41: 86242203759 | I41: 104197280430 | K41: 640689 | M41: 42506007638 | O41: -60000 | Q41: 3677551098 | S41: =E41+K41+O41 -> 2280689 | U41: 72140 | W41: 125691952462 | Y41: 1.632571e+11 | AA41: =(Y41/9464046397255)*100 -> 1.7250243
A42: تولیدی کوچین | E42: 4495413 | G42: 34880732013 | I42: 5.9817497e+10 | K42: 1014517 | M42: 14640138019 | O42: -1167954 | Q42: 16750313103 | S42: =E42+K42+O42 -> 4341976 | U42: 15310 | W42: 39390147967 | Y42: 6.5961796e+10 | AA42: =(Y42/9464046397255)*100 -> 0.69697245
A43: توسعه نیشکر و صنایع جانبی | E43: 1961032 | G43: 110070257397 | I43: 1.0151621e+11 | K43: 0 | M43: 0 | O43: -305809 | Q43: 18188348977 | S43: =E43+K43+O43 -> 1655223 | U43: 61090 | W43: 92905583214 | Y43: 1.0033593e+11 | AA43: =(Y43/9464046397255)*100 -> 1.0601801
A44: نوش پونه مشهد | E44: 0 | G44: 0 | I44: 0 | K44: 0 | M44: 0 | O44: 0 | Q44: 0 | S44: =E44+K44+O44 -> 0 | U44: 0 | W44: 0 | Y44: 0 | AA44: =(Y44/9464046397255)*100 -> 0
A45: شهد ایران ‌ | E45: 4759690 | G45: 37401464335 | I45: 3.1690643e+10 | K45: 0 | M45: 0 | O45: -1214939 | Q45: 8970450591 | S45: =E45+K45+O45 -> 3544751 | U45: 8050 | W45: 27854519543 | Y45: 2.8314668e+10 | AA45: =(Y45/9464046397255)*100 -> 0.29918142
A46: پتروشیمی شازند | E46: 0 | I46: 0 | K46: 0 | M46: 0 | O46: 0 | Q46: 0 | S46: =E46+K46+O46 -> 0 | U46: 0 | W46: 0 | Y46: 0 | AA46: =(Y46/9464046397255)*100 -> 0
A47: شیر پاستوریزه پگاه فارس | E47: 0 | G47: 0 | I47: 0 | K47: 0 | M47: 0 | O47: 0 | Q47: 0 | S47: =E47+K47+O47 -> 0 | U47: 0 | W47: 0 | Y47: 0 | AA47: =(Y47/9464046397255)*100 -> 0
A48: کارخانجات قند قزوین | E48: 0 | G48: 0 | I48: 0 | K48: 443106 | M48: 5136054447 | O48: 0 | Q48: 0 | S48: =E48+K48+O48 -> 443106 | U48: 11860 | W48: =G48+M48 -> 5136054447 | Y48: 5.2146142e+09 | AA48: =(Y48/9464046397255)*100 -> 0.055099203
A49: گلوکوزان‌ | E49: 0 | G49: 0 | I49: 0 | K49: 4942958 | M49: 33692777927 | O49: 0 | Q49: 0 | S49: =E49+K49+O49 -> 4942958 | U49: 7090 | W49: =G49+M49 -> 33692777927 | Y49: 3.477467e+10 | AA49: =(Y49/9464046397255)*100 -> 0.36743977
A50: نشاسته و گلوکز آردینه | E50: 0 | G50: 0 | I50: 0 | K50: 1174433 | M50: 34937393770 | O50: 0 | Q50: 0 | S50: =E50+K50+O50 -> 1174433 | U50: 32550 | W50: =G50+M50 -> 34937393770 | Y50: 3.7932293e+10 | AA50: =(Y50/9464046397255)*100 -> 0.40080418
A51: ایران‌ ترانسفو | E51: 0 | G51: 0 | I51: 0 | K51: 165648 | M51: 540792833 | O51: -165648 | Q51: 529263493 | S51: =E51+K51+O51 -> 0 | U51: 0 | W51: 0 | Y51: 0 | AA51: =(Y51/9464046397255)*100 -> 0
A52: گروه مپنا | E52: 0 | G52: 0 | I52: 0 | K52: 600000 | M52: 13000541424 | O52: -600000 | Q52: 13070025297 | S52: =E52+K52+O52 -> 0 | U52: 0 | W52: 0 | Y52: 0 | AA52: =(Y52/9464046397255)*100 -> 0
A53: بانک ملت | E53: 0 | G53: 0 | I53: 0 | K53: 0 | M53: 0 | O53: 0 | Q53: 0 | S53: =E53+K53+O53 -> 0 | U53: 0 | W53: 0 | Y53: 0 | AA53: =(Y53/9464046397255)*100 -> 0
...

Sheet تعدیل قیمت
A1: صندوق سرمایه گذاری بخشی صنایع سورنا- نماد سورنافود
A2: صورت وضعیت پرتفوی
A3: برای ماه منتهی به 1405/02/31
A4: اوراق بهاداری که ارزش آنها در تاریخ گزارش تعدیل شده
A5: (بر اساس دستورالعمل نحوه تعیین قیمت خرید و فروش اوراق بهادار در صندوق های سرمایه گذاری)
A6: نام اوراق بهادار | C6: 1405/02/31
C7: تعداد | E7: قیمت پایانی | G7: قیمت تعدیل شده | I7: درصد تعدیل | K7: خالص ارزش فروش تعدیل شده | M7: دلیل تعدیل
A41: جمع | K41: =SUM(K8:K40) -> 0

Sheet سپرده
A1: صندوق سرمایه گذاری بخشی صنایع سورنا- نماد سورنافود
A2: صورت وضعیت پرتفوی
A3: برای ماه منتهی به 1405/05/31
A4: -4-1 | B4: سرمایه‌گذاری در سپرده‌ بانکی
D5: 1405/04/31 | F5: تغییرات طی دوره | J5: 1405/05/31
A6: سپرده های بانکی | D6: مبلغ | F6: افزایش | H6: کاهش | J6: مبلغ | L6: درصد به کل دارایی ها
A7: سپرده کوتاه مدت بانک خاورمیانه نیایش | D7: 19100259 | F7: =507431781846+100961886000 -> 608393667846 | H7: =-506435551704-100961886000 -> -607397437704 | J7: =D7+F7+H7 -> 1015330401 | L7: =(J7/9464046397255)*100 -> 0.010728291
A8: سپرده کوتاه مدت بانک ملی بورس اوراق بهادار | D8: 2997362 | F8: 12729 | H8: 0 | J8: =D8+F8+H8 -> 3010091 | L8: =(J8/9464046397255)*100 -> 3.1805539e-05
A9: سپرده کوتاه مدت بانک ملت | D9: 9281375 | F9: 28860039397 | H9: 0 | J9: =D9+F9+H9 -> 28869320772 | L9: =(J9/9464046397255)*100 -> 0.30504205
A10: سپرده کوتاه مدت بانک دی حافظ | D10: 13426009 | F10: 51069 | H10: -1400000 | J10: =D10+F10+H10 -> 12077078 | L10: =(J10/9464046397255)*100 -> 0.00012761009
A11: جمع | D11: =SUM(D7:D10) -> 44805005 | F11: =SUM(F7:F10) -> 637253771041 | H11: =SUM(H7:H10) -> -607398837704 | J11: =SUM(J7:J10) -> 29899738342 | L11: =SUM(L7:L10) -> 0.31592975

Sheet سود سپرده بانکی
A1: صندوق سرمایه گذاری بخشی صنایع سورنا- نماد سورنافود
A2: صورت وضعیت درآمدها
A3: برای ماه منتهی به 1405/05/31
A4: سود سپرده بانکی
A5: شرح | C5: طی ماه | I5: از ابتدای سال مالی
C6: درآمد سود | E6: هزینه تنزیل | G6: خالص درآمد | I6: درآمد سود | K6: هزینه تنزیل | M6: خالص درآمد
A7: سپرده کوتاه مدت بانک خاورمیانه | C7: 636085 | E7: 0 | G7: =C7 -> 636085 | I7: 644431 | K7: 0 | M7: =I7 -> 644431
A8: سپرده کوتاه مدت بانک ملی | C8: 12729 | E8: 0 | G8: =C8 -> 12729 | I8: 28068 | K8: 0 | M8: =I8 -> 28068
A9: سپرده کوتاه مدت بانک دی | C9: 51069 | E9: 0 | G9: =C9 -> 51069 | I9: 107842 | K9: 0 | M9: =I9 -> 107842
A10: سپرده کوتاه مدت بانک ملت | C10: 39397 | E10: 0 | G10: =C10 -> 39397 | I10: 43272 | K10: 0 | M10: =I10 -> 43272
A11: جمع | C11: =SUM(C7:C10) -> 739280 | E11: =SUM(E7:E10) -> 0 | G11: =SUM(G7:G10) -> 739280 | I11: =SUM(I7:I10) -> 823613 | K11: =SUM(K7:K10) -> 0 | M11: =SUM(M7:M10) -> 823613

Sheet درآمد
A1: صندوق سرمایه گذاری بخشی صنایع سورنا- نماد سورنافود
A2: صورت وضعیت درآمدها سورنافود
A3: برای ماه منتهی به 1405/05/31
A4: -2 | B4: درآمد حاصل از سرمایه گذاری ها
A5: شرح | D5: یادداشت | F5: مبلغ | H5: درصد از کل درآمدها | J5: درصد از کل دارایی ها
A6: درآمد حاصل از سرمایه گذاری در سهام و حق تقدم سهام | D6: 1-2 | F6: ='درآمد سرمایه گذاری در سهام'!I75 -> 1.1347717e+12 | H6: =(F6/F11)*100 -> 99.801403 | J6: =(F6/9464046397255)*100 -> 11.990344
A7: درآمد حاصل از سرمایه گذاری در واحدهای صندوق های سرمایه گذاری | D7: 2-2 | F7: 0 | H7: =F7/F11 -> 0 | J7: =(F7/9464046397255)*100 -> 0
A8: درآمد حاصل از سرمایه گذاری در اوراق بهادار با درآمد ثابت | D8: 3-2 | F8: 0 | H8: =F8/F11 -> 0 | J8: =(F8/9464046397255)*100 -> 0
A9: درآمد حاصل از سرمایه گذاری در سپرده بانکی و گواهی سپرده | D9: 4-2 | F9: ='درآمد سپرده بانکی'!D11 -> 739280 | H9: =F9/F11 -> 6.5018525e-07 | J9: =(F9/9464046397255)*100 -> 7.8114579e-06
A10: سایر درآمدها | D10: 5-2 | F10: ='سایر درآمدها'!D11 -> 2257367684 | H10: =(F10/F11)*100 -> 0.19853197 | J10: =(F10/9464046397255)*100 -> 0.023852035
A11: جمع | F11: =SUM(F6:F10) -> 1.1370298e+12 | H11: =SUM(H6:H10) -> 99.999936 | J11: =SUM(J6:J10) -> 12.014204

Sheet درآمد سرمایه گذاری در سهام
A1: صندوق سرمایه گذاری بخشی صنایع سورنا- نماد سورنافود
A2: صورت وضعیت درآمدها
A3: برای ماه منتهی به 1405/05/31
A4: 1-2-درآمد حاصل از سرمایه­گذاری در سهام و حق تقدم سهام
C5: طی ماه | M5: از ابتدای سال مالی
A6: شرح | C6: درآمد سود سهام | E6: درآمد تغییر ارزش | G6: درآمد فروش | I6: جمع | M6: درآمد سود سهام | O6: درآمد تغییر ارزش | S6: درآمد فروش | U6: جمع
I7: مبلغ | K7: درصد از کل درآمدها | U7: مبلغ | W7: درصد از کل درآمدها
A8: مخابرات ایران | C8: 0 | E8: 0 | G8: 0 | I8: =C8+E8+G8 -> 0 | M8: =VLOOKUP(A8,'درآمد سود سهام'!$A$7:$O$42,15,0) -> 0 | O8: 0 | S8: =VLOOKUP(A8,'درآمد ناشی از فروش'!$A$7:$Q$73,17,0) -> 0 | U8: =M8+O8+S8 -> 0
A9: نشاسته و گلوکز آردینه | C9: 0 | E9: ='درآمد ناشی از تغییر قیمت اوراق'!I48 -> 2.9948995e+09 | G9: 0 | I9: =C9+E9+G9 -> 2.9948995e+09 | M9: 0 | O9: ='درآمد ناشی از تغییر قیمت اوراق'!Q48 -> 2.9948995e+09 | S9: =VLOOKUP(A9,'درآمد ناشی از فروش'!$A$7:$Q$73,17,0) -> 0 | U9: =M9+O9+S9 -> 2.9948995e+09
A10: بانک تجارت | C10: 0 | E10: 0 | G10: 0 | I10: =C10+E10+G10 -> 0 | M10: =VLOOKUP(A10,'درآمد سود سهام'!$A$7:$O$42,15,0) -> 0 | O10: 0 | S10: =VLOOKUP(A10,'درآمد ناشی از فروش'!$A$7:$Q$73,17,0) -> 0 | U10: =M10+O10+S10 -> 0
A11: معدنی و صنعتی گل گهر | C11: 0 | E11: 0 | G11: 0 | I11: =C11+E11+G11 -> 0 | M11: 0 | O11: 0 | S11: =VLOOKUP(A11,'درآمد ناشی از فروش'!$A$7:$Q$73,17,0) -> 0 | U11: =M11+O11+S11 -> 0
A12: پتروشیمی شیراز | C12: 0 | E12: 0 | G12: 0 | I12: =C12+E12+G12 -> 0 | M12: 0 | O12: 0 | S12: =VLOOKUP(A12,'درآمد ناشی از فروش'!$A$7:$Q$73,17,0) -> 0 | U12: =M12+O12+S12 -> 0
A13: توسعه صنایع بهشهر | C13: ='درآمد سود سهام'!M8 -> 0 | E13: =VLOOKUP(A13,'درآمد ناشی از تغییر قیمت اوراق'!$A$7:$I$60,9,0) -> -7.6096901e+10 | G13: ='درآمد ناشی از فروش'!I19 -> 1899503617 | I13: =C13+E13+G13 -> -7.4197398e+10 | M13: ='درآمد سود سهام'!S8 -> 53571813513 | O13: =VLOOKUP(A13,'درآمد ناشی از تغییر قیمت اوراق'!$A$7:$Q$55,17,0) -> 3.4342765e+10 | S13: ='درآمد ناشی از فروش'!Q19 -> 1605390522 | U13: =M13+O13+S13 -> 8.9519969e+10
A14: ح. صنایع بهشهر | C14: 0 | E14: ='درآمد ناشی از تغییر قیمت اوراق'!I24 -> 0 | G14: ='درآمد ناشی از فروش'!I57 -> 0 | I14: =C14+E14+G14 -> 0 | M14: 0 | O14: ='درآمد ناشی از تغییر قیمت اوراق'!Q24 -> 0 | S14: ='درآمد ناشی از فروش'!Q57 -> -39316145138 | U14: =M14+O14+S14 -> -39316145138
A15: پالایش نفت بندرعباس | C15: 0 | E15: 0 | G15: 0 | I15: =C15+E15+G15 -> 0 | M15: 0 | O15: 0 | S15: =VLOOKUP(A15,'درآمد ناشی از فروش'!$A$7:$Q$73,17,0) -> 0 | U15: =M15+O15+S15 -> 0
A16: فرآورده های دامی ولبنی دالاهو | C16: ='درآمد سود سهام'!M27 -> 0 | E16: =VLOOKUP(A16,'درآمد ناشی از تغییر قیمت اوراق'!$A$7:$I$60,9,0) -> 2.831429e+10 | G16: ='درآمد ناشی از فروش'!I9 -> 7681942822 | I16: =C16+E16+G16 -> 3.5996233e+10 | M16: ='درآمد سود سهام'!S27 -> 14385930826 | O16: =VLOOKUP(A16,'درآمد ناشی از تغییر قیمت اوراق'!$A$7:$Q$55,17,0) -> 4.6049728e+10 | S16: =VLOOKUP(A16,'درآمد ناشی از فروش'!$A$7:$Q$73,17,0) -> 7524079422 | U16: =M16+O16+S16 -> 6.7959739e+10
A17: ح. فرآورده های دامی ولبنی دالاهو | C17: 0 | E17: ='درآمد ناشی از تغییر قیمت اوراق'!I22 -> 0 | G17: ='درآمد ناشی از فروش'!I10 -> 0 | I17: =C17+E17+G17 -> 0 | M17: 0 | P17: ='درآمد ناشی از تغییر قیمت اوراق'!Q22 -> 0 | S17: ='درآمد ناشی از فروش'!Q10 -> -38937571313 | U17: =M17+P17+S17 -> -38937571313
A18: کشت وصنعت بهاران گلبهار خراسان | C18: 0 | E18: 0 | G18: 0 | I18: =C18+E18+G18 -> 0 | M18: =VLOOKUP(A18,'درآمد سود سهام'!$A$7:$O$42,15,0) -> 0 | O18: 0 | S18: =VLOOKUP(A18,'درآمد ناشی از فروش'!$A$7:$Q$73,17,0) -> 0 | U18: =M18+O18+S18 -> 0
A19: کشت و دامداری فکا | C19: 0 | E19: 0 | G19: 0 | I19: =C19+E19+G19 -> 0 | M19: =VLOOKUP(A19,'درآمد سود سهام'!$A$7:$O$42,15,0) -> 0 | O19: 0 | S19: =VLOOKUP(A19,'درآمد ناشی از فروش'!$A$7:$Q$73,17,0) -> 0 | U19: =M19+O19+S19 -> 0
A20: سرمایه‌گذاری غدیر | C20: 0 | E20: ='درآمد ناشی از تغییر قیمت اوراق'!I52 -> 0 | G20: ='درآمد ناشی از فروش'!I13 -> 0 | I20: =C20+E20+G20 -> 0 | M20: 0 | O20: ='درآمد ناشی از تغییر قیمت اوراق'!Q52 -> 0 | S20: =VLOOKUP(A20,'درآمد ناشی از فروش'!$A$7:$Q$73,17,0) -> -2150278752 | U20: =M20+O20+S20 -> -2150278752
A21: گروه سرمایه گذاری لقمان | C21: 0 | E21: 0 | G21: 0 | I21: =C21+E21+G21 -> 0 | M21: 0 | O21: 0 | S21: =VLOOKUP(A21,'درآمد ناشی از فروش'!$A$7:$Q$73,17,0) -> 0 | U21: =M21+O21+S21 -> 0
A22: صنعتی زر ماکارون | C22: ='درآمد سود سهام'!M23 -> 0 | E22: =VLOOKUP(A22,'درآمد ناشی از تغییر قیمت اوراق'!$A$7:$I$60,9,0) -> 2.1017526e+11 | G22: =VLOOKUP(A22,'درآمد ناشی از فروش'!$A$7:$Q$74,9,0) -> -3497946637 | I22: =C22+E22+G22 -> 2.0667731e+11 | M22: ='درآمد سود سهام'!S23 -> 34506550972 | O22: =VLOOKUP(A22,'درآمد ناشی از تغییر قیمت اوراق'!$A$7:$Q$55,17,0) -> 5.9995717e+10 | S22: =VLOOKUP(A22,'درآمد ناشی از فروش'!$A$7:$Q$73,17,0) -> -7697739484 | U22: =M22+O22+S22 -> 8.6804529e+10
A23: بهار رز عالیس چناران | C23: ='درآمد سود سهام'!M25 -> 0 | E23: =VLOOKUP(A23,'درآمد ناشی از تغییر قیمت اوراق'!$A$7:$I$60,9,0) -> 3.0498528e+10 | G23: ='درآمد ناشی از فروش'!I28 -> 306994035 | I23: =C23+E23+G23 -> 3.0805522e+10 | M23: ='درآمد سود سهام'!S25 -> 11788073836 | O23: =VLOOKUP(A23,'درآمد ناشی از تغییر قیمت اوراق'!$A$7:$Q$55,17,0) -> 8.9439012e+09 | S23: =VLOOKUP(A23,'درآمد ناشی از فروش'!$A$7:$Q$73,17,0) -> -2771920488 | U23: =M23+O23+S23 -> 1.7960055e+10
A24: صنعتی مینو | C24: ='درآمد سود سهام'!M36 -> 0 | E24: =VLOOKUP(A24,'درآمد ناشی از تغییر قیمت اوراق'!$A$7:$I$60,9,0) -> 9.9723033e+10 | G24: =VLOOKUP(A24,'درآمد ناشی از فروش'!$A$7:$Q$74,9,0) -> 2376254705 | I24: =C24+E24+G24 -> 1.0209929e+11 | M24: ='درآمد سود سهام'!S36 -> 0 | O24: =VLOOKUP(A24,'درآمد ناشی از تغییر قیمت اوراق'!$A$7:$Q$55,17,0) -> 1.9976078e+11 | S24: =VLOOKUP(A24,'درآمد ناشی از فروش'!$A$7:$Q$73,17,0) -> -3271320762 | U24: =M24+O24+S24 -> 1.9648946e+11
A25: پگاه‌آذربایجان‌غربی‌ | C25: ='درآمد سود سهام'!M11 -> 0 | E25: =VLOOKUP(A25,'درآمد ناشی از تغییر قیمت اوراق'!$A$7:$I$60,9,0) -> 2.0276662e+10 | G25: ='درآمد ناشی از فروش'!I35 -> 1170339873 | I25: =C25+E25+G25 -> 2.1447002e+10 | M25: ='درآمد سود سهام'!S11 -> 0 | O25: =VLOOKUP(A25,'درآمد ناشی از تغییر قیمت اوراق'!$A$7:$Q$55,17,0) -> 1.9636968e+10 | S25: =VLOOKUP(A25,'درآمد ناشی از فروش'!$A$7:$Q$73,17,0) -> 736072612 | U25: =M25+O25+S25 -> 2.0373041e+10
A26: ویتانا | C26: ='درآمد سود سهام'!M28 -> 0 | E26: =VLOOKUP(A26,'درآمد ناشی از تغییر قیمت اوراق'!$A$7:$I$60,9,0) -> 5.1688753e+08 | G26: =VLOOKUP(A26,'درآمد ناشی از فروش'!$A$7:$Q$74,9,0) -> 46651481 | I26: =C26+E26+G26 -> 5.6353901e+08 | M26: ='درآمد سود سهام'!S28 -> 0 | O26: =VLOOKUP(A26,'درآمد ناشی از تغییر قیمت اوراق'!$A$7:$Q$55,17,0) -> 2.6293311e+09 | S26: =VLOOKUP(A26,'درآمد ناشی از فروش'!$A$7:$Q$73,17,0) -> 70334477 | U26: =M26+O26+S26 -> 2.6996656e+09
A27: سیمرغ | C27: ='درآمد سود سهام'!M39 -> 0 | E27: =VLOOKUP(A27,'درآمد ناشی از تغییر قیمت اوراق'!$A$7:$I$60,9,0) -> 2.8176939e+10 | G27: =VLOOKUP(A27,'درآمد ناشی از فروش'!$A$7:$Q$74,9,0) -> 221599186 | I27: =C27+E27+G27 -> 2.8398538e+10 | M27: ='درآمد سود سهام'!S39 -> 1070958180 | O27: =VLOOKUP(A27,'درآمد ناشی از تغییر قیمت اوراق'!$A$7:$Q$55,17,0) -> 2.3614663e+10 | S27: =VLOOKUP(A27,'درآمد ناشی از فروش'!$A$7:$Q$73,17,0) -> -2444362583 | U27: =M27+O27+S27 -> 2.2241259e+10
A28: مدیریت انرژی امید تابان هور | C28: 0 | E28: 0 | G28: 0 | I28: =C28+E28+G28 -> 0 | M28: 0 | O28: 0 | S28: =VLOOKUP(A28,'درآمد ناشی از فروش'!$A$7:$Q$73,17,0) -> 0 | U28: =M28+O28+S28 -> 0
A29: فروشگاههای زنجیره ای افق کوروش | C29: ='درآمد سود سهام'!M20 -> 0 | E29: =VLOOKUP(A29,'درآمد ناشی از تغییر قیمت اوراق'!$A$7:$I$60,9,0) -> 2.015036e+10 | G29: ='درآمد ناشی از فروش'!I31 -> 80999509 | I29: =C29+E29+G29 -> 2.0231359e+10 | M29: ='درآمد سود سهام'!S20 -> 9219900000 | O29: =VLOOKUP(A29,'درآمد ناشی از تغییر قیمت اوراق'!$A$7:$Q$55,17,0) -> 2.2526998e+10 | S29: =VLOOKUP(A29,'درآمد ناشی از فروش'!$A$7:$Q$73,17,0) -> -8011061445 | U29: =M29+O29+S29 -> 2.3735837e+10
A30: صنعتی بهشهر | C30: ='درآمد سود سهام'!M34 -> 0 | E30: =VLOOKUP(A30,'درآمد ناشی از تغییر قیمت اوراق'!$A$7:$I$60,9,0) -> 3.0496064e+11 | G30: ='درآمد ناشی از فروش'!I25 -> 0 | I30: =C30+E30+G30 -> 3.0496064e+11 | M30: ='درآمد سود سهام'!S34 -> 0 | O30: =VLOOKUP(A30,'درآمد ناشی از تغییر قیمت اوراق'!$A$7:$Q$55,17,0) -> 6.0763496e+11 | S30: =VLOOKUP(A30,'درآمد ناشی از فروش'!$A$7:$Q$73,17,0) -> 5813391334 | U30: =M30+O30+S30 -> 6.1344835e+11
A31: شیر پاستوریزه‌پگاه‌اصفهان | C31: ='درآمد سود سهام'!M12 -> 0 | E31: =VLOOKUP(A31,'درآمد ناشی از تغییر قیمت اوراق'!$A$7:$I$60,9,0) -> 1.3039448e+10 | G31: ='درآمد ناشی از فروش'!I32 -> 1860088910 | I31: =C31+E31+G31 -> 1.4899537e+10 | M31: ='درآمد سود سهام'!S12 -> 0 | O31: =VLOOKUP(A31,'درآمد ناشی از تغییر قیمت اوراق'!$A$7:$Q$55,17,0) -> 1.2489688e+10 | S31: =VLOOKUP(A31,'درآمد ناشی از فروش'!$A$7:$Q$73,17,0) -> 291110216 | U31: =M31+O31+S31 -> 1.2780798e+10
A32: بیسکویت گرجی | C32: 0 | E32: 0 | G32: 0 | I32: =C32+E32+G32 -> 0 | M32: 0 | O32: 0 | S32: =VLOOKUP(A32,'درآمد ناشی از فروش'!$A$7:$Q$73,17,0) -> 0 | U32: =M32+O32+S32 -> 0
A33: سرمایه گذاری مهر | C33: 0 | E33: 0 | G33: 0 | I33: =C33+E33+G33 -> 0 | M33: 0 | O33: 0 | S33: =VLOOKUP(A33,'درآمد ناشی از فروش'!$A$7:$Q$73,17,0) -> 0 | U33: =M33+O33+S33 -> 0
A34: کشت و صنعت و جوین | C34: 0 | E34: =VLOOKUP(A34,'درآمد ناشی از تغییر قیمت اوراق'!$A$7:$I$60,9,0) -> 0 | G34: ='درآمد ناشی از فروش'!I33 -> -86426693 | I34: =C34+E34+G34 -> -86426693 | M34: =VLOOKUP(A34,'درآمد سود سهام'!$A$7:$O$42,15,0) -> 0 | O34: =VLOOKUP(A34,'درآمد ناشی از تغییر قیمت اوراق'!$A$7:$Q$55,17,0) -> 0 | S34: =VLOOKUP(A34,'درآمد ناشی از فروش'!$A$7:$Q$73,17,0) -> -240921642 | U34: =M34+O34+S34 -> -240921642
A35: صنعت غذایی کورش | C35: ='درآمد سود سهام'!M24 -> 0 | E35: =VLOOKUP(A35,'درآمد ناشی از تغییر قیمت اوراق'!$A$7:$I$60,9,0) -> 4.9747479e+10 | G35: =VLOOKUP(A35,'درآمد ناشی از فروش'!$A$7:$Q$74,9,0) -> 2021328929 | I35: =C35+E35+G35 -> 5.1768808e+10 | M35: ='درآمد سود سهام'!S24 -> 80160000000 | O35: =VLOOKUP(A35,'درآمد ناشی از تغییر قیمت اوراق'!$A$7:$Q$55,17,0) -> 2.0751856e+11 | S35: =VLOOKUP(A35,'درآمد ناشی از فروش'!$A$7:$Q$73,17,0) -> 10128788214 | U35: =M35+O35+S35 -> 2.9780735e+11
A36: شوکو پارس | C36: 0 | E36: 0 | G36: 0 | I36: =C36+E36+G36 -> 0 | M36: 0 | O36: 0 | S36: =VLOOKUP(A36,'درآمد ناشی از فروش'!$A$7:$Q$73,17,0) -> 0 | U36: =M36+O36+S36 -> 0
A37: پارس مینو | C37: ='درآمد سود سهام'!M35 -> 0 | E37: =VLOOKUP(A37,'درآمد ناشی از تغییر قیمت اوراق'!$A$7:$I$60,9,0) -> -4.5971137e+09 | G37: =VLOOKUP(A37,'درآمد ناشی از فروش'!$A$7:$Q$74,9,0) -> 998541192 | I37: =C37+E37+G37 -> -3.5985725e+09 | M37: ='درآمد سود سهام'!S35 -> 0 | O37: =VLOOKUP(A37,'درآمد ناشی از تغییر قیمت اوراق'!$A$7:$Q$55,17,0) -> 7.1927331e+09 | S37: =VLOOKUP(A37,'درآمد ناشی از فروش'!$A$7:$Q$73,17,0) -> 4473819224 | U37: =M37+O37+S37 -> 1.1666552e+10
A38: کشت و صنعت چین چین | C38: 0 | E38: =VLOOKUP(A38,'درآمد ناشی از تغییر قیمت اوراق'!$A$7:$I$60,9,0) -> 8.3538546e+09 | G38: ='درآمد ناشی از فروش'!I42 -> 133753009 | I38: =C38+E38+G38 -> 8.4876076e+09 | M38: ='درآمد سود سهام'!S10 -> 0 | O38: =VLOOKUP(A38,'درآمد ناشی از تغییر قیمت اوراق'!$A$7:$Q$55,17,0) -> 1.1148573e+10 | S38: =VLOOKUP(A38,'درآمد ناشی از فروش'!$A$7:$Q$73,17,0) -> -328188053 | U38: =M38+O38+S38 -> 1.0820385e+10
A39: سایپا | C39: 0 | E39: 0 | G39: 0 | I39: =C39+E39+G39 -> 0 | M39: 0 | O39: 0 | S39: =VLOOKUP(A39,'درآمد ناشی از فروش'!$A$7:$Q$73,17,0) -> 0 | U39: =M39+O39+S39 -> 0
A40: توسعه نیشکر و صنایع جانبی | C40: ='درآمد سود سهام'!M30 -> 0 | E40: =VLOOKUP(A40,'درآمد ناشی از تغییر قیمت اوراق'!$A$7:$I$60,9,0) -> 1.5678457e+10 | G40: ='درآمد ناشی از فروش'!I21 -> 1329620486 | I40: =C40+E40+G40 -> 1.7008077e+10 | M40: ='درآمد سود سهام'!S30 -> 0 | O40: =VLOOKUP(A40,'درآمد ناشی از تغییر قیمت اوراق'!$A$7:$Q$55,17,0) -> 9.0863139e+09 | S40: =VLOOKUP(A40,'درآمد ناشی از فروش'!$A$7:$Q$73,17,0) -> -3926191701 | U40: =M40+O40+S40 -> 5.1601222e+09
...

Sheet درآمد سپرده بانکی
A1: صندوق سرمایه گذاری بخشی صنایع سورنا- نماد سورنافود
A2: صورت وضعیت درآمدها
A3: برای ماه منتهی به 1405/05/31
A4: -4-2 | B4: درآمد حاصل از سرمایه­گذاری در سپرده بانکی و گواهی سپرده
D5: طی ماه | H5: از ابتدای سال مالی
A6: نام سپرده بانکی | D6: سود سپرده بانکی و گواهی سپرده | F6: درصد سود به میانگین سپرده | H6: سود سپرده بانکی و گواهی سپرده | J6: درصد سود به میانگین سپرده
A7: سپرده کوتاه مدت بانک خاورمیانه نیایش | D7: ='سود سپرده بانکی'!G7 -> 636085 | H7: ='سود سپرده بانکی'!M7 -> 644431
A8: سپرده کوتاه مدت بانک ملی بورس اوراق بهادار | D8: ='سود سپرده بانکی'!G8 -> 12729 | H8: ='سود سپرده بانکی'!M8 -> 28068
A9: سپرده کوتاه مدت بانک ملت | D9: ='سود سپرده بانکی'!G10 -> 39397 | H9: ='سود سپرده بانکی'!M10 -> 43272
A10: سپرده کوتاه مدت بانک دی حافظ | D10: ='سود سپرده بانکی'!G9 -> 51069 | H10: ='سود سپرده بانکی'!M9 -> 107842
A11: جمع | D11: =SUM(D7:D10) -> 739280 | H11: =SUM(H7:H10) -> 823613

Sheet سایر درآمدها
A1: صندوق سرمایه گذاری بخشی صنایع سورنا- سورنافود
A2: صورت وضعیت درآمدها
A3: برای ماه منتهی به 1405/05/31
A5: -5-2 | B5: سایر درآمدها
D6: طی ماه | F6: از ابتدای سال مالی
A7: سایر درآمدها | D7: مبلغ | F7: مبلغ
A8: سایر درآمدها | D8: 1524112996 | F8: 8454194603
A9: معین برای سایر درآمدهای تنزیل سود بانک | D9: 0 | F9: 0
A10: تعدیل کارمزد کارگزار | D10: 733254688 | F10: 2742696150
A11: جمع | D11: =SUM(D8:D10) -> 2257367684 | F11: =SUM(F8:F10) -> 11196890753

Sheet درآمد سود سهام
A1: صندوق سرمایه گذاری بخشی صنایع سورنا- نماد سورنافود
A2: صورت وضعیت درآمدها
A3: برای ماه منتهی به 1405/05/31
A4: درآمد سود سهام
A5: نام سهام | C5: اطلاعات مجمع | I5: طی ماه | O5: از ابتدای سال مالی
C6: A:S | E6: تعداد سهام متعلقه در زمان مجمع | G6: سود متعلق به هر سهم | I6: جمع درآمد سود سهام | K6: هزینه تنزیل | M6: خالص درآمد سود سهام | O6: جمع درآمد سود سهام | Q6: هزینه تنزیل | S6: خالص درآمد سود سهام
A7: مخابرات ایران | C7: 1404/04/12 | E7: 0 | G7: 40 | K7: 0 | M7: 0 | O7: =E7*G7 -> 0 | Q7: 0 | S7: =O7+Q7 -> 0
A8: توسعه صنایع بهشهر | C8: 1405/04/12 | E8: 126285154 | G8: 480 | I8: 0 | K8: 0 | M8: =I8+K8 -> 0 | O8: =E8*G8 -> 60616873920 | Q8: -7045060407 | S8: =O8+Q8 -> 53571813513
A9: سالمین | C9: 1405/04/27 | E9: 35573630 | G9: 350 | I9: 0 | K9: 0 | M9: =I9+K9 -> 0 | O9: =E9*G9 -> 12450770500 | Q9: -1552614067 | S9: =O9+Q9 -> 10898156433
A10: کشت و صنعت چین چین | C10: 1404/.07/26 | E10: 0 | G10: 50 | I10: 0 | K10: 0 | M10: =I10+K10 -> 0 | O10: =E10*G10 -> 0 | Q10: =K10 -> 0 | S10: =O10+Q10 -> 0
A11: پگاه‌آذربایحان‌غربی | C11: 1404/12/05 | E11: 0 | G11: 1000 | I11: 0 | K11: 0 | M11: =I11+K11 -> 0 | O11: =E11*G11 -> 0 | Q11: =K11 -> 0 | S11: =O11+Q11 -> 0
A12: شیرپاستوریزه‌پگاه‌اصفهان‌ | C12: 1404/12/03 | E12: 0 | G12: 1350 | I12: 0 | K12: 0 | M12: =I12+K12 -> 0 | O12: =E12*G12 -> 0 | Q12: =K12 -> 0 | S12: =O12+Q12 -> 0
A13: شیرپاستوریزه‌پگاه‌گلپایگان | C13: 1404/12/02 | E13: 0 | G13: 1000 | I13: 0 | K13: 0 | M13: =I13+K13 -> 0 | O13: =E13*G13 -> 0 | Q13: =K13 -> 0 | S13: =O13+Q13 -> 0
A14: تولیدی مهرام | C14: 1405/04/29 | E14: 15527440 | G14: 850 | I14: 0 | K14: 0 | M14: =I14+K14 -> 0 | O14: =E14*G14 -> 13198324000 | Q14: -1659669485 | S14: =O14+Q14 -> 11538654515
A15: بانک تجارت | C15: 1404/04/31 | E15: 0 | G15: 11 | I15: 0 | K15: 0 | M15: =I15+K15 -> 0 | O15: =E15*G15 -> 0 | Q15: =K15 -> 0 | S15: =O15+Q15 -> 0
A16: گروه سرمایه گذاری میراث فرهنگی | C16: 1404/04/31 | E16: 0 | G16: 350 | I16: 0 | K16: 0 | M16: =I16+K16 -> 0 | O16: =E16*G16 -> 0 | Q16: =K16 -> 0 | S16: =O16+Q16 -> 0
A17: اقتصادی و خودکفایی آزادگان | C17: 1405/04/09 | E17: 5999986 | G17: 750 | I17: 0 | K17: 0 | M17: =I17+K17 -> 0 | O17: =E17*G17 -> 4499989500 | Q17: -518180609 | S17: =O17+Q17 -> 3981808891
A18: پاکدیس | C18: 1405/04/12 | E18: 9350000 | G18: 5800 | I18: 0 | K18: 0 | M18: =I18+K18 -> 0 | O18: =E18*G18 -> 54230000000 | Q18: -6273731072 | S18: =O18+Q18 -> 47956268928
A19: کشت و صنعت شهداب ناب خراسان | C19: 1404/05/14 | E19: 0 | G19: 27 | I19: 0 | K19: 0 | M19: =I19+K19 -> 0 | O19: =E19*G19 -> 0 | Q19: =K19 -> 0 | S19: =O19+Q19 -> 0
A20: فروشگاههای زنجیره ای افق کوروش | C20: 1405/04/11 | E20: 2526000 | G20: 3650 | I20: 0 | K20: 0 | M20: =I20+K20 -> 0 | O20: =E20*G20 -> 9219900000 | Q20: 0 | S20: =O20+Q20 -> 9219900000
A21: کشت و دامداری فکا | C21: 1404/04/28 | E21: 0 | G21: 380 | I21: 0 | K21: 0 | M21: =I21+K21 -> 0 | O21: =E21*G21 -> 0 | Q21: =K21 -> 0 | S21: =O21+Q21 -> 0
A22: کشت وصنعت بهاران گلبهار خراسان | C22: 1404/04/19 | E22: 0 | G22: 75 | I22: 0 | K22: 0 | M22: =I22+K22 -> 0 | O22: =E22*G22 -> 0 | Q22: =K22 -> 0 | S22: =O22+Q22 -> 0
A23: صنعتی زر ماکارون | C23: 1404/04/31 | E23: 158068365 | G23: 250 | I23: 0 | K23: 0 | M23: =I23+K23 -> 0 | O23: =E23*G23 -> 39517091250 | Q23: -5010540278 | S23: =O23+Q23 -> 34506550972
A24: صنعت غذایی کورش | C24: 1405/04/21 | E24: 50100000 | G24: 1600 | I24: 0 | K24: 0 | M24: =I24+K24 -> 0 | O24: =E24*G24 -> 80160000000 | Q24: 0 | S24: =O24+Q24 -> 80160000000
A25: بهار رز عالیس چناران | C25: 1405/04/28 | E25: 31781945 | G25: 424 | I25: 0 | K25: 0 | M25: =I25+K25 -> 0 | O25: =E25*G25 -> 13475544680 | Q25: -1687470844 | S25: =O25+Q25 -> 11788073836
A26: آلومینای ایران | C26: 1404/04/31 | E26: 0 | G26: 7000 | I26: 0 | K26: 0 | M26: =I26+K26 -> 0 | O26: =E26*G26 -> 0 | Q26: =K26 -> 0 | S26: =O26+Q26 -> 0
A27: فرآورده های دامی ولبنی دالاهو | C27: 1405/04/27 | E27: 12642641 | G27: 1300 | I27: 0 | K27: 0 | M27: =I27+K27 -> 0 | O27: =E27*G27 -> 16435433300 | Q27: -2049502474 | S27: =O27+Q27 -> 14385930826
A28: ویتانا | C28: 1405/01/30 | E28: 0 | G28: 78 | I28: 0 | K28: 0 | M28: =I28+K28 -> 0 | O28: =E28*G28 -> 0 | Q28: =K28 -> 0 | S28: =O28+Q28 -> 0
A29: صنعتی بهپاک | C29: 1405/01/16 | E29: 0 | G29: 270 | I29: 0 | K29: 0 | M29: =I29+K29 -> 0 | O29: =E29*G29 -> 0 | Q29: =K29 -> 0 | S29: =O29+Q29 -> 0
A30: توسعه نیشکر و صنایع جانبی | C30: 1405/01/16 | E30: 0 | G30: 4000 | I30: 0 | K30: 0 | M30: =I30+K30 -> 0 | O30: =E30*G30 -> 0 | Q30: =K30 -> 0 | S30: =O30+Q30 -> 0
A31: کشت و صنعت و جوین | C31: 1404/08/29 | E31: 0 | G31: 315594 | I31: 0 | K31: 0 | M31: =I31+K31 -> 0 | O31: =E31*G31 -> 0 | Q31: =K31 -> 0 | S31: =O31+Q31 -> 0
A32: دشت مرغاب | C32: 1404/07/30 | E32: 0 | G32: 5121186 | I32: 0 | K32: 0 | M32: =I32+K32 -> 0 | O32: =E32*G32 -> 0 | Q32: =K32 -> 0 | S32: =O32+Q32 -> 0
A33: تولیدی کوچین | C33: 1405/02/10 | E33: 0 | G33: 271 | I33: 0 | K33: 0 | M33: =I33+K33 -> 0 | O33: =E33*G33 -> 0 | Q33: =K33 -> 0 | S33: =O33+Q33 -> 0
A34: صنعتی بهشهر | C34: 1405/02/27 | E34: 0 | G34: 450 | I34: 0 | K34: 0 | M34: =I34+K34 -> 0 | O34: =E34*G34 -> 0 | Q34: =K34 -> 0 | S34: =O34+Q34 -> 0
A35: پارس مینو | C35: 1405/03/03 | E35: =I35/G35 -> 0 | G35: 60 | I35: 0 | K35: 0 | M35: =I35+K35 -> 0 | O35: =E35*G35 -> 0 | Q35: =K35 -> 0 | S35: =O35+Q35 -> 0
A36: صنعتی مینو | C36: 1405/03/23 | E36: 0 | G36: 220 | I36: 0 | K36: 0 | M36: =I36+K36 -> 0 | O36: =E36*G36 -> 0 | Q36: =K36 -> 0 | S36: =O36+Q36 -> 0
A37: سپید ماکیان | C37: 1405/03/27 | E37: 0 | G37: 1500 | I37: 0 | K37: 0 | M37: =I37+K37 -> 0 | O37: =E37*G37 -> 0 | Q37: =K37 -> 0 | S37: =O37+Q37 -> 0
A38: شهد ایران ‌ | C38: 1405/04/30 | E38: 4759690 | G38: 1200 | I38: 0 | K38: 0 | M38: =I38+K38 -> 0 | O38: =E38*G38 -> 5711628000 | Q38: 0 | S38: =O38+Q38 -> 5711628000
A39: سیمرغ | C39: 1405/04/12 | E39: 28852298 | G39: 42 | I39: 0 | K39: 0 | M39: =I39+K39 -> 0 | O39: =E39*G39 -> 1211796516 | Q39: -140838336 | S39: =O39+Q39 -> 1070958180
A40: کارخانجات قند قزوین | C40: 1405/03/31 | E40: =I40/G40 -> 0 | G40: 1200 | I40: 0 | K40: 0 | M40: =I40+K40 -> 0 | O40: =E40*G40 -> 0 | Q40: 0 | S40: =O40+Q40 -> 0
...

Sheet درآمد ناشی از فروش
A1: صندوق سرمایه گذاری بخشی صنایع سورنا- نماد سورنافود
A2: صورت وضعیت درآمدها
A3: برای ماه منتهی به 1405/05/31
A4: سود(زیان) حاصل از فروش اوراق بهادار
A5: شرح | C5: طی ماه | K5: از ابتدای سال مالی
C6: تعداد | E6: خالص بهای فروش | G6: ارزش دفتری | I6: سود و زیان ناشی از فروش | K6: تعداد | M6: خالص بهای فروش | O6: ارزش دفتری | Q6: سود و زیان ناشی از فروش
A7: مخابرات ایران | C7: 0 | E7: 0 | G7: 0 | I7: =E7+G7 -> 0 | K7: 0 | M7: 0 | O7: 0 | Q7: =M7+O7 -> 0
A8: صنعتی زر ماکارون | C8: =-سهام!O27 -> 7477691 | E8: =سهام!Q27 -> 23350873311 | G8: -26848819948 | I8: =E8+G8 -> -3497946637 | K8: 14127094 | M8: 43026821339 | O8: -50724560823 | Q8: =M8+O8 -> -7697739484
A9: فرآورده های دامی ولبنی دالاهو | C9: =-سهام!O30 -> 7319355 | E9: =سهام!Q30 -> 51319125311 | G9: -43637182489 | I9: =E9+G9 -> 7681942822 | K9: 8026714 | M9: 56607936941 | O9: -49083857519 | Q9: =M9+O9 -> 7524079422
A10: ح. فرآورده های دامی ولبنی دالاهو | C10: =-سهام!O31 -> 0 | E10: =سهام!Y31 -> 0 | G10: 0 | I10: =E10+G10 -> 0 | K10: 35349755 | M10: 144863295990 | O10: -183800867303 | Q10: =M10+O10 -> -38937571313
A11: کشت وصنعت بهاران گلبهار خراسان | C11: 0 | E11: 0 | G11: 0 | I11: =E11+G11 -> 0 | K11: 0 | M11: 0 | O11: 0 | Q11: =M11+O11 -> 0
A12: کشت و دامداری فکا | C12: 0 | E12: 0 | G12: 0 | I12: =E12+G12 -> 0 | K12: 0 | M12: 0 | O12: 0 | Q12: =M12+O12 -> 0
A13: سرمایه‌گذاری غدیر | C13: =-سهام!O56 -> 0 | E13: =سهام!Q56 -> 0 | G13: 0 | I13: =E13+G13 -> 0 | K13: 7100000 | M13: 103737829758 | O13: -105888108510 | Q13: =M13+O13 -> -2150278752
A14: نشاسته و گلوکز آردینه | C14: =-سهام!O50 -> 0 | E14: =سهام!Q50 -> 0 | G14: 0 | I14: =E14+G14 -> 0 | K14: 0 | M14: 0 | O14: 0 | Q14: =M14+O14 -> 0
A15: بانک تجارت | C15: 0 | E15: 0 | G15: 0 | I15: =E15+G15 -> 0 | K15: 0 | M15: 0 | O15: 0 | Q15: =M15+O15 -> 0
A16: معدنی و صنعتی گل گهر | C16: 0 | E16: 0 | G16: 0 | I16: =E16+G16 -> 0 | K16: 0 | M16: 0 | O16: 0 | Q16: =M16+O16 -> 0
A17: پتروشیمی شیراز | C17: 0 | E17: 0 | G17: 0 | I17: =E17+G17 -> 0 | K17: 0 | M17: 0 | O17: 0 | Q17: =M17+O17 -> 0
A18: گروه سرمایه گذاری لقمان | C18: 0 | E18: 0 | G18: 0 | I18: =E18+G18 -> 0 | K18: 0 | M18: 0 | O18: 0 | Q18: =M18+O18 -> 0
A19: توسعه صنایع بهشهر* | C19: =-سهام!O15 -> 6794377 | E19: =سهام!Q15 -> 34998739340 | G19: -33099235723 | I19: =E19+G19 -> 1899503617 | K19: 9799924 | M19: 49784424860 | O19: -48179034338 | Q19: =M19+O19 -> 1605390522
A20: پالایش نفت بندرعباس | C20: 0 | E20: 0 | G20: 0 | I20: =E20+G20 -> 0 | K20: 0 | M20: 0 | O20: 0 | Q20: =M20+O20 -> 0
A21: توسعه نیشکر و صنایع جانبی | C21: =-سهام!O43 -> 305809 | E21: =سهام!Q43 -> 18188348977 | G21: -16858728491 | I21: =E21+G21 -> 1329620486 | K21: 1095661 | M21: 56750413365 | O21: -60676605066 | Q21: =M21+O21 -> -3926191701
A22: سپید ماکیان | C22: =-سهام!O21 -> 659550 | E22: =سهام!Q21 -> 21629701652 | G22: -18173320492 | I22: =E22+G22 -> 3456381160 | K22: 3264701 | M22: 96310157177 | O22: -88195807377 | Q22: =M22+O22 -> 8114349800
A23: سیمرغ | C23: =-سهام!O22 -> 2400000 | E23: =سهام!Q22 -> 7998688537 | G23: -7777089351 | I23: =E23+G23 -> 221599186 | K23: 10400000 | M23: 31256357804 | O23: -33700720387 | Q23: =M23+O23 -> -2444362583
A24: صنعتی مینو | C24: =-سهام!O28 -> 5476440 | E24: =سهام!Q28 -> 30356566087 | G24: -27980311382 | I24: =E24+G24 -> 2376254705 | K24: 30698506 | M24: 153433598841 | O24: -156704919603 | Q24: =M24+O24 -> -3271320762
A25: صنعتی بهشهر | C25: =-سهام!O29 -> 0 | E25: =سهام!Q29 -> 0 | G25: 0 | I25: =E25+G25 -> 0 | K25: 2400000 | M25: 21885507183 | O25: -16072115849 | Q25: =M25+O25 -> 5813391334
A26: کشت و صنعت شهداب ناب خراسان | C26: 0 | E26: 0 | G26: 0 | I26: =E26+G26 -> 0 | K26: 0 | M26: 0 | O26: 0 | Q26: =M26+O26 -> 0
A27: گروه سرمایه گذاری میراث فرهنگی | C27: 0 | E27: 0 | G27: 0 | I27: =E27+G27 -> 0 | K27: 0 | M27: 0 | O27: 0 | Q27: =M27+O27 -> 0
A28: بهار رز عالیس چناران | C28: =-سهام!O11 -> 3905450 | E28: =سهام!Q11 -> 20410974888 | G28: -20103980853 | I28: =E28+G28 -> 306994035 | K28: 13880319 | M28: 68107585761 | O28: -70879506249 | Q28: =M28+O28 -> -2771920488
A29: بیسکویت گرجی | C29: 0 | E29: 0 | G29: 0 | I29: =E29+G29 -> 0 | K29: 0 | M29: 0 | O29: 0 | Q29: =M29+O29 -> 0
A30: مدیریت انرژی امید تابان هور | C30: 0 | E30: 0 | G30: 0 | I30: =E30+G30 -> 0 | K30: 0 | M30: 0 | O30: 0 | Q30: =M30+O30 -> 0
A31: فروشگاههای زنجیره ای افق کوروش | C31: =-سهام!O41 -> 60000 | E31: =سهام!Q41 -> 3677551098 | G31: -3596551589 | I31: =E31+G31 -> 80999509 | K31: 946000 | M31: 48585885118 | O31: -56596946563 | Q31: =M31+O31 -> -8011061445
A32: شیر پاستوریزه‌پگاه‌اصفهان | C32: =-سهام!O24 -> 800000 | E32: =سهام!Q24 -> 15391830648 | G32: -13531741738 | I32: =E32+G32 -> 1860088910 | K32: 1558491 | M32: 26438491770 | O32: -26147381554 | Q32: =M32+O32 -> 291110216
A33: کشت و صنعت و جوین | C33: =-سهام!O34 -> 315594 | E33: =سهام!Q34 -> 1386780808 | G33: -1473207501 | I33: =E33+G33 -> -86426693 | K33: 700594 | M33: 3029483797 | O33: -3270405439 | Q33: =M33+O33 -> -240921642
A34: شیر پاستوریزه پگاه گلپایگان | C34: =-سهام!O23 -> 879491 | E34: =سهام!Q23 -> 14785394382 | G34: -12109018666 | I34: =E34+G34 -> 2676375716 | K34: 1762270 | M34: 26759712463 | O34: -24263307207 | Q34: =M34+O34 -> 2496405256
A35: پگاه‌آذربایجان‌غربی‌ | C35: =-سهام!O13 -> 610243 | E35: =سهام!Q13 -> 9949980431 | G35: -8779640558 | I35: =E35+G35 -> 1170339873 | K35: 1309658 | M35: 19578827515 | O35: -18842754903 | Q35: =M35+O35 -> 736072612
A36: دشت‌ مرغاب‌ | C36: =-سهام!O18 -> 4224583 | E36: =سهام!Q18 -> 12478817350 | G36: -12505764611 | I36: =E36+G36 -> -26947261 | K36: 20864194 | M36: 58235095735 | O36: -61802821022 | Q36: =M36+O36 -> -3567725287
A37: ح. دشت مرغاب | C37: =-سهام!O19 -> 0 | E37: =سهام!Y19 -> 0 | G37: 0 | I37: =E37+G37 -> 0 | K37: 3124999 | M37: 4990623403 | O37: -5733458259 | Q37: =M37+O37 -> -742834856
A38: صنعت غذایی کورش | C38: =-سهام!O25 -> 1013207 | E38: =سهام!Q25 -> 18613831502 | G38: -16592502573 | I38: =E38+G38 -> 2021328929 | K38: 11228577 | M38: 192566873788 | O38: -182438085574 | Q38: =M38+O38 -> 10128788214
A39: ویتانا | C39: =-سهام!O33 -> 65975 | E39: =سهام!Q33 -> 326318017 | G39: -279666536 | I39: =E39+G39 -> 46651481 | K39: 294135 | M39: 1317166104 | O39: -1246831627 | Q39: =M39+O39 -> 70334477
A40: شوکو پارس | C40: 0 | E40: 0 | G40: 0 | I40: =E40+G40 -> 0 | K40: 0 | M40: 0 | O40: 0 | Q40: =M40+O40 -> 0
...

Sheet درآمد ناشی از تغییر قیمت اوراق
A1: صندوق سرمایه گذاری بخشی صنایع سورنا
A2: صورت وضعیت درآمدها
A3: برای ماه منتهی به 1405/05/31
A4: درآمد ناشی از تغییر قیمت اوراق بهادار
A5: شرح | C5: طی ماه | K5: از ابتدای سال مالی
C6: تعداد | E6: خالص ارزش فروش | G6: ارزش دفتری | I6: سود و زیان ناشی از تغییر قیمت | K6: تعداد | M6: خالص ارزش فروش | O6: ارزش دفتری | Q6: سود و زیان ناشی از تغییر قیمت
A7: اقتصادی و خودکفایی آزادگان | C7: =سهام!S10 -> 4682731 | E7: =سهام!Y10 -> 6.4726212e+10 | G7: -76909770583 | I7: =E7+G7 -> -1.2183559e+10 | K7: =C7 -> 4682731 | M7: =E7 -> 6.4726212e+10 | O7: -45765474968 | Q7: =M7+O7 -> 1.8960737e+10
A8: پاکدیس | C8: =سهام!S12 -> 37218580 | E8: =سهام!Y12 -> 4.5794292e+11 | G8: -399231855991 | I8: =E8+G8 -> 5.8711061e+10 | K8: =C8 -> 37218580 | M8: =E8 -> 4.5794292e+11 | O8: -401745017146 | Q8: =M8+O8 -> 5.61979e+10
A9: صنعتی بهپاک | C9: =سهام!S26 -> 31430382 | E9: =سهام!Y26 -> 4.9619193e+11 | G9: -436956744520 | I9: =E9+G9 -> 5.923519e+10 | K9: =C9 -> 31430382 | M9: =E9 -> 4.9619193e+11 | O9: -449098922869 | Q9: =M9+O9 -> 4.7093011e+10
A10: شیر پاستوریزه‌پگاه‌ گلپایگان | C10: =سهام!S23 -> 16509423 | E10: =سهام!Y23 -> 3.2632556e+11 | G10: -239634102700 | I10: =E10+G10 -> 8.6691456e+10 | K10: =C10 -> 16509423 | M10: =E10 -> 3.2632556e+11 | O10: -227305238223 | Q10: =M10+O10 -> 9.9020321e+10
A11: کشت و صنعت و جوین | C11: =سهام!S34 -> 0 | E11: =سهام!Y34 -> 0 | G11: 0 | I11: =E11+G11 -> 0 | K11: =C11 -> 0 | M11: =E11 -> 0 | O11: =G11 -> 0 | Q11: =M11+O11 -> 0
A12: سیمرغ | C12: =سهام!S22 -> 19952298 | E12: =سهام!Y22 -> 9.5680964e+10 | G12: -67504024324 | I12: =E12+G12 -> 2.8176939e+10 | K12: =C12 -> 19952298 | M12: =E12 -> 9.5680964e+10 | O12: -72066300454 | Q12: =M12+O12 -> 2.3614663e+10
A13: ویتانا | C13: =سهام!S33 -> 2984025 | E13: =سهام!Y33 -> 1.5278546e+10 | G13: -14761658259 | I13: =E13+G13 -> 5.1688753e+08 | K13: =C13 -> 2984025 | M13: =E13 -> 1.5278546e+10 | O13: -12649214657 | Q13: =M13+O13 -> 2.6293311e+09
A14: صنعتی زر ماکارون | C14: =سهام!S27 -> 150590674 | E14: =سهام!Y27 -> 6.0069496e+11 | G14: -390519707341 | I14: =E14+G14 -> 2.1017526e+11 | K14: =C14 -> 150590674 | M14: =E14 -> 6.0069496e+11 | O14: -540699247495 | Q14: =M14+O14 -> 5.9995717e+10
A15: صنعت غذایی کورش | C15: =سهام!S25 -> 53934623 | E15: =سهام!Y25 -> 1.1056759e+12 | G15: -1055928375449 | I15: =E15+G15 -> 4.9747479e+10 | K15: =C15 -> 53934623 | M15: =E15 -> 1.1056759e+12 | O15: -898157296981 | Q15: =M15+O15 -> 2.0751856e+11
A16: صنعتی مینو | C16: =سهام!S28 -> 257137244 | E16: =سهام!Y28 -> 1.51814e+12 | G16: -1418416927071 | I16: =E16+G16 -> 9.9723033e+10 | K16: =C16 -> 257137244 | M16: =E16 -> 1.51814e+12 | O16: -1318379181972 | Q16: =M16+O16 -> 1.9976078e+11
A17: جنرال مکانیک | C17: =سهام!S35 -> 0 | E17: =سهام!Y35 -> 0 | G17: 0 | I17: =E17+G17 -> 0 | K17: =C17 -> 0 | M17: =E17 -> 0 | O17: =G17 -> 0 | Q17: =M17+O17 -> 0
A18: تهیه توزیع غذای دنا آفرین فدک | C18: 0 | E18: 0 | G18: 0 | I18: =E18+G18 -> 0 | K18: =C18 -> 0 | M18: =E18 -> 0 | O18: =G18 -> 0 | Q18: =M18+O18 -> 0
A19: بهار رز عالیس چناران | C19: =سهام!S11 -> 30576495 | E19: =سهام!Y11 -> 1.6687076e+11 | G19: -136372234698 | I19: =E19+G19 -> 3.0498528e+10 | K19: =C19 -> 30576495 | M19: =E19 -> 1.6687076e+11 | O19: -157926861639 | Q19: =M19+O19 -> 8.9439012e+09
A20: آلومینای ایران | C20: =سهام!S9 -> 0 | E20: =سهام!Y9 -> 0 | G20: 0 | I20: =E20+G20 -> 0 | K20: =C20 -> 0 | M20: =E20 -> 0 | O20: =G20 -> 0 | Q20: =M20+O20 -> 0
A21: فرآورده های دامی ولبنی دالاهو | C21: =سهام!S30 -> 45873284 | E21: =سهام!Y30 -> 3.1954116e+11 | G21: -291226868347 | I21: =E21+G21 -> 2.831429e+10 | K21: =C21 -> 45873284 | M21: =E21 -> 3.1954116e+11 | O21: -273491429901 | Q21: =M21+O21 -> 4.6049728e+10
A22: ح. فرآورده های دامی ولبنی دالاهو | C22: =سهام!S31 -> 0 | E22: =سهام!Y31 -> 0 | G22: 0 | I22: =E22+G22 -> 0 | K22: =C22 -> 0 | M22: =E22 -> 0 | O22: =G22 -> 0 | Q22: =M22+O22 -> 0
A23: توسعه صنایع بهشهر | C23: =سهام!S15 -> 181694313 | E23: =سهام!Y15 -> 9.1947806e+11 | G23: -995574962621 | I23: =E23+G23 -> -7.6096901e+10 | K23: =C23 -> 181694313 | M23: =E23 -> 9.1947806e+11 | O23: -885135296077 | Q23: =M23+O23 -> 3.4342765e+10
A24: ح. صنایع بهشهر | C24: =سهام!S16 -> 0 | E24: =سهام!Y16 -> 0 | G24: 0 | I24: =E24+G24 -> 0 | K24: =C24 -> 0 | M24: =E24 -> 0 | O24: =G24 -> 0 | Q24: =M24+O24 -> 0
A25: سالمین | C25: =سهام!S20 -> 24349726 | E25: =سهام!Y20 -> 1.9409485e+11 | G25: -168109268021 | I25: =E25+G25 -> 2.5985581e+10 | K25: =C25 -> 24349726 | M25: =E25 -> 1.9409485e+11 | O25: -179112873379 | Q25: =M25+O25 -> 1.4981975e+10
A26: صنعتی بهشهر | C26: =سهام!S29 -> 94380468 | E26: =سهام!Y29 -> 1.2773984e+12 | G26: -972437728351 | I26: =E26+G26 -> 3.0496064e+11 | K26: =C26 -> 94380468 | M26: =E26 -> 1.2773984e+12 | O26: -669763415725 | Q26: =M26+O26 -> 6.0763496e+11
A27: دشت مرغاب | C27: =سهام!S18 -> 19122382 | E27: =سهام!Y18 -> 7.0964877e+10 | G27: -55435281431 | I27: =E27+G27 -> 1.5529595e+10 | K27: =C27 -> 19122382 | M27: =E27 -> 7.0964877e+10 | O27: -57761282866 | Q27: =M27+O27 -> 1.3203594e+10
A28: ح. دشت مرغاب | C28: =سهام!S19 -> 0 | E28: =سهام!Y19 -> 0 | G28: 0 | I28: =E28+G28 -> 0 | K28: =C28 -> 0 | M28: =E28 -> 0 | O28: =G28 -> 0 | Q28: =M28+O28 -> 0
A29: پارس مینو | C29: =سهام!S14 -> 69049271 | E29: =سهام!Y14 -> 1.2092989e+11 | G29: -125527006761 | I29: =E29+G29 -> -4.5971137e+09 | K29: =C29 -> 69049271 | M29: =E29 -> 1.2092989e+11 | O29: -113737159924 | Q29: =M29+O29 -> 7.1927331e+09
A30: کشت و صنعت چین چین | C30: =سهام!S36 -> 13261696 | E30: =سهام!Y36 -> 5.31631e+10 | G30: -44809245077 | I30: =E30+G30 -> 8.3538546e+09 | K30: =C30 -> 13261696 | M30: =E30 -> 5.31631e+10 | O30: -42014526517 | Q30: =M30+O30 -> 1.1148573e+10
A31: پگاه‌آذربایجان‌غربی‌ | C31: =سهام!S13 -> 5888464 | E31: =سهام!Y13 -> 1.0435502e+11 | G31: -84078356168 | I31: =E31+G31 -> 2.0276662e+10 | K31: =C31 -> 5888464 | M31: =E31 -> 1.0435502e+11 | O31: -84718050593 | Q31: =M31+O31 -> 1.9636968e+10
A32: تولیدی مهرام | C32: =سهام!S17 -> 19466444 | E32: =سهام!Y17 -> 3.5637962e+11 | G32: -346104347485 | I32: =E32+G32 -> 1.0275269e+10 | K32: =C32 -> 19466444 | M32: =E32 -> 3.5637962e+11 | O32: -301825015029 | Q32: =M32+O32 -> 5.4554602e+10
A33: شیر پاستوریزه‌پگاه‌اصفهان | C33: =سهام!S24 -> 5154712 | E33: =سهام!Y24 -> 9.9842186e+10 | G33: -86802737609 | I33: =E33+G33 -> 1.3039448e+10 | K33: =C33 -> 5154712 | M33: =E33 -> 9.9842186e+10 | O33: -87352497939 | Q33: =M33+O33 -> 1.2489688e+10
A34: بهنوش ایران | C34: =سهام!S39 -> 1894800 | E34: =سهام!Y39 -> 1.448658e+11 | G34: -110626107325 | I34: =E34+G34 -> 3.4239696e+10 | K34: =C34 -> 1894800 | M34: =E34 -> 1.448658e+11 | O34: -180663920668 | Q34: =M34+O34 -> -3.5798117e+10
A35: ملی کشت و صنعت و دامپروری پارس | C35: 0 | E35: 0 | G35: 0 | I35: =E35+G35 -> 0 | K35: =C35 -> 0 | M35: =E35 -> 0 | O35: =G35 -> 0 | Q35: =M35+O35 -> 0
A36: صنایع غذایی رضوی | C36: =سهام!S38 -> 0 | E36: =سهام!Y38 -> 0 | G36: 0 | I36: =E36+G36 -> 0 | K36: =C36 -> 0 | M36: =E36 -> 0 | O36: =G36 -> 0 | Q36: =M36+O36 -> 0
A37: زعفران0510نگین سحرخیز | C37: =سهام!S40 -> 1742 | E37: =سهام!Y40 -> 4.711273e+09 | G37: -4683422744 | I37: =E37+G37 -> 27850290 | K37: =C37 -> 1742 | M37: =E37 -> 4.711273e+09 | O37: -4083875122 | Q37: =M37+O37 -> 6.2739791e+08
A38: فروشگاههای زنجیره ای افق کوروش | C38: =سهام!S41 -> 2280689 | E38: =سهام!Y41 -> 1.632571e+11 | G38: -143106736479 | I38: =E38+G38 -> 2.015036e+10 | K38: =C38 -> 2280689 | M38: =E38 -> 1.632571e+11 | O38: -140730097971 | Q38: =M38+O38 -> 2.2526998e+10
A39: توسعه نیشکر و صنایع جانبی | C39: =سهام!S43 -> 1655223 | E39: =سهام!Y43 -> 1.0033593e+11 | G39: -84657477534 | I39: =E39+G39 -> 1.5678457e+10 | K39: =C39 -> 1655223 | M39: =E39 -> 1.0033593e+11 | O39: -91249620367 | Q39: =M39+O39 -> 9.0863139e+09
A40: سپید ماکیان | C40: =سهام!S21 -> 5229545 | E40: =سهام!Y21 -> 2.2603809e+11 | G40: -170844354319 | I40: =E40+G40 -> 5.519374e+10 | K40: =C40 -> 5229545 | M40: =E40 -> 2.2603809e+11 | O40: -147067234657 | Q40: =M40+O40 -> 7.8970859e+10
...
