Workbook

Sheet صورت وضعیت
A4: صندوق سرمایه گذاری بخشی صنایع سورنا- نماد امگا
A5: صورت وضعیت پرتفوی
A6: برای ماه منتهی به 1405/05/31

Sheet سهام
A1: صندوق سرمایه گذاری بخشی صنایع سورنا-نماد امگا
A2: صورت وضعیت پرتفوی
A3: برای ماه منتهی به 1405/05/31
A4: -1 | B4: سرمایه گذاری ها
A5: -1-1 | C5: سرمایه گذاری در سهام و حق تقدم سهام
E6: 1405/04/31 | K6: تغییرات طی دوره | S6: 1405/05/31
A7: نام شرکت | E7: تعداد | G7: بهای تمام شده | I7: خالص ارزش فروش | K7: خرید طی دوره | O7: فروش طی دوره | S7: تعداد | U7: قیمت بازار هر سهم | W7: بهای تمام شده | Y7: خالص ارزش فروش | AA7: درصد به کل دارایی ها
K8: تعداد | M8: بهای تمام شده | O8: تعداد | Q8: مبلغ فروش
A9: گروه مپنا | E9: 9259938 | G9: 147538180549 | I9: 190750326181 | K9: 5304456 | M9: 126871226915 | O9: -108984 | Q9: 2247606912 | S9: =E9+K9+O9 -> 14455410 | U9: 29420 | W9: 272672970235 | Y9: 421990762006 | AA9: =(Y9/3620218228023)*100 -> 11.656501
A10: ایران‌ ترانسفو | E10: 41506699 | G10: 116533695803 | I10: 114784970128 | K10: 0 | M10: 0 | O10: -26410816 | Q10: 74407821717 | S10: =E10+K10+O10 -> 15095883 | U10: 3110 | W10: 42383014770 | Y10: 46585286574 | AA10: =(Y10/3620218228023)*100 -> 1.2868088
A11: موتوژن‌ | E11: 0 | G11: 0 | I11: 0 | S11: =E11+K11+O11 -> 0 | AA11: =(Y11/3620218228023)*100 -> 0
A12: سرمایه‌گذاری‌نیرو | E12: 24835592 | G12: 70648721485 | I12: 57173181867 | K12: 0 | M12: 0 | O12: 0 | Q12: 0 | S12: =E12+K12+O12 -> 24835592 | U12: 2586 | W12: 70648721485 | Y12: 63728382892 | AA12: =(Y12/3620218228023)*100 -> 1.7603464
A13: تولید برق عسلویه مپنا | E13: 32848302 | G13: 172845042865 | I13: 149608225431 | K13: 0 | M13: 0 | O13: -4867440 | Q13: 25290207787 | S13: =E13+K13+O13 -> 27980862 | U13: 6690 | W13: 147232976970 | Y13: 185744972877 | AA13: =(Y13/3620218228023)*100 -> 5.1307673
A14: مبین انرژی خلیج فارس | E14: 1102489 | G14: 16101748782 | I14: 10154199467 | K14: 0 | M14: 0 | O14: 0 | Q14: 0 | S14: =E14+K14+O14 -> 1102489 | U14: 9282 | W14: 16101748782 | Y14: 10154199467 | AA14: =(Y14/3620218228023)*100 -> 0.28048584
A15: تولید نیروی برق دماوند | E15: 34965865 | G15: 335034717628 | I15: 344943445061 | K15: 800000 | M15: 8333976866 | O15: -4568999 | Q15: 47533013809 | S15: =E15+K15+O15 -> 31196866 | U15: 13320 | W15: 299565107133 | Y15: 412330113488 | AA15: =(Y15/3620218228023)*100 -> 11.389648
A16: توسعه مسیر برق گیلان | E16: 5187877 | G16: 99901174223 | I16: 107331102720 | K16: 355173 | M16: 7680073350 | O16: -17192 | Q16: 367107202 | S16: =E16+K16+O16 -> 5525858 | U16: 26710 | W16: 107249687159 | Y16: 146454752673 | AA16: =(Y16/3620218228023)*100 -> 4.0454675
A17: مدیریت نیروگاهی ایرانیان مپنا | E17: 27992550 | G17: 599841075231 | I17: 765233417063 | K17: 901581 | M17: 25149190496 | O17: -301355 | Q17: 10786895568 | S17: =E17+K17+O17 -> 28592776 | U17: 38110 | W17: 618471850565 | Y17: 1081247538900 | AA17: =(Y17/3620218228023)*100 -> 29.866916
A18: برق و انرژی پیوندگستر پارس | E18: 12804485 | G18: 187848978678 | I18: 166315077872 | K18: 16591 | M18: 244876061 | O18: -1995317 | Q18: 32328511681 | S18: =E18+K18+O18 -> 10825759 | U18: 19250 | W18: 158821260664 | Y18: 206784960746 | AA18: =(Y18/3620218228023)*100 -> 5.7119474
A19: نیروگاه زاگرس کوثر | E19: 18403712 | G19: 105944748114 | I19: 91124642018 | K19: 600000 | M19: 3940390905 | O19: -1361874 | Q19: 6782010095 | S19: =E19+K19+O19 -> 17641838 | U19: 7350 | W19: 102045231618 | Y19: 128665179453 | AA19: =(Y19/3620218228023)*100 -> 3.5540725
A20: تولید نیروی برق آبادان | E20: 0 | G20: 0 | I20: 0 | K20: 0 | M20: 0 | O20: 0 | Q20: 0 | S20: =E20+K20+O20 -> 0 | U20: 0 | W20: 0 | Y20: 0 | AA20: =(Y20/3620218228023)*100 -> 0
A21: سیم و کابل ابهر | E21: 0 | G21: 0 | I21: 0 | S21: =E21+K21+O21 -> 0 | AA21: =(Y21/3620218228023)*100 -> 0
A22: بورس انرژی ایران | E22: 5746963 | G22: 87290388048 | I22: 104755640989 | K22: 2544870 | M22: 50250088001 | O22: -182000 | Q22: 3207512805 | S22: =E22+K22+O22 -> 8109833 | U22: 22530 | W22: 134675416708 | Y22: 181302154115 | AA22: =(Y22/3620218228023)*100 -> 5.0080449
A23: پتروشیمی پردیس | E23: 0 | G23: 0 | I23: 0 | S23: =E23+K23+O23 -> 0 | AA23: =(Y23/3620218228023)*100 -> 0
A24: توسعه مولد نیروگاهی جهرم | E24: 9206504 | G24: 21592093004 | I24: 20828570011 | K24: 5000000 | M24: 13120599324 | O24: -1000000 | Q24: 2356641258 | S24: =E24+K24+O24 -> 13206504 | U24: 3270 | W24: 32367383728 | Y24: 42851445958 | AA24: =(Y24/3620218228023)*100 -> 1.1836702
A25: تولید انرژی برق شمس پاسارگاد | E25: 6259760 | G25: 32487349666 | I25: 61741038229 | K25: 896995 | M25: 9989201639 | O25: -645634 | Q25: 7783559732 | S25: =E25+K25+O25 -> 6511121 | U25: 11710 | W25: 38644604325 | Y25: 75655851306 | AA25: =(Y25/3620218228023)*100 -> 2.0898147
A26: تولید برق ماهتاب کهنوج | E26: 7706821 | G26: 7654891436 | I26: 7394888114 | K26: 0 | M26: 0 | O26: -7706821 | Q26: 7050621757 | S26: =E26+K26+O26 -> 0 | U26: 0 | W26: 0 | Y26: 0 | AA26: =(Y26/3620218228023)*100 -> 0
A27: مولد نیروگاهی تجارت فارس | E27: 25631620 | G27: 140999027326 | I27: 172184710899 | K27: 2331843 | M27: 20065261989 | O27: -1312295 | Q27: 10698918667 | S27: =E27+K27+O27 -> 26651168 | U27: 9020 | W27: 153603447778 | Y27: 238535293332 | AA27: =(Y27/3620218228023)*100 -> 6.5889755
A28: مدیریت انرژی امید تابان هور | E28: 53725087 | G28: 108990628436 | I28: 105073600185 | K28: 20527470 | M28: 45456129446 | O28: 0 | Q28: 0 | S28: =E28+K28+O28 -> 74252557 | U28: 2732 | W28: 154446757882 | Y28: 201289893494 | AA28: =(Y28/3620218228023)*100 -> 5.5601591
A29: بورس کالای ایران | E29: 6021823 | G29: 48810853290 | I29: 49236260300 | K29: 4668003 | M29: 40028784521 | O29: -2818393 | Q29: 24147828942 | S29: =E29+K29+O29 -> 7871433 | U29: 9220 | W29: 65527677819 | Y29: 72013610507 | AA29: =(Y29/3620218228023)*100 -> 1.9892063
A30: صندوق س.بخشی صنایع سورنا3 | E30: 0 | G30: 0 | I30: 0 | K30: 0 | M30: 0 | O30: 0 | Q30: 0 | S30: =E30+K30+O30 -> 0 | W30: 0 | Y30: 0 | AA30: =(Y30/3620218228023)*100 -> 0
A31: گواهی تولید برق تجدیدپذیر(برقت0612) | E31: 0 | G31: 0 | I31: 0 | K31: 0 | M31: 0 | O31: 0 | Q31: 0 | S31: =E31+K31+O31 -> 0 | W31: 0 | Y31: 0 | AA31: =(Y31/3620218228023)*100 -> 0
A32: گواهی تولید برق تجدیدپذیر(برقت0512) | E32: 0 | G32: 0 | I32: 0 | K32: 0 | M32: 0 | O32: 0 | Q32: 0 | S32: =E32+K32+O32 -> 0 | W32: 0 | Y32: 0 | AA32: =(Y32/3620218228023)*100 -> 0
A33: شمش طلا GoldBar | E33: 0 | G33: 0 | I33: 0 | K33: 1218 | M33: 29991978399 | O33: -1218 | Q33: 30653978364 | S33: =E33+K33+O33 -> 0 | W33: 0 | Y33: 0 | AA33: =(Y33/3620218228023)*100 -> 0
A34: شمش نقره SilverBar | E34: 0 | G34: 0 | I34: 0 | W34: 0 | Y34: 0 | AA34: =(Y34/3620218228023)*100 -> 0
E35: 0 | G35: 0 | I35: 0 | K35: 0 | AA35: =(Y35/3620218228023)*100 -> 0
E36: 0 | G36: 0 | I36: 0 | K36: 0 | AA36: =(Y36/3620218228023)*100 -> 0
E37: 0 | G37: 0 | I37: 0 | K37: 0 | AA37: =(Y37/3620218228023)*100 -> 0
E38: 0 | G38: 0 | I38: 0 | K38: 0 | AA38: =(Y38/3620218228023)*100 -> 0
E39: 0 | G39: 0 | I39: 0 | K39: 0 | AA39: =(Y39/3620218228023)*100 -> 0
E40: 0 | G40: 0 | I40: 0 | K40: 0 | AA40: =(Y40/3620218228023)*100 -> 0
E41: 0 | G41: 0 | I41: 0 | K41: 0 | AA41: =(Y41/3620218228023)*100 -> 0
E42: 0 | G42: 0 | I42: 0 | K42: 0 | AA42: =(Y42/3620218228023)*100 -> 0
E43: 0 | G43: 0 | I43: 0 | K43: 0 | AA43: =(Y43/3620218228023)*100 -> 0
E44: 0 | G44: 0 | I44: 0 | K44: 0 | AA44: =(Y44/3620218228023)*100 -> 0
E45: 0 | G45: 0 | I45: 0 | K45: 0 | AA45: =(Y45/3620218228023)*100 -> 0
E46: 0 | G46: 0 | I46: 0 | K46: 0 | AA46: =(Y46/3620218228023)*100 -> 0
E47: 0 | G47: 0 | I47: 0 | AA47: =(Y47/3620218228023)*100 -> 0
E48: 0 | G48: 0 | I48: 0 | AA48: =(Y48/3620218228023)*100 -> 0
E49: 0 | G49: 0 | I49: 0 | K49: 0 | AA49: =(Y49/3620218228023)*100 -> 0
E50: 0 | G50: 0 | I50: 0 | K50: 0 | AA50: =(Y50/3620218228023)*100 -> 0
E51: 0 | G51: 0 | I51: 0 | K51: 0 | X51: 11881662369 | AA51: =(Y51/3620218228023)*100 -> 0
E52: 0 | G52: 0 | I52: 0 | AA52: =(Y52/3620218228023)*100 -> 0
E53: 0 | G53: 0 | I53: 0 | K53: 0 | AA53: =(Y53/3620218228023)*100 -> 0
E54: 0 | G54: 0 | I54: 0 | K54: 0 | AA54: =(Y54/3620218228023)*100 -> 0
E55: 0 | G55: 0 | I55: 0 | K55: 0 | AA55: =(Y55/3620218228023)*100 -> 0
E56: 0 | G56: 0 | I56: 0 | K56: 0 | AA56: =(Y56/3620218228023)*100 -> 0
E57: 0 | G57: 0 | I57: 0 | K57: 0 | AA57: =(Y57/3620218228023)*100 -> 0
E58: 0 | G58: 0 | I58: 0 | K58: 0 | AA58: =(Y58/3620218228023)*100 -> 0
E59: 0 | G59: 0 | I59: 0 | AA59: =(Y59/3620218228023)*100 -> 0
E60: 0 | G60: 0 | I60: 0 | K60: 0 | AA60: =(Y60/3620218228023)*100 -> 0
A61: سرمایه‌گذاری نیروگاهی ایران | E61: 0 | G61: 0 | I61: 0 | K61: 500000 | M61: 11260694702 | O61: 0 | Q61: 0 | S61: =E61+K61+O61 -> 500000 | U61: 27340 | W61: 11260694702 | Y61: 13564330900 | AA61: =(Y61/3620218228023)*100 -> 0.37468269
A62: سرمایه گذاری تامین اجتماعی | E62: 0 | G62: 0 | I62: 0 | K62: 2000000 | M62: 5125618353 | O62: -2000000 | Q62: 5604133618 | S62: =E62+K62+O62 -> 0 | W62: 0 | Y62: 0 | AA62: =(Y62/3620218228023)*100 -> 0
A63: نیروترانس‌ | E63: 0 | G63: 0 | I63: 0 | K63: 1071600 | M63: 3753721308 | O63: -1071600 | Q63: 3657304333 | S63: =E63+K63+O63 -> 0 | W63: 0 | Y63: 0 | AA63: 0
A64: جمع | E64: =SUM(E9:E63) -> 323206087 | G64: =SUM(G9:G63) -> 2300063314564 | I64: =SUM(I9:I63) -> 2518633296535 | K64: =SUM(K9:K63) -> 47519800 | M64: =SUM(M9:M63) -> 401261812275 | O64: =SUM(O9:O63) -> -56369938 | Q64: =SUM(Q9:Q63) -> 294903674247 | S64: =SUM(S9:S63) -> 314355949 | W64: =SUM(W9:W63) -> 2425718552323 | Y64: =SUM(Y9:Y63) -> 3528898728688 | AA64: =SUM(AA9:AA63) -> 97.477514

Sheet اوراق مشتقه
A1: صندوق سرمایه گذاری بخشی صنایع سورنا- نماد امگا
A2: صورت وضعیت پرتفوی
A3: برای ماه منتهی به 1404/12/29
A4: اطلاعات آماری مرتبط با اوراق اختیار فروش تبعی خریداری شده توسط صندوق سرمایه گذاری:
I5: 1404/11/30 | AC5: 1404/12/29
A6: نام سهام | I6: تعداد اوراق تبعی | M6: قیمت اعمال | Q6: تاریخ اعمال | W6: نرخ سود موثر | AC6: تعداد اوراق تبعی | AI6: قیمت اعمال | AM6: تاریخ اعمال | AQ6: نرخ سود موثر
A8: اطلاعات آماری مرتبط با موقعیت های اخذ شده در اوراق اختیار معامله توسط صندوق سرمایه گذاری:
C9: 1404/11/30 | Y9: 1404/12/29
A10: نام سهام | C10: نوع اختیار | E10: نوع موقعیت | G10: استراتژی ماخوذه | K10: تعداد اوراق | O10: قیمت اعمال | S10: تاریخ اعمال | Y10: نوع اختیار | AE10: نوع موقعیت | AK10: استراتژی ماخوذه | AO10: تعداد اوراق | AS10: قیمت اعمال | AV10: تاریخ اعمال
C11: اختیار خرید | E11: موقعیت خرید | Y11: اختیار خرید | AG11: موقعیت خرید | AO11: 0 | AS11: 0 | AV11: 0
C12: اختیار خرید | E12: موقعیت فروش | Y12: اختیار خرید | AG12: موقعیت فروش | AO12: 0 | AS12: 0 | AV12: 0
C13: اختیار خرید | E13: موقعیت خرید | Z13: اختیار خرید | AG13: موقعیت خرید | AO13: 0 | AS13: 0 | AV13: 0
A14: اطلاعات آماری مرتبط با قراردادهای آتی توسط صندوق سرمایه گذاری:
C15: 1404/11/30 | O15: 1404/12/29
A16: نام سهام | C16: نوع موقعیت | E16: تعداد اوراق | G16: قیمت اعمال | K16: تاریخ اعمال | O16: نوع موقعیت | U16: تعداد اوراق | AA16: قیمت اعمال | AG16: تاریخ اعمال

Sheet تعدیل قیمت
A1: صندوق سرمایه گذاری بخشی صنایع سورنا- نماد امگا
A2: صورت وضعیت پرتفوی
A3: برای ماه منتهی به 1405/05/31
A4: اوراق بهاداری که ارزش آن ها در تاریخ گزارش تعدیل شده
A5: (براساس دستورالعمل نحوه تعیین قیمت خرید و فروش اوراق بهادار در صندوق‌های سرمایه‌گذاری)
A6: نام سهام | C6: 1405/05/31
C7: تعداد | E7: قیمت پایانی | G7: قیمت تعدیل شده | I7: درصد تعدیل | L7: خالص ارزش فروش تعدیل شده | N7: دلیل تعدیل
A8: مبین انرژی خلیج فارس | C8: 1102489 | E8: 13260 | G8: 9282 | I8: -0.3 | L8: 10233302898 | N8: براساس آسیب‌های جنگ و بخشنامه سازمان
A9: جمع | C9: =SUM(C8:C8) -> 1102489 | D9: =SUM(D8:D8) -> 0 | F9: =SUM(F8:F8) -> 0 | H9: =SUM(H8:H8) -> 0 | J9: =SUM(J8:J8) -> 0 | K9: =SUM(K8:K8) -> 0 | L9: =SUM(L8:L8) -> 10233302898
A10: تعدیل سهم مبین انرژی خلیج فارس به درصدی بیشتر از دستورالعمل تعدیل قیمت بر اساس بخشنامه سازمان و در راستای شرکت‌های آسیب دیده در جنگ تحمیلی صورت گرفته است.

Sheet سپرده
A1: صندوق سرمایه گذاری بخشی صنایع سورنا- نماد امگا
A2: صورت وضعیت پرتفوی
A3: برای ماه منتهی به 1405/05/31
A4: -4-1 | B4: سرمایه‌گذاری در سپرده‌ بانکی
D5: 1405/04/31 | F5: تغییرات طی دوره | J5: 1405/05/31
A6: سپرده های بانکی | D6: مبلغ | F6: افزایش | H6: کاهش | J6: مبلغ | L6: درصد به کل دارایی ها
A7: سپرده کوتاه‌مدت بانک خاورمیانه نیایش | D7: 18549708839 | F7: 174011578323 | H7: -191233706559 | J7: =SUM(D7:H7) -> 1327580603 | L7: =(J7/3620218228023)*100 -> 0.036671287
A8: سپرده کوتاه‌مدت بانک ملی شعبه بورس اوراق بهادار | D8: 5510852 | F8: 23402 | H8: 0 | J8: =SUM(D8:H8) -> 5534254 | L8: =(J8/3620218228023)*100 -> 0.00015287073
A9: سپرده کوتاه‌مدت بانک گردشگری نیاوران | D9: 2440582 | F9: 10320 | H9: 0 | J9: =SUM(D9:H9) -> 2450902 | L9: =(J9/3620218228023)*100 -> 6.7700394e-05
D10: 0 | J10: =D10+F10+H10 -> 0
A11: جمع | D11: =SUM(D7:D9) -> 18557660273 | E11: =SUM(E7:E9) -> 0 | F11: =SUM(F7:F9) -> 174011612045 | G11: =SUM(G7:G9) -> 0 | H11: =SUM(H7:H9) -> -191233706559 | I11: =SUM(I7:I9) -> 0 | J11: =SUM(J7:J9) -> 1335565759 | K11: =SUM(K7:K9) -> 0 | L11: =SUM(L7:L9) -> 0.036891858

Sheet سود سپرده بانکی
A1: صندوق سرمایه گذاری بخشی صنایع سورنا- نماد امگا
A2: صورت وضعیت درآمدها
A3: برای ماه منتهی به 1405/05/31
A4: سود سپرده بانکی
A5: شرح | C5: طی ماه | I5: از ابتدای سال مالی
C6: درآمد سود | E6: هزینه تنزیل | G6: خالص درآمد | I6: درآمد سود | K6: هزینه تنزیل | M6: خالص درآمد
A7: سپرده کوتاه‌مدت بانک خاورمیانه نیایش | C7: 24283 | E7: 0 | G7: =C7+E7 -> 24283 | I7: 38502 | K7: 0 | M7: =I7+K7 -> 38502
A8: سپرده کوتاه‌مدت بانک گردشگری نیاوران | C8: 10320 | E8: 0 | G8: =C8+E8 -> 10320 | I8: 20640 | K8: 0 | M8: =I8+K8 -> 20640
A9: سپرده کوتاه‌مدت بانک ملی بورس اوراق بهادار | C9: 23402 | E9: 0 | G9: =C9+E9 -> 23402 | I9: 69812 | K9: 0 | M9: =I9+K9 -> 69812
A10: جمع | C10: =SUM(C7:C9) -> 58005 | E10: =SUM(E7:E9) -> 0 | G10: =SUM(G7:G9) -> 58005 | I10: =SUM(I7:I9) -> 128954 | K10: =SUM(K7:K9) -> 0 | M10: =SUM(M7:M9) -> 128954

Sheet درآمد
A1: صندوق سرمایه گذاری بخشی صنایع سورنا- نماد امگا
A2: صورت وضعیت درآمدها
A3: برای ماه منتهی به 1405/05/31
A4: -2 | B4: درآمد حاصل از سرمایه گذاری ها
A5: شرح | D5: یادداشت | F5: مبلغ | H5: درصد از کل درآمدها | J5: درصد از کل دارایی ها
A6: درآمد حاصل از سرمایه گذاری در سهام و حق تقدم سهام | D6: 2-1 | F6: ='درآمد سرمایه گذاری در سهام'!I37 -> 941531587970 | H6: =F6/F$11*100 -> 99.966168 | J6: =F6/3620218228023 -> 0.26007592
A7: درآمد حاصل از سرمایه گذاری در واحدهای صندوق های سرمایه گذاری | D7: 2-2 | F7: 0 | H7: =F7/F$11*100 -> 0 | J7: =F7/3620218228023 -> 0
A8: درآمد حاصل از سرمایه گذاری در اوراق بهادار با درآمد ثابت | D8: 2-3 | F8: 0 | H8: =F8/F$11*100 -> 0 | J8: =F8/3620218228023 -> 0
A9: درآمد حاصل از سرمایه گذاری در سپرده بانکی و گواهی سپرده | D9: 2-4 | F9: ='درآمد سپرده بانکی'!D10 -> 58005 | H9: =F9/F$11*100 -> 6.1586225e-06 | J9: =F9/3620218228023 -> 1.6022515e-08
A10: سایر درآمدها | D10: 2-5 | F10: ='سایر درآمدها'!D10 -> 318585943 | H10: =F10/F$11*100 -> 0.033825542 | J10: =F10/3620218228023 -> 8.8001861e-05
A11: جمع | F11: =SUM(F6:F10) -> 941850231918 | H11: =SUM(H6:H10) -> 100 | J11: =SUM(J6:J10) -> 0.26016394

Sheet درآمد سرمایه گذاری در سهام
A1: صندوق سرمایه گذاری بخشی صنایع سورنا- نماد امگا
A2: صورت وضعیت درآمدها
A3: برای ماه منتهی به 1405/05/31
A4: 2-1-درآمد حاصل از سرمایه­گذاری در سهام و حق تقدم سهام
C5: طی ماه | M5: از ابتدای سال مالی
A6: سهام | C6: درآمد سود سهام | E6: درآمد تغییر ارزش | G6: درآمد فروش | I6: جمع | M6: درآمد سود سهام | O6: درآمد تغییر ارزش | Q6: درآمد فروش | R6: جمع
I7: مبلغ | K7: درصد از کل درآمدها | R7: مبلغ | T7: درصد از کل درآمدها
A8: ایران‌ ترانسفو | C8: 0 | E8: ='درآمد ناشی از تغییر قیمت اوراق'!E13 -> 10315470991 | G8: ='درآمد ناشی از فروش '!I12 -> -4107332828 | I8: =C8+E8+G8 -> 6208138163 | M8: ='درآمد سود سهام'!S16 -> 9956977699 | O8: ='درآمد ناشی از تغییر قیمت اوراق'!I13 -> 1707627854 | Q8: ='درآمد ناشی از فروش '!Q12 -> -7000300076 | R8: =M8+O8+Q8 -> 4664305477
A9: موتوژن‌ | I9: =C9+E9+G9 -> 0 | R9: =M9+O9+Q9 -> 0
A10: توسعه مسیر برق گیلان | C10: 0 | E10: ='درآمد ناشی از تغییر قیمت اوراق'!E16 -> 31778628357 | G10: ='درآمد ناشی از فروش '!I14 -> 32055449 | I10: =C10+E10+G10 -> 31810683806 | M10: 0 | O10: ='درآمد ناشی از تغییر قیمت اوراق'!I16 -> 38136437670 | Q10: ='درآمد ناشی از فروش '!Q14 -> 1396546024 | R10: =M10+O10+Q10 -> 39532983694
A11: سیم و کابل ابهر | I11: =C11+E11+G11 -> 0 | R11: =M11+O11+Q11 -> 0
A12: پتروشیمی پردیس | I12: =C12+E12+G12 -> 0 | R12: =M12+O12+Q12 -> 0
A13: برق و انرژی پیوندگستر پارس | C13: 0 | E13: ='درآمد ناشی از تغییر قیمت اوراق'!E7 -> 72317229190 | G13: ='درآمد ناشی از فروش '!I18 -> 236289304 | I13: =C13+E13+G13 -> 72553518494 | M13: ='درآمد سود سهام'!S7 -> 19677328120 | O13: ='درآمد ناشی از تغییر قیمت اوراق'!I7 -> 32671246723 | Q13: ='درآمد ناشی از فروش '!Q18 -> -3461570992 | R13: =M13+O13+Q13 -> 48887003851
A14: تولید برق عسلویه مپنا | C14: 0 | E14: ='درآمد ناشی از تغییر قیمت اوراق'!E8 -> 60768802361 | G14: ='درآمد ناشی از فروش '!I23 -> 658152872 | I14: =C14+E14+G14 -> 61426955233 | M14: 0 | O14: ='درآمد ناشی از تغییر قیمت اوراق'!I8 -> 44145666206 | Q14: ='درآمد ناشی از فروش '!Q23 -> -511132642 | R14: =M14+O14+Q14 -> 43634533564
A15: تولید نیروی برق دماوند | C15: 0 | E15: ='درآمد ناشی از تغییر قیمت اوراق'!E9 -> 103492108849 | G15: ='درآمد ناشی از فروش '!I9 -> 3093596521 | I15: =C15+E15+G15 -> 106585705370 | M15: ='درآمد سود سهام'!S9 -> 12151892843 | O15: ='درآمد ناشی از تغییر قیمت اوراق'!I9 -> 108503488187 | Q15: ='درآمد ناشی از فروش '!Q9 -> 3637216821 | R15: =M15+O15+Q15 -> 124292597851
A16: مبین انرژی خلیج فارس | C16: 0 | E16: ='درآمد ناشی از تغییر قیمت اوراق'!E10 -> 1 | G16: 0 | I16: =C16+E16+G16 -> 1 | M16: ='درآمد سود سهام'!S10 -> 1544013372 | O16: ='درآمد ناشی از تغییر قیمت اوراق'!I10 -> -1225242770 | Q16: 0 | R16: =M16+O16+Q16 -> 318770602
A17: مدیریت نیروگاهی ایرانیان مپنا | C17: ='درآمد سود سهام'!M11 -> 35455671147 | E17: ='درآمد ناشی از تغییر قیمت اوراق'!E11 -> 298863315215 | G17: ='درآمد ناشی از فروش '!I11 -> 2788511694 | I17: =C17+E17+G17 -> 337107498056 | M17: ='درآمد سود سهام'!S11 -> 35455671147 | O17: ='درآمد ناشی از تغییر قیمت اوراق'!I11 -> 322355208069 | Q17: ='درآمد ناشی از فروش '!Q11 -> 2902428474 | R17: =M17+O17+Q17 -> 360713307690
A18: گروه مپنا | C18: 0 | E18: ='درآمد ناشی از تغییر قیمت اوراق'!E12 -> 106394747814 | G18: ='درآمد ناشی از فروش '!I17 -> 222068008 | I18: =C18+E18+G18 -> 106616815822 | M18: 0 | O18: ='درآمد ناشی از تغییر قیمت اوراق'!I12 -> 125043071270 | Q18: ='درآمد ناشی از فروش '!Q17 -> 2959630691 | R18: =M18+O18+Q18 -> 128002701961
A19: سرمایه‌گذاری نیرو | C19: ='درآمد سود سهام'!M17 -> 1916263528 | E19: ='درآمد ناشی از تغییر قیمت اوراق'!E28 -> 6555201024 | G19: ='درآمد ناشی از فروش '!I30 -> 0 | I19: =C19+E19+G19 -> 8471464552 | M19: ='درآمد سود سهام'!S17 -> 1916263528 | O19: ='درآمد ناشی از تغییر قیمت اوراق'!I28 -> -9167423989 | Q19: ='درآمد ناشی از فروش '!Q30 -> -77397058 | R19: =M19+O19+Q19 -> -7328557519
A20: مدیریت انرژی امید تابان هور | C20: 0 | E20: ='درآمد ناشی از تغییر قیمت اوراق'!E15 -> 50760163864 | G20: ='درآمد ناشی از فروش '!I27 -> 0 | I20: =C20+E20+G20 -> 50760163864 | M20: 0 | O20: ='درآمد ناشی از تغییر قیمت اوراق'!I15 -> 47739007286 | Q20: ='درآمد ناشی از فروش '!Q27 -> 438064584 | R20: =M20+O20+Q20 -> 48177071870
A21: نیروگاه زاگرس کوثر | C21: 0 | E21: ='درآمد ناشی از تغییر قیمت اوراق'!E17 -> 41557289250 | G21: ='درآمد ناشی از فروش '!I29 -> -1175132625 | I21: =C21+E21+G21 -> 40382156625 | M21: ='درآمد سود سهام'!S12 -> 4981770366 | O21: ='درآمد ناشی از تغییر قیمت اوراق'!I17 -> 25152921349 | Q21: ='درآمد ناشی از فروش '!Q29 -> -1466309323 | R21: =M21+O21+Q21 -> 28668382392
A22: توسعه مولد نیروگاهی جهرم | C22: 0 | E22: ='درآمد ناشی از تغییر قیمت اوراق'!E18 -> 11279364538 | G22: ='درآمد ناشی از فروش '!I24 -> -20446656 | I22: =C22+E22+G22 -> 11258917882 | M22: ='درآمد سود سهام'!S13 -> 804879990 | O22: ='درآمد ناشی از تغییر قیمت اوراق'!I18 -> 10223265173 | Q22: ='درآمد ناشی از فروش '!Q24 -> 2455820638 | R22: =M22+O22+Q22 -> 13483965801
A23: تولید نیروی برق آبادان | C23: 0 | E23: 0 | G23: ='درآمد ناشی از فروش '!I22 -> 0 | I23: =C23+E23+G23 -> 0 | M23: ='درآمد سود سهام'!S15 -> 258642169 | O23: 0 | Q23: ='درآمد ناشی از فروش '!Q22 -> 165022092 | R23: =M23+O23+Q23 -> 423664261
A24: بورس انرژی ایران | C24: 0 | E24: ='درآمد ناشی از تغییر قیمت اوراق'!E20 -> 29499466773 | G24: ='درآمد ناشی از فروش '!I20 -> 4471158 | I24: =C24+E24+G24 -> 29503937931 | M24: ='درآمد سود سهام'!S14 -> 439505472 | O24: ='درآمد ناشی از تغییر قیمت اوراق'!I20 -> 34539163883 | Q24: ='درآمد ناشی از فروش '!Q20 -> 1104706076 | R24: =M24+O24+Q24 -> 36083375431
A25: مولد نیروگاهی تجارت فارس | C25: 0 | E25: ='درآمد ناشی از تغییر قیمت اوراق'!E21 -> 53917939486 | G25: ='درآمد ناشی از فروش '!I28 -> 3066299625 | I25: =C25+E25+G25 -> 56984239111 | M25: 0 | O25: ='درآمد ناشی از تغییر قیمت اوراق'!I21 -> 81536616988 | Q25: ='درآمد ناشی از فروش '!Q28 -> 6098192680 | R25: =M25+O25+Q25 -> 87634809668
A26: تولید انرژی برق شمس پاسارگاد | C26: 0 | E26: ='درآمد ناشی از تغییر قیمت اوراق'!E22 -> 8687566968 | G26: ='درآمد ناشی از فروش '!I19 -> 3021604203 | I26: =C26+E26+G26 -> 11709171171 | M26: 0 | O26: ='درآمد ناشی از تغییر قیمت اوراق'!I22 -> 27632251727 | Q26: ='درآمد ناشی از فروش '!Q19 -> 8834891240 | R26: =M26+O26+Q26 -> 36467142967
A27: تولید برق ماهتاب کهنوج | C27: 0 | E27: 0 | G27: ='درآمد ناشی از فروش '!I25 -> -91907194 | I27: =C27+E27+G27 -> -91907194 | M27: 0 | O27: 0 | Q27: ='درآمد ناشی از فروش '!Q25 -> -83274439 | R27: =M27+O27+Q27 -> -83274439
A28: بورس کالای ایران | C28: 0 | E28: ='درآمد ناشی از تغییر قیمت اوراق'!E25 -> 6060525680 | G28: ='درآمد ناشی از فروش '!I26 -> 835868950 | I28: =C28+E28+G28 -> 6896394630 | M28: 0 | O28: ='درآمد ناشی از تغییر قیمت اوراق'!I25 -> 6485932689 | Q28: ='درآمد ناشی از فروش '!Q26 -> -879371741 | R28: =M28+O28+Q28 -> 5606560948
A29: صندوق س.بخشی صنایع سورنا3 | C29: 0 | E29: 0 | G29: ='درآمد ناشی از فروش '!I21 -> 0 | I29: =C29+E29+G29 -> 0 | M29: 0 | O29: 0 | Q29: ='درآمد ناشی از فروش '!Q21 -> -2656165 | R29: =M29+O29+Q29 -> -2656165
A30: گواهی تولید برق تجدیدپذیر(برقت0612) | C30: 0 | E30: 0 | G30: ='درآمد ناشی از فروش '!I31 -> 0 | I30: =C30+E30+G30 -> 0 | M30: 0 | O30: 0 | Q30: ='درآمد ناشی از فروش '!Q31 -> -332084451 | R30: =M30+O30+Q30 -> -332084451
A31: گواهی تولید برق تجدیدپذیر(برقت0512) | C31: 0 | E31: 0 | G31: ='درآمد ناشی از فروش '!I32 -> 0 | I31: =C31+E31+G31 -> 0 | M31: 0 | O31: 0 | Q31: ='درآمد ناشی از فروش '!Q32 -> -188689514 | R31: =M31+O31+Q31 -> -188689514
A32: شمش طلا GoldBar | C32: 0 | E32: 0 | G32: ='درآمد ناشی از فروش '!I33 -> 661999965 | I32: =C32+E32+G32 -> 661999965 | M32: 0 | O32: 0 | Q32: ='درآمد ناشی از فروش '!Q33 -> 661999965 | R32: =M32+O32+Q32 -> 661999965
A33: شمش نقره SilverBar | C33: 0 | E33: 0 | G33: ='درآمد ناشی از فروش '!I34 -> 0 | I33: =C33+E33+G33 -> 0 | M33: 0 | O33: 0 | Q33: ='درآمد ناشی از فروش '!Q34 -> 0 | R33: =M33+O33+Q33 -> 0
A34: رمایه‌گذاری نیروگاهی ایران | C34: 0 | E34: ='درآمد ناشی از تغییر قیمت اوراق'!E29 -> 2303636198 | G34: 0 | I34: =C34+E34+G34 -> 2303636198 | M34: 0 | O34: ='درآمد ناشی از تغییر قیمت اوراق'!I29 -> 2303636198 | Q34: 0 | R34: =M34+O34+Q34 -> 2303636198
A35: رمایه‌گذاری تأمین اجتماعی | C35: 0 | E35: 0 | G35: ='درآمد ناشی از فروش '!I35 -> 478515265 | I35: =C35+E35+G35 -> 478515265 | M35: 0 | O35: 0 | Q35: ='درآمد ناشی از فروش '!Q35 -> 478515265 | R35: =M35+O35+Q35 -> 478515265
A36: نیروترانس | C36: 0 | E36: 0 | G36: ='درآمد ناشی از فروش '!I36 -> -96416975 | I36: =C36+E36+G36 -> -96416975 | M36: 0 | O36: 0 | Q36: ='درآمد ناشی از فروش '!Q36 -> -96416975 | R36: =M36+O36+Q36 -> -96416975
A37: جمع | C37: =SUM(C8:C36) -> 37371934675 | E37: =SUM(E8:E36) -> 894551456559 | G37: =SUM(G8:G36) -> 9608196736 | I37: =SUM(I8:I36) -> 941531587970 | M37: =SUM(M8:M36) -> 87186944706 | O37: =SUM(O8:O36) -> 897782874513 | Q37: =SUM(Q8:Q36) -> 17033831174 | R37: =SUM(R8:R36) -> 1002003650393

Sheet درآمد سپرده بانکی
A1: صندوق سرمایه گذاری بخشی صنایع سورنا- نماد امگا
A2: صورت وضعیت درآمدها
A3: برای ماه منتهی به 1405/05/31
A4: 2-4- | B4: درآمد حاصل از سرمایه­گذاری در سپرده بانکی و گواهی سپرده
D5: طی ماه | H5: از ابتدای سال مالی
A6: نام سپرده بانکی | D6: سود سپرده بانکی و گواهی سپرده | F6: درصد سود به میانگین سپرده | H6: سود سپرده بانکی و گواهی سپرده | J6: درصد سود به میانگین سپرده
A7: سپرده کوتاه مدت بانک خاورمیانه نیایش | D7: ='سود سپرده بانکی'!G7 -> 24283 | H7: ='سود سپرده بانکی'!M7 -> 38502
A8: سپرده کوتاه مدت بانک گردشگری نیاوران | D8: ='سود سپرده بانکی'!G8 -> 10320 | H8: ='سود سپرده بانکی'!M8 -> 20640
A9: سپرده کوتاه مدت بانک ملی بورس اوراق بهادار | D9: ='سود سپرده بانکی'!G9 -> 23402 | H9: ='سود سپرده بانکی'!M9 -> 69812
A10: جمع | D10: =SUM(D7:D9) -> 58005 | H10: =SUM(H7:H9) -> 128954

Sheet سایر درآمدها
A1: صندوق سرمایه گذاری بخشی صنایع سورنا- نماد امگا
A2: صورت وضعیت درآمدها
A3: برای ماه منتهی به 1405/05/31
A4: 2-5- | B4: سایر درآمدها
A5: سایر درآمدها | D5: طی ماه | F5: از ابتدای سال مالی
D6: مبلغ | F6: مبلغ
A7: سایر درآمدها | D7: 1642544 | F7: 3224217
A8: معین برای سایر درآمدهای تنزیل سود بانک | D8: 0 | F8: 0
A9: تعدیل کارمزد کارگزار | D9: 316943399 | F9: 676563471
A10: جمع | D10: =SUM(D7:D9) -> 318585943 | F10: =SUM(F7:F9) -> 679787688

Sheet درآمد سود سهام
A1: صندوق سرمایه گذاری بخشی صنایع سورنا- نماد امگا
A2: صورت وضعیت درآمدها
A3: برای ماه منتهی به 1405/05/31
A4: درآمد سود سهام
A5: نام سهام | C5: اطلاعات مجمع | I5: طی ماه | O5: از ابتدای سال مالی
C6: تاریخ تشکیل مجمع | E6: تعداد سهام متعلقه در زمان مجمع | G6: سود متعلق به هر سهم | I6: جمع درآمد سود سهام | K6: هزینه تنزیل | M6: خالص درآمد سود سهام | O6: جمع درآمد سود سهام | Q6: هزینه تنزیل | S6: خالص درآمد سود سهام
A7: برق و انرژی پیوندگستر پارس | C7: 1405/04/08 | E7: 14347146 | G7: 1550 | I7: 0 | K7: 0 | M7: =I7+K7 -> 0 | O7: =E7*G7 -> 22238076300 | Q7: -2560748180 | S7: =O7+Q7 -> 19677328120
A8: تولید برق عسلویه مپنا | C8: 0 | E8: 0 | G8: 0 | M8: =I8+K8 -> 0 | O8: =E8*G8 -> 0 | S8: =O8+Q8 -> 0
A9: تولید نیروی برق دماوند | C9: 1405/04/31 | E9: 34965865 | G9: 398 | I9: 0 | K9: 0 | M9: =I9+K9 -> 0 | O9: =E9*G9 -> 13916414270 | Q9: -1764521427 | S9: =O9+Q9 -> 12151892843
A10: مبین انرژی خلیج فارس | C10: 1405/04/27 | E10: 1102489 | G10: 1600 | I10: 0 | K10: 0 | M10: =I10+K10 -> 0 | O10: =E10*G10 -> 1763982400 | Q10: -219969028 | S10: =O10+Q10 -> 1544013372
A11: مدیریت نیروگاهی ایرانیان مپنا | C11: 1405/05/04 | E11: 27992550 | G11: 1454 | I11: =E11*G11 -> 40701167700 | K11: -5245496553 | M11: =I11+K11 -> 35455671147 | O11: =E11*G11 -> 40701167700 | Q11: -5245496553 | S11: =O11+Q11 -> 35455671147
A12: نیروگاه زاگرس کوثر | C12: 1405/04/31 | E12: 18403712 | G12: 310 | I12: 0 | K12: 0 | M12: =I12+K12 -> 0 | O12: =E12*G12 -> 5705150720 | Q12: -723380354 | S12: =O12+Q12 -> 4981770366
A13: توسعه مولد نیروگاهی جهرم | C13: 1405/04/29 | E13: 9206504 | G13: 100 | I13: 0 | K13: 0 | M13: =I13+K13 -> 0 | O13: =E13*G13 -> 920650400 | Q13: -115770410 | S13: =O13+Q13 -> 804879990
A14: بورس انرژی ایران | C14: 1405/04/07 | E14: 10464416 | G14: 42 | I14: 0 | K14: 0 | M14: =I14+K14 -> 0 | O14: =E14*G14 -> 439505472 | Q14: 0 | S14: =O14+Q14 -> 439505472
A15: تولید نیروی برق آبادان | C15: 1405/04/02 | E15: 1156410 | G15: 252 | I15: 0 | K15: 0 | M15: =I15+K15 -> 0 | O15: =E15*G15 -> 291415320 | Q15: -32773151 | S15: =O15+Q15 -> 258642169
A16: ایران ترانسفو | C16: 1405/04/22 | E16: 54006699 | G16: 210 | I16: 0 | K16: 0 | M16: =I16+K16 -> 0 | O16: =E16*G16 -> 11341406790 | Q16: -1384429091 | S16: =O16+Q16 -> 9956977699
A17: سرمایه‌گذاری نیرو | C17: 1405/05/31 | E17: 24835592 | G17: 90 | I17: =E17*G17 -> 2235203280 | K17: -318939752 | M17: =I17+K17 -> 1916263528 | O17: =E17*G17 -> 2235203280 | Q17: -318939752 | S17: =O17+Q17 -> 1916263528
A18: جمع | I18: =SUM(I7:I17) -> 42936370980 | K18: =SUM(K7:K17) -> -5564436305 | M18: =SUM(M7:M17) -> 37371934675 | O18: =SUM(O7:O17) -> 99552972652 | Q18: =SUM(Q7:Q17) -> -12366027946 | S18: =SUM(S7:S17) -> 87186944706

Sheet درآمد ناشی از تغییر قیمت اوراق
A1: صندوق سرمایه گذاری بخشی صنایع سورنا- نماد امگا
A2: صورت وضعیت درآمدها
A3: برای ماه منتهی به 1405/05/31
A4: درآمد ناشی از تغییر قیمت اوراق بهادار
A5: شرح | B5: طی ماه | F5: از ابتدای سال مالی
B6: تعداد | C6: خالص ارزش فروش | D6: ارزش دفتری | E6: سود و زیان ناشی از تغییر قیمت | F6: تعداد | G6: خالص ارزش فروش | H6: ارزش دفتری | I6: سود و زیان ناشی از تغییر قیمت
A7: برق و انرژی پیوندگستر پارس | B7: 10825759 | C7: 206784960746 | D7: -134467731556 | E7: =C7+D7 -> 72317229190 | F7: 10825759 | G7: 206784960746 | H7: -174113714023 | I7: =G7+H7 -> 32671246723
A8: تولید برق عسلویه مپنا | B8: 27980862 | C8: 185744972877 | D8: -124976170516 | E8: =C8+D8 -> 60768802361 | F8: 27980862 | G8: 185744972877 | H8: -141599306671 | I8: =G8+H8 -> 44145666206
A9: تولید نیروی برق دماوند | B9: 31196866 | C9: 412330113488 | D9: -308838004639 | E9: =C9+D9 -> 103492108849 | F9: 31196866 | G9: 412330113488 | H9: -303826625301 | I9: =G9+H9 -> 108503488187
A10: مبین انرژی خلیج فارس | B10: 1102489 | C10: 10154199467 | D10: -10154199466 | E10: =C10+D10 -> 1 | F10: 1102489 | G10: 10154199467 | H10: -11379442237 | I10: =G10+H10 -> -1225242770
A11: مدیریت نیروگاهی ایرانیان مپنا | B11: 28592776 | C11: 1081247538900 | D11: -782384223685 | E11: =C11+D11 -> 298863315215 | F11: 28592776 | G11: 1081247538900 | H11: -758892330831 | I11: =G11+H11 -> 322355208069
A12: گروه مپنا | B12: 14455410 | C12: 421990762006 | D12: -315596014192 | E12: =C12+D12 -> 106394747814 | F12: 14455410 | G12: 421990762006 | H12: -296947690736 | I12: =G12+H12 -> 125043071270
A13: ایران ترانسفو | B13: 15095883 | C13: 46585286574 | D13: -36269815583 | E13: =C13+D13 -> 10315470991 | F13: 15095883 | G13: 46585286574 | H13: -44877658720 | I13: =G13+H13 -> 1707627854
A14: سرمایه‌گذاری نیرو | B14: 0 | C14: 0 | D14: 0 | E14: =C14+D14 -> 0 | F14: 0 | G14: 0 | H14: 0 | I14: =G14+H14 -> 0
A15: مدیریت انرژی امید تابان هور | B15: 74252557 | C15: 201289893494 | D15: -150529729630 | E15: =C15+D15 -> 50760163864 | F15: 74252557 | G15: 201289893494 | H15: -153550886208 | I15: =G15+H15 -> 47739007286
A16: توسعه مسیر برق گیلان | B16: 5525858 | C16: 146454752673 | D16: -114676124316 | E16: =C16+D16 -> 31778628357 | F16: 5525858 | G16: 146454752673 | H16: -108318315003 | I16: =G16+H16 -> 38136437670
A17: نیروگاه زاگرس کوثر | B17: 17641838 | C17: 128665179453 | D17: -87107890203 | E17: =C17+D17 -> 41557289250 | F17: 17641838 | G17: 128665179453 | H17: -103512258104 | I17: =G17+H17 -> 25152921349
A18: توسعه مولد نیروگاهی جهرم | B18: 13206504 | C18: 42851445958 | D18: -31572081420 | E18: =C18+D18 -> 11279364538 | F18: 13206504 | G18: 42851445958 | H18: -32628180785 | I18: =G18+H18 -> 10223265173
A19: تولید نیروی برق آبادان | E19: =C19+D19 -> 0 | I19: =G19+H19 -> 0
A20: بورس انرژی ایران | B20: 8109833 | C20: 181302154116 | D20: -151802687343 | E20: =C20+D20 -> 29499466773 | F20: 8109833 | G20: 181302154116 | H20: -146762990233 | I20: =G20+H20 -> 34539163883
A21: مولد نیروگاهی تجارت فارس | B21: 26651168 | C21: 238535293331 | D21: -184617353845 | E21: =C21+D21 -> 53917939486 | F21: 26651168 | G21: 238535293331 | H21: -156998676343 | I21: =G21+H21 -> 81536616988
A22: تولید انرژی برق شمس پاسارگاد | B22: 6511121 | C22: 75655851306 | D22: -66968284338 | E22: =C22+D22 -> 8687566968 | F22: 6511121 | G22: 75655851306 | H22: -48023599579 | I22: =G22+H22 -> 27632251727
A23: تولید برق ماهتاب کهنوج | B23: 0 | C23: 0 | D23: 0 | E23: =C23+D23 -> 0 | F23: 0 | G23: 0 | H23: 0 | I23: =G23+H23 -> 0
A24: تولید برق عسلویه مپنا | B24: 0 | C24: 0 | D24: 0 | E24: =C24+D24 -> 0 | F24: 0 | G24: 0 | H24: 0 | I24: =G24+H24 -> 0
A25: بورس کالای ایران | B25: 7871433 | C25: 72013610508 | D25: -65953084828 | E25: =C25+D25 -> 6060525680 | F25: 7871433 | G25: 72013610508 | H25: -65527677819 | I25: =G25+H25 -> 6485932689
A26: گواهی تولید برق تجدیدپذیر(برقت0612) | B26: 0 | C26: 0 | D26: 0 | E26: =C26+D26 -> 0 | F26: =B26 -> 0 | G26: =C26 -> 0 | H26: =D26 -> 0 | I26: =G26+H26 -> 0
A27: گواهی تولید برق تجدیدپذیر(برقت0512) | B27: 0 | C27: 0 | D27: 0 | E27: =C27+D27 -> 0 | F27: =B27 -> 0 | G27: =C27 -> 0 | H27: =D27 -> 0 | I27: =G27+H27 -> 0
A28: سرمایه‌گذاری نیرو | B28: 24835592 | C28: 63728382891 | D28: -57173181867 | E28: =C28+D28 -> 6555201024 | F28: 24835592 | G28: 63728382891 | H28: -72895806880 | I28: =G28+H28 -> -9167423989
A29: سرمایه‌گذاری نیروگاهی ایران | B29: 500000 | C29: 13564330900 | D29: -11260694702 | E29: =C29+D29 -> 2303636198 | F29: 500000 | G29: 13564330900 | H29: -11260694702 | I29: =G29+H29 -> 2303636198
A30: جمع | B30: =SUM(B7:B29) -> 314355949 | C30: =SUM(C7:C29) -> 3528898728688 | D30: =SUM(D7:D29) -> -2634347272129 | E30: =SUM(E7:E29) -> 894551456559 | F30: =SUM(F7:F29) -> 314355949 | G30: =SUM(G7:G29) -> 3528898728688 | H30: =SUM(H7:H29) -> -2631115854175 | I30: =SUM(I7:I29) -> 897782874513

Sheet درآمد ناشی از فروش  
A1: صندوق سرمایه گذاری بخشی صنایع سورنا- نماد امگا
A2: صورت وضعیت درآمدها
A3: برای ماه منتهی به 1405/05/31
A4: سود(زیان) حاصل از فروش اوراق بهادار
A5: شرح | C5: طی ماه | K5: از ابتدای سال مالی
C6: تعداد | E6: خالص بهای فروش | G6: ارزش دفتری | I6: سود و زیان ناشی از فروش | K6: تعداد | M6: خالص بهای فروش | O6: ارزش دفتری | Q6: سود و زیان ناشی از فروش
A7: برق و انرژی پیوندگستر پارس | C7: 0 | D7: 0 | E7: 0 | F7: 0 | G7: 0 | I7: =E7+G7 -> 0 | K7: 0 | L7: 99778820932 | M7: 0 | O7: 0 | Q7: =M7+O7 -> 0
A8: تولید برق عسلویه مپنا | C8: 0 | D8: 0 | E8: 0 | F8: 0 | G8: 0 | I8: =E8+G8 -> 0 | K8: 0 | M8: 0 | O8: 0 | Q8: =M8+O8 -> 0
A9: تولید نیروی برق دماوند | C9: 4568999 | E9: 47533013809 | G9: -44439417288 | I9: =E9+G9 -> 3093596521 | K9: 5204053 | M9: 54246792226 | O9: -50609575405 | Q9: =M9+O9 -> 3637216821
A10: مبین انرژی خلیج فارس | I10: =E10+G10 -> 0 | Q10: =M10+O10 -> 0
A11: مدیریت نیروگاهی ایرانیان مپنا | C11: 301355 | E11: 10786895568 | G11: -7998383874 | I11: =E11+G11 -> 2788511694 | K11: 432355 | M11: 14372026643 | O11: -11469598169 | Q11: =M11+O11 -> 2902428474
A12: ایران‌ ترانسفو | C12: 26410816 | E12: 74407821717 | G12: -78515154545 | I12: =E12+G12 -> -4107332828 | K12: 43208785 | M12: 121452544061 | O12: -128452844137 | Q12: =M12+O12 -> -7000300076
A13: موتوژن‌ | I13: =E13+G13 -> 0 | Q13: =M13+O13 -> 0
A14: توسعه مسیر برق گیلان | C14: 17192 | E14: 367107202 | G14: -335051753 | I14: =E14+G14 -> 32055449 | K14: 803101 | M14: 16899367584 | O14: -15502821560 | Q14: =M14+O14 -> 1396546024
A15: سیم و کابل ابهر | I15: =E15+G15 -> 0 | Q15: =M15+O15 -> 0
A16: پتروشیمی پردیس | I16: =E16+G16 -> 0 | Q16: =M16+O16 -> 0
A17: گروه مپنا | C17: 108984 | E17: 2247606912 | G17: -2025538904 | I17: =E17+G17 -> 222068008 | K17: 1014981 | M17: 21823716269 | O17: -18864085578 | Q17: =M17+O17 -> 2959630691
A18: برق و انرژی پیوندگستر پارس | C18: 1995317 | E18: 32328511681 | G18: -32092222377 | I18: =E18+G18 -> 236289304 | K18: 3537978 | M18: 53444464286 | O18: -56906035278 | Q18: =M18+O18 -> -3461570992
A19: تولید انرژی برق شمس پاسارگاد | C19: 645634 | E19: 7783559732 | G19: -4761955529 | I19: =E19+G19 -> 3021604203 | K19: 3332896 | M19: 31968959172 | O19: -23134067932 | Q19: =M19+O19 -> 8834891240
A20: بورس انرژی ایران | C20: 182000 | E20: 3207512805 | G20: -3203041647 | I20: =E20+G20 -> 4471158 | K20: 6078640 | M20: 105004472610 | O20: -103899766534 | Q20: =M20+O20 -> 1104706076
A21: صندوق س.بخشی صنایع سورنا3 | C21: 0 | E21: 0 | G21: 0 | I21: =E21+G21 -> 0 | K21: 20000 | M21: 235457200 | O21: -238113365 | Q21: =M21+O21 -> -2656165
A22: تولید نیروی برق آبادان | C22: 0 | E22: 0 | G22: 0 | I22: =E22+G22 -> 0 | K22: 1156410 | M22: 10308665296 | O22: -10143643204 | Q22: =M22+O22 -> 165022092
A23: تولید برق عسلویه مپنا | C23: 4867440 | E23: 25290207787 | G23: -24632054915 | I23: =E23+G23 -> 658152872 | K23: 7187958 | M23: 35864082296 | O23: -36375214938 | Q23: =M23+O23 -> -511132642
A24: توسعه مولد نیروگاهی جهرم | C24: 1000000 | E24: 2356641258 | G24: -2377087914 | I24: =E24+G24 -> -20446656 | K24: 10386375 | M24: 27145147106 | O24: -24689326468 | Q24: =M24+O24 -> 2455820638
A25: تولید برق ماهتاب کهنوج | C25: 7706821 | E25: 7050621757 | G25: -7142528951 | I25: =E25+G25 -> -91907194 | K25: 8006821 | M25: 7337288568 | O25: -7420563007 | Q25: =M25+O25 -> -83274439
A26: بورس کالای ایران | C26: 2818393 | E26: 24147828942 | G26: -23311959992 | I26: =E26+G26 -> 835868950 | K26: 5418393 | M26: 43548692073 | O26: -44428063814 | Q26: =M26+O26 -> -879371741
A27: مدیریت انرژی امید تابان هور | C27: 0 | E27: 0 | G27: 0 | I27: =E27+G27 -> 0 | K27: 7060021 | M27: 14743187439 | O27: -14305122855 | Q27: =M27+O27 -> 438064584
A28: مولد نیروگاهی تجارت فارس | C28: 1312295 | E28: 10698918667 | G28: -7632619042 | I28: =E28+G28 -> 3066299625 | K28: 4707247 | M28: 32262094092 | O28: -26163901412 | Q28: =M28+O28 -> 6098192680
... A33: شمش طلا GoldBar | C33: 1218 | E33: 30653978364 | G33: -29991978399 | I33: =E33+G33 -> 661999965 | K33: 1218 | M33: 30653978364 | O33: -29991978399 | Q33: =M33+O33 -> 661999965
A34: شمش نقره SilverBar | I34: =E34+G34 -> 0 | K34: =C34 -> 0 | M34: =E34 -> 0 | O34: =G34 -> 0 | Q34: =M34+O34 -> 0
A35: سرمایه‌گذاری تأمین اجتماعی | C35: 2000000 | E35: 5604133618 | G35: -5125618353 | I35: =E35+G35 -> 478515265 | K35: 2000000 | M35: 5604133618 | O35: -5125618353 | Q35: =M35+O35 -> 478515265
A36: نیروترانس | C36: 1071600 | E36: 3657304333 | G36: -3753721308 | I36: =E36+G36 -> -96416975 | K36: 1071600 | M36: 3657304333 | O36: -3753721308 | Q36: =M36+O36 -> -96416975
A37: جمع | C37: =SUM(C7:C36) -> 56369938 | E37: =SUM(E7:E36) -> 294903674247 | G37: =SUM(G7:G36) -> -285295477511 | I37: =SUM(I7:I36) -> 9608196736 | K37: =SUM(K9:K36) -> 114168683 | M37: =SUM(M9:M36) -> 683064602210 | O37: =SUM(O9:O36) -> -666030771036 | Q37: =SUM(Q7:Q36) -> 17033831174

Sheet درآمد اعمال اختیار
A1: صندوق سرمایه گذاری بخشی صنایع سورنا- نماد امگا
A2: صورت وضعیت درآمدها
A3: برای ماه منتهی به 1404/12/29
A4: سود (زیان) ناشی از اعمال اختیار معامله سهام
C5: طی ماه | U5: از ابتدای سال مالی
A6: نام اختیار | C6: تاریخ اعمال | E6: تعداد | G6: قیمت اعمال | I6: ارزش اعمال | K6: ارزش دفتری اختیار | L6: بهای تمام شده سهم | N6: کارمزد اعمال | O6: مالیات اعمال | Q6: کارمزد فروش اختیار | S6: سود(زیان)اعمال | U6: سود(زیان)اعمال
E7: 0 | G7: 0 | H7: 0 | I7: 0 | J7: 0 | K7: 0 | L7: 0 | M7: 0 | N7: 0 | O7: 0 | P7: 0 | Q7: 0 | R7: 0 | S7: 0
E8: 0 | G8: 0 | H8: 0 | I8: 0 | J8: 0 | K8: 0 | L8: 0 | M8: 0 | N8: 0 | O8: 0 | P8: 0 | Q8: 0 | R8: 0 | S8: 0
E9: 0 | G9: 0 | H9: 0 | I9: 0 | J9: 0 | K9: 0 | L9: 0 | M9: 0 | N9: 0 | O9: 0 | P9: 0 | Q9: 0 | R9: 0 | S9: 0
E10: 0 | G10: 0 | I10: =E10*G10 -> 0 | K10: 0 | L10: 0 | N10: =I10*0.000255 -> 0 | O10: 0 | Q10: 0 | S10: 0
E11: 0 | G11: 0 | I11: 0 | K11: 0 | L11: 0 | N11: 0 | O11: 0 | Q11: 0 | S11: 0
E12: 0 | G12: 0 | I12: =E12*G12 -> 0 | K12: 0 | L12: 0 | N12: =I12*0.000255 -> 0 | O12: 0 | Q12: 0 | S12: 0
A13: جمع | E13: =SUM(E7:E12) -> 0 | I13: =SUM(I7:I12) -> 0 | K13: =SUM(K7:K12) -> 0 | N13: =SUM(N7:N12) -> 0 | Q13: =SUM(Q7:Q12) -> 0 | S13: =SUM(S7:S12) -> 0 | U13: =SUM(U7:U12) -> 0
