Workbook

Sheet صورت وضعیت
A1: صندوق سرمایه گذاری بخشی صنایع سورنا
A2: صورت وضعیت پرتفوی رویین
A3: برای ماه منتهی به 1405/06/31

Sheet سهام
A1: صندوق سرمایه گذاری بخشی صنایع سورنا
A2: صورت وضعیت پرتفوی رویین
A3: برای ماه منتهی به 1405/06/31
A4: -1 | B4: سرمایه گذاری ها
A5: -1-1 | C5: سرمایه گذاری در سهام و حق تقدم سهام
F6: 1405/05/31 | L6: تغییرات طی دوره | T6: 1405/06/31
E7: تعداد | H7: بهای تمام شده | J7: خالص ارزش فروش | L7: خرید طی دوره | P7: فروش طی دوره | T7: تعداد | V7: قیمت بازار هر سهم | X7: بهای تمام شده | Z7: خالص ارزش فروش | AB7: درصد به کل دارایی ها
A8: نام شرکت | L8: تعداد | N8: بهای تمام شده | P8: تعداد | R8: مبلغ فروش
A9: آلومینیوم‌ایران‌ | E9: 16667697 | H9: 93341089580 | J9: 2.4295579e+11 | L9: 3103000 | N9: 45088580915 | P9: -1070000 | R9: 15044698592 | T9: 18700697 | V9: 14500 | X9: 132437542979 | Z9: 2.6906404e+11 | AB9: =(Z9/7297823540097)*100 -> 3.686908
A10: آلیاژ گستر هامون | E10: 837498 | H10: 3712368271 | J10: 3.581714e+09 | L10: 0 | N10: 0 | P10: 0 | R10: 0 | T10: 837498 | V10: 4960 | X10: 3712368271 | Z10: 4.1218797e+09 | AB10: =(Z10/7297823540097)*100 -> 0.056480946
A11: بیمه اتکایی ایران معین | E11: 342500 | H11: 575034981 | J11: 7.8132084e+08 | L11: 0 | N11: 0 | P11: 0 | R11: 0 | T11: 342500 | V11: 2968 | X11: 575034981 | Z11: 1.0086821e+09 | AB11: =(Z11/7297823540097)*100 -> 0.013821685
A12: پتروشیمی زاگرس | E12: 170000 | H12: 19738049650 | J12: 24661878580 | L12: 0 | N12: 0 | P12: -170000 | R12: 23942248435 | T12: 0 | V12: 0 | X12: 0 | Z12: 0 | AB12: =(Z12/7297823540097)*100 -> 0
A13: توسعه‌معادن‌وفلزات‌ | E13: 206108988 | H13: 434407285603 | J13: 5.824609e+11 | L13: 33382915 | N13: 95446279777 | P13: 0 | R13: 0 | T13: 239491903 | V13: 3250 | X13: 529853565380 | Z13: 7.7233205e+11 | AB13: =(Z13/7297823540097)*100 -> 10.583046
A14: تولیدی چدن سازان | E14: 30738295 | H14: 67715131811 | J14: 8.8757002e+10 | L14: 0 | N14: 0 | P14: 0 | R14: 0 | T14: 30738295 | V14: 4210 | X14: 67715131811 | Z14: 1.284079e+11 | AB14: =(Z14/7297823540097)*100 -> 1.7595369
A15: سرمایه گذاری صدرتامین | E15: 1085 | H15: 8730308 | J15: 22501211 | L15: 0 | N15: 0 | P15: 0 | R15: 0 | T15: 1085 | V15: 29940 | X15: 8730308 | Z15: 32233792 | AB15: =(Z15/7297823540097)*100 -> 0.00044169048
A16: سرمایه‌گذاری‌توکافولاد(هلدینگ | E16: 37 | H16: 90337 | J16: 110802.82 | L16: 0 | N16: 0 | P16: 0 | R16: 0 | T16: 37 | V16: 3510 | X16: 90337 | Z16: 128866.1 | AB16: =(Z16/7297823540097)*100 -> 1.7658156e-06
A17: سیمان‌ بهبهان‌ | E17: 6470118 | H17: 34595111406 | J17: 3.460436e+10 | L17: 0 | N17: 0 | P17: -6470118 | R17: 38987219975 | T17: 0 | V17: 0 | X17: 0 | Z17: 0 | AB17: =(Z17/7297823540097)*100 -> 0
A18: فولاد خوزستان | E18: 158266170 | H18: 227647426368 | J18: 2.1084563e+11 | L18: 0 | N18: 0 | P18: 0 | R18: 0 | T18: 158266170 | V18: 2890 | X18: 227647426368 | Z18: 4.5385361e+11 | AB18: =(Z18/7297823540097)*100 -> 6.2190269
A19: فولاد امیرکبیرکاشان | E19: 50015091 | H19: 119413813268 | J19: 2.6849005e+11 | L19: 0 | N19: 0 | P19: 0 | R19: 0 | T19: 50015091 | V19: 6730 | X19: 119413813268 | Z19: 3.3399963e+11 | AB19: =(Z19/7297823540097)*100 -> 4.576702
A20: فولاد خراسان | E20: 49500000 | H20: 103941352602 | J20: 127557796905 | L20: 0 | N20: 0 | P20: -6860000 | R20: 20019912065 | T20: 42640000 | V20: 3240 | X20: 89536551008 | Z20: 137085672672 | AB20: =(Z20/7297823540097)*100 -> 1.878446
... A38: پالایش نفت تهران | E38: 0 | H38: 0 | J38: 0 | L38: 3830000 | N38: 21538973494 | P38: 0 | R38: 0 | T38: 3830000 | V38: 6370 | X38: 21538973494 | Z38: 24208510417 | AB38: =(Z38/7297823540097)*100 -> 0.33172233
A39: جمع | E39: =SUM(E9:F38) -> 1241042247 | H39: =SUM(H9:H38) -> 3618515004307 | J39: =SUM(J9:J38) -> 5.6427911e+12 | L39: =SUM(L9:L38) -> 285200512 | N39: =SUM(N9:N38) -> 5.6633914e+11 | P39: =SUM(P9:P38) -> -87634175 | R39: =SUM(R9:R38) -> 5.4938694e+11 | T39: =SUM(T9:T38) -> 1438485194 | X39: =SUM(X9:X38) -> 3798634027434 | Z39: =SUM(Z9:Z38) -> 7.1431826e+12 | AB39: =SUM(AB9:AB38) -> 97.880999

Sheet اوراق مشتقه
A1: صندوق سرمایه گذاری بخشی صنایع سورنا
A2: صورت وضعیت پرتفوی رویین
A3: برای ماه منتهی به 1405/06/31
A5: اطلاعات آماری مرتبط با اوراق اختیار فروش تبعی خریداری شده توسط صندوق سرمایه گذاری:
I6: 1405/05/31 | AC6: 1405/06/31
A8: نام سهام | I8: تعداد اوراق تبعی | M8: قیمت اعمال | Q8: تاریخ اعمال | W8: نرخ سود موثر | AC8: تعداد اوراق تبعی | AI8: قیمت اعمال | AM8: تاریخ اعمال | AQ8: نرخ سود موثر
A9: اطلاعات آماری مرتبط با موقعیت های اخذ شده در اوراق اختیار معامله توسط صندوق سرمایه گذاری:
C10: 1405/05/31 | Y10: 1405/06/31
A11: نام سهام | C11: نوع اختیار | E11: نوع موقعیت | G11: استراتژی ماخوذه | K11: تعداد اوراق | O11: قیمت اعمال | S11: تاریخ اعمال | Y11: نوع اختیار | AE11: نوع موقعیت | AK11: استراتژی ماخوذه | AO11: تعداد اوراق | AS11: قیمت اعمال | AV11: تاریخ اعمال
A12: اختیارخ فملی-25547-1405/07/08 | C12: - | G12: - | S12: - | Y12: اختیار خرید | AE12: موقعیت فروش | AK12: - | AO12: 2742000 | AS12: 25547 | AV12: 1405/07/08
A13: اختیارخ فملی-23547-1405/07/08 | C13: - | G13: - | S13: - | Y13: اختیار خرید | AE13: موقعیت خرید | AK13: - | AO13: 2742000 | AS13: 23547 | AV13: 1405/07/08
A14: اطلاعات آماری مرتبط با قراردادهای آتی توسط صندوق سرمایه گذاری:
C15: 1405/05/31 | O15: 1405/06/31
A16: نام سهام | C16: نوع موقعیت | E16: تعداد اوراق | G16: قیمت اعمال | K16: تاریخ اعمال | O16: نوع موقعیت | U16: تعداد اوراق | AA16: قیمت اعمال | AG16: تاریخ اعمال

Sheet سپرده
A1: صندوق سرمایه گذاری بخشی صنایع سورنا
A2: صورت وضعیت پرتفوی رویین
A3: برای ماه منتهی به 1405/06/31
A5: -4-1 | B5: سرمایه‌گذاری در سپرده‌ بانکی
D6: 1405/05/31 | F6: تغییرات طی دوره | J6: 1405/06/31
D7: مبلغ | F7: افزایش | H7: کاهش | J7: مبلغ | L7: درصد به کل دارایی ها
A8: سپرده های بانکی
A9: سپرده کوتاه مدت بانک خاورمیانه نیایش | D9: 1022568088 | F9: 395325415242 | H9: -396138621910 | J9: =D9+F9+H9 -> 209361420 | L9: =(J9/7297823540097)*100 -> 0.00286882
A10: سپرده کوتاه مدت بانک گردشگری آپادانا | D10: 4312869 | F10: 18237 | H10: 0 | J10: =D10+F10+H10 -> 4331106 | L10: =(J10/7297823540097)*100 -> 5.9347913e-05
A11: سپرده کوتاه مدت بانک ملی بورس اوراق بهادار | D11: 30009905831 | F11: 127439326 | H11: 0 | J11: =D11+F11+H11 -> 30137345157 | L11: =(J11/7297823540097)*100 -> 0.41296347
A12: جمع | D12: =SUM(D9:D11) -> 31036786788 | F12: =SUM(F9:F11) -> 395452872805 | H12: =SUM(H9:H11) -> -396138621910 | J12: =SUM(J9:J11) -> 30351037683 | L12: =SUM(L9:L11) -> 0.41589164

Sheet درآمد
A1: صندوق سرمایه گذاری بخشی صنایع سورنا
A2: صورت وضعیت درآمدها رویین
A3: برای ماه منتهی به 1405/06/31
A5: -2 | B5: درآمد حاصل از سرمایه گذاری ها
A7: شرح | D7: یادداشت | F7: مبلغ | H7: درصد از کل درآمدها | J7: درصد از کل دارایی ها
A8: درآمد حاصل از سرمایه گذاری در سهام و حق تقدم سهام | D8: 1-2 | F8: 1489503420894 | H8: =(F8/F11)*100 -> 99.915818 | J8: =(F8/7298823540097)*100 -> 20.407445
A9: درآمد حاصل از سرمایه گذاری در سپرده بانکی و گواهی سپرده | D9: 4-2 | F9: 127556724 | H9: =(F9/F11)*100 -> 0.0085564989 | J9: =(F97/297823540097)*100 -> 0
A10: سایر درآمدها | D10: 5-2 | F10: ='سایر درآمدها'!D11 -> 1127391161 | H10: =(F10/F11)*100 -> 0.075625345 | J10: =(F10/7297823540097)*100 -> 0.01544832
A11: جمع | F11: =SUM(F8:F10) -> 1490758368779 | H11: =SUM(H8:H10) -> 100 | J11: =SUM(J8:J10) -> 20.422894

Sheet درآمد سپرده بانکی
A1: صندوق سرمایه گذاری بخشی صنایع سورنا
A2: صورت وضعیت درآمدها رویین
A3: برای ماه منتهی به 1405/06/31
A5: -4-2 | B5: درآمد حاصل از سرمایه­گذاری در سپرده بانکی و گواهی سپرده
D6: طی ماه | H6: از ابتدای سال مالی
A7: نام سپرده بانکی | D7: سود سپرده بانکی و گواهی سپرده | F7: درصد سود به میانگین سپرده | H7: سود سپرده بانکی و گواهی سپرده | J7: درصد سود به میانگین سپرده
A8: سپرده کوتاه مدت بانک خاورمیانه نیایش | D8: ='سود سپرده بانکی'!G8 -> 99161 | H8: ='سود سپرده بانکی'!M8 -> 12091102
A9: سپرده کوتاه مدت بانک گردشگری آپادانا | D9: ='سود سپرده بانکی'!G9 -> 18237 | H9: ='سود سپرده بانکی'!M9 -> 57298
A10: سپرده کوتاه مدت بانک ملی بورس اوراق بهادار | D10: ='سود سپرده بانکی'!G10 -> 127439326 | H10: ='سود سپرده بانکی'!M10 -> 127522865
A11: جمع | D11: =SUM(D8:D10) -> 127556724 | H11: =SUM(H8:H10) -> 139671265

Sheet سایر درآمدها
A1: صندوق سرمایه گذاری بخشی صنایع سورنا
A2: صورت وضعیت درآمدها رویین
A3: برای ماه منتهی به 1405/06/31
A5: -5-2 | B5: سایر درآمدها
D6: طی ماه | F6: از ابتدای سال مالی
A7: سایر درآمدها | D7: مبلغ | F7: مبلغ
A8: سایر درآمدها | D8: 665095437 | F8: 5164404760
A9: معین برای سایر درآمدهای تنزیل سود بانک | D9: 0 | F9: 0
A10: تعدیل کارمزد کارگزار | D10: 462295724 | F10: 1274022107
A11: جمع | D11: =SUM(D8:D10) -> 1127391161 | F11: =SUM(F8:F10) -> 6438426867

Sheet درآمد سود سهام
A1: صندوق سرمایه گذاری بخشی صنایع سورنا
A2: صورت وضعیت درآمدها رویین
A3: برای ماه منتهی به 1405/06/31
A5: درآمد سود سهام
A6: نام سهام | C6: اطلاعات مجمع | I6: طی ماه | O6: از ابتدای سال مالی
C7: تاریخ تشکیل مجمع | E7: تعداد سهام متعلقه در زمان مجمع | G7: سود متعلق به هر سهم | I7: جمع درآمد سود سهام | K7: هزینه تنزیل | M7: خالص درآمد سود سهام | O7: جمع درآمد سود سهام | Q7: هزینه تنزیل | S7: خالص درآمد سود سهام
A8: نوردوقطعات‌ فولادی‌ | C8: 1405/04/21 | E8: 80175948 | G8: 550 | I8: 0 | K8: 0 | M8: 0 | O8: =E8*G8 -> 44096771400 | Q8: -1488375474 | S8: =O8+Q8 -> 42608395926
A9: گروه‌صنعتی‌سپاهان‌ | C9: 1405/04/29 | E9: 10755550 | G9: 400 | I9: 0 | K9: 0 | M9: 0 | O9: =E9*G9 -> 4302220000 | Q9: -128637807 | S9: =O9+Q9 -> 4173582193
A10: آلومینیوم‌ایران‌ | C10: 1405/04/30 | E10: 16667697 | G10: 800 | I10: 0 | K10: 0 | M10: 0 | O10: =E10*G10 -> 13334157600 | Q10: -1463505102 | S10: =O10+Q10 -> 11870652498
A11: ملی‌ صنایع‌ مس‌ ایران‌ | C11: 1405/04/31 | E11: 62253819 | G11: 450 | I11: 0 | K11: 0 | M11: 0 | O11: =E11*G11 -> 28014218550 | Q11: 0 | S11: =O11+Q11 -> 28014218550
A12: توسعه‌معادن‌وفلزات‌ | C12: 1405/04/20 | E12: 163300000 | G12: 120 | I12: 0 | K12: 0 | M12: 0 | O12: =E12*G12 -> 19596000000 | Q12: -264810811 | S12: =O12+Q12 -> 19331189189
A13: فولاد مبارکه اصفهان | C13: 1405/05/11 | E13: 394611000 | G13: 55 | I13: 0 | K13: 0 | M13: 0 | O13: =E13*G13 -> 21703605000 | Q13: 0 | S13: =O13+Q13 -> 21703605000
A14: فولاد خوزستان | C14: 1405/05/28 | E14: 158266170 | G14: 82 | I14: 0 | K14: 0 | M14: 0 | O14: =E14*G14 -> 12977825940 | Q14: 0 | S14: =O14+Q14 -> 12977825940
A15: فولاد خراسان | C15: 1405/04/10 | E15: 69445376 | G15: 60 | I15: 0 | K15: 0 | M15: 0 | O15: =E15*G15 -> 4166722560 | Q15: -111112602 | S15: =O15+Q15 -> 4055609958
A16: پتروشیمی زاگرس | C16: 1405/04/30 | E16: 170000 | G16: 5750 | I16: 0 | K16: 0 | M16: 0 | O16: =E16*G16 -> 977500000 | Q16: 0 | S16: =O16+Q16 -> 977500000
A17: تولیدی چدن سازان | C17: 1405/04/25 | E17: 46738295 | G17: 190 | I17: 0 | K17: 0 | M17: 0 | O17: =E17*G17 -> 8880276050 | Q17: -322386259 | S17: =O17+Q17 -> 8557889791
A18: آلیاژ گستر هامون | C18: 1405/04/30 | E18: 837498 | G18: 170 | I18: 0 | K18: 0 | M18: 0 | O18: =E18*G18 -> 142374660 | Q18: -5168717 | S18: =O18+Q18 -> 137205943
A19: هامون نایزه | C19: 1405/04/06 | E19: 2457000 | G19: 270 | I19: 0 | K19: 0 | M19: 0 | O19: =E19*G19 -> 663390000 | Q19: -14663007 | S19: =O19+Q19 -> 648726993
A20: جمع | I20: 0 | K20: 0 | M20: 0 | O20: =SUM(O8:O19) -> 158855061760 | Q20: 3798659779 | S20: =SUM(S8:S19) -> 155056401981

Sheet درآمد سرمایه گذاری در سهام
A1: صندوق سرمایه گذاری بخشی صنایع سورنا
A2: صورت وضعیت درآمدها رویین
A3: برای ماه منتهی به 1405/06/31
A5: -1-2 | B5: درآمد حاصل از سرمایه­گذاری در سهام و حق تقدم سهام
D6: طی ماه | N6: از ابتدای سال مالی
D7: درآمد سود سهام | F7: درآمد تغییر ارزش | H7: درآمد فروش | J7: جمع | U7: جمع
A8: سهام | J8: مبلغ | L8: درصد از کل درآمدها | N8: درآمد سود سهام | P8: درآمد تغییر ارزش | S8: درآمد فروش | U8: مبلغ | W8: درصد از کل درآمدها
A9: ملی‌ صنایع‌ مس‌ ایران‌ | D9: 0 | F9: 400201095630 | H9: 19182082456 | J9: =D9+F9+H9 -> 419383178086 | N9: 28014218550 | P9: 668309832615 | S9: 19995509536 | U9: =N9+P9+S9 -> 716319560701
A10: شمش طلا GoldBar | D10: 0 | F10: 0 | H10: 794134332 | J10: =D10+F10+H10 -> 794134332 | N10: 0 | P10: 0 | S10: 10426585049 | U10: =N10+P10+S10 -> 10426585049
A11: نوردوقطعات‌ فولادی‌ | D11: 0 | F11: 100328827253 | H11: 34443047289 | J11: =D11+F11+H11 -> 134771874542 | N11: 42608395926 | P11: 260439985504 | S11: 31194532528 | U11: =N11+P11+S11 -> 334242913958
A12: سیمان‌ بهبهان‌ | D12: 0 | F12: 0 | H12: 4392108569 | J12: =D12+F12+H12 -> 4392108569 | N12: 0 | P12: 0 | S12: 6905970649 | U12: =N12+P12+S12 -> 6905970649
A13: کالسیمین‌ | D13: 0 | F13: 0 | H13: 141 | J13: =D13+F13+H13 -> 141 | N13: 0 | P13: 0 | S13: 141 | U13: =N13+P13+S13 -> 141
A14: فولاد مبارکه اصفهان | D14: 0 | F14: 248868294444 | H14: 29767645949 | J14: =D14+F14+H14 -> 278635940393 | N14: 21703605000 | P14: 525303112839 | S14: 29772190547 | U14: =N14+P14+S14 -> 576778908386
A15: کارخانجات‌ قند قزوین‌ | D15: 0 | F15: 0 | H15: -705233880 | J15: =D15+F15+H15 -> -705233880 | N15: 0 | P15: 0 | S15: -705233880 | U15: =N15+P15+S15 -> -705233880
A16: ایران‌ خودرو | D16: 0 | F16: -6426682641 | H16: 301029057 | J16: =D16+F16+H16 -> -6125653584 | N16: 0 | P16: -6426682641 | S16: 301029057 | U16: =N16+P16+S16 -> -6125653584
A17: آلومینیوم‌ایران‌ | D17: 0 | F17: -8161314820 | H17: 4225681109 | J17: =D17+F17+H17 -> -3935633711 | N17: 11870652498 | P17: 66263535835 | S17: 5230797690 | U17: =N17+P17+S17 -> 83364986023
A18: فولاد هرمزگان جنوب | D18: 0 | F18: 36817652979 | H18: 312679876 | J18: =D18+F18+H18 -> 37130332855 | N18: 0 | P18: 31980954477 | S18: 1406280261 | U18: =N18+P18+S18 -> 33387234738
A19: فولاد خراسان | D19: 0 | F19: 23863359232 | H19: 5684428599 | J19: =D19+F19+H19 -> 29547787831 | N19: 4055609958 | P19: 47979985442 | S19: 6339074340 | U19: =N19+P19+S19 -> 58374669740
A20: پتروشیمی زاگرس | D20: 0 | F20: 0 | H20: 4204198785 | J20: =D20+F20+H20 -> 4204198785 | N20: 977500000 | P20: 0 | S20: 4204198785 | U20: =N20+P20+S20 -> 5181698785
... A47: کالسیمین‌ | D47: 0 | F47: 31115937411 | H47: 0 | J47: =D47+F47+H47 -> 31115937411 | N47: 0 | P47: 36322859296 | S47: 0 | U47: =N47+P47+S47 -> 36322859296
A48: جمع | D48: =SUM(D9:D47) -> 0 | F48: 1365008043436 | H48: =SUM(H9:H47) -> 124495377458 | J48: =SUM(J9:J47) -> 1489503420894 | N48: =SUM(N9:N47) -> 155056401981 | Q48: =SUM(P9:Q47) -> 2462696583905 | S48: =SUM(S9:S47) -> 119731023914 | U48: =SUM(U9:U47) -> 2737484009800

Sheet سود سپرده بانکی
A1: صندوق سرمایه گذاری بخشی صنایع سورنا
A2: صورت وضعیت درآمدها رویین
A3: برای ماه منتهی به 1405/06/31
A5: سود سپرده بانکی
A6: شرح | C6: طی ماه | I6: از ابتدای سال مالی
C7: درآمد سود | E7: هزینه تنزیل | G7: خالص درآمد | I7: درآمد سود | K7: هزینه تنزیل | M7: خالص درآمد
A8: سپرده کوتاه مدت بانک خاورمیانه نیایش | C8: 99161 | E8: 0 | G8: =C8+E8 -> 99161 | I8: 12091102 | K8: 0 | M8: =I8+K8 -> 12091102
A9: سپرده کوتاه مدت بانک گردشگری آپادانا | C9: 18237 | E9: 0 | G9: =C9+E9 -> 18237 | I9: 57298 | K9: 0 | M9: =I9+K9 -> 57298
A10: سپرده کوتاه مدت بانک ملی بورس اوراق بهادار | C10: 127439326 | E10: 0 | G10: =C10+E10 -> 127439326 | I10: 127522865 | K10: 0 | M10: =I10+K10 -> 127522865
A11: جمع | C11: =SUM(C8:C10) -> 127556724 | E11: =SUM(E8:E10) -> 0 | G11: =SUM(G8:G10) -> 127556724 | I11: =SUM(I8:I10) -> 139671265 | K11: =SUM(K8:K10) -> 0 | M11: =SUM(M8:M10) -> 139671265

Sheet درآمد ناشی از فروش
A1: صندوق سرمایه گذاری بخشی صنایع سورنا
A2: صورت وضعیت درآمدها رویین
A3: برای ماه منتهی به 1405/06/31
A5: سود(زیان) حاصل از فروش اوراق بهادار
A6: شرح | C6: طی ماه | K6: از ابتدای سال مالی
C7: تعداد | E7: خالص بهای فروش | G7: ارزش دفتری | I7: سود و زیان ناشی از فروش | K7: تعداد | M7: خالص بهای فروش | O7: ارزش دفتری | Q7: سود و زیان ناشی از فروش
A8: ملی‌ صنایع‌ مس‌ ایران‌ | C8: 2400000 | E8: 57549516183 | G8: -38367433727 | I8: =E8+G8 -> 19182082456 | K8: 2900001 | M8: 66336067069 | O8: -46340557533 | Q8: =M8+O8 -> 19995509536
A9: شمش طلا GoldBar | C9: 1285 | E9: 40766165651 | G9: -39972031319 | I9: =E9+G9 -> 794134332 | K9: 5376 | M9: 136062536528 | O9: -125635951479 | Q9: =M9+O9 -> 10426585049
A10: نوردوقطعات‌ فولادی‌ | C10: 8306176 | E10: 94599036126 | G10: -60155988837 | I10: =E10+G10 -> 34443047289 | K10: 35240752 | M10: 286797780062 | O10: -255603247534 | Q10: =M10+O10 -> 31194532528
A11: سیمان‌ بهبهان‌ | C11: 6470118 | E11: 38987219975 | G11: -34595111406 | I11: =E11+G11 -> 4392108569 | K11: 16340118 | M11: 92145301992 | O11: -85239331343 | Q11: =M11+O11 -> 6905970649
A12: کالسیمین‌ | C12: 13115430 | E12: 50869303509 | G12: -50869303368 | I12: =E12+G12 -> 141 | K12: 13115430 | M12: 50869303509 | O12: -50869303368 | Q12: =M12+O12 -> 141
A13: فولاد مبارکه اصفهان | C13: 22200000 | E13: 70749878665 | G13: -40982232716 | I13: =E13+G13 -> 29767645949 | K13: 22210000 | M13: 70772552037 | O13: -41000361490 | Q13: =M13+O13 -> 29772190547
A14: کارخانجات‌ قند قزوین‌ | C14: 1982090 | E14: 22047474381 | G14: -22752708261 | I14: =E14+G14 -> -705233880 | K14: 1982090 | M14: 22047474381 | O14: -22752708261 | Q14: =M14+O14 -> -705233880
A15: ایران‌ خودرو | C15: 10000000 | E15: 7463855006 | G15: -7162825949 | I15: =E15+G15 -> 301029057 | K15: 10000000 | M15: 7463855006 | O15: -7162825949 | Q15: =M15+O15 -> 301029057
A16: آلومینیوم‌ایران‌ | C16: 1070000 | E16: 15044698592 | G16: -10819017483 | I16: =E16+G16 -> 4225681109 | K16: 1670000 | M16: 22116553949 | O16: -16885756259 | Q16: =M16+O16 -> 5230797690
A17: فولاد هرمزگان جنوب | C17: 859076 | E17: 3162535141 | G17: -2849855265 | I17: =E17+G17 -> 312679876 | K17: 12733527 | M17: 43647838628 | O17: -42241558367 | Q17: =M17+O17 -> 1406280261
A18: فولاد خراسان | C18: 6860000 | E18: 20019912065 | G18: -14335483466 | I18: =E18+G18 -> 5684428599 | K18: 43805376 | M18: 97880071840 | O18: -91540997500 | Q18: =M18+O18 -> 6339074340
A19: پتروشیمی زاگرس | C19: 170000 | E19: 23942248435 | G19: -19738049650 | I19: =E19+G19 -> 4204198785 | K19: 170000 | M19: 23942248435 | O19: -19738049650 | Q19: =M19+O19 -> 4204198785
A20: فولاد شاهرود | C20: 9670000 | E20: 74169730353 | G20: -55876238548 | I20: =E20+G20 -> 18293491805 | K20: 10870000 | M20: 81611755373 | O20: -62810208172 | Q20: =M20+O20 -> 18801547201
A21: فولاد کاوه جنوب کیش | C21: 4530000 | E21: 30015361871 | G21: -26404611464 | I21: =E21+G21-10667036 -> 3600083371 | K21: 31572562 | M21: 171528348607 | O21: -185298749560 | Q21: =M21+O21 -> -13770400953
A22: فولاد امیرکبیرکاشان | C22: 0 | E22: 0 | G22: 0 | I22: =E22+G22 -> 0 | K22: 8384909 | M22: 27386688483 | O22: -27497909474 | Q22: =M22+O22 -> -111220991
A23: ح . معدنی و صنعتی گل گهر | C23: 0 | E23: 0 | G23: 0 | I23: =E23+G23 -> 0 | K23: 6448044 | M23: 4803792780 | O23: -6449386224 | Q23: =M23+O23 -> -1645593444
A24: جنرال مکانیک | C24: 0 | E24: 0 | G24: 0 | I24: =E24+G24 -> 0 | K24: 329603 | M24: 3384385167 | O24: -3646665132 | Q24: =M24+O24 -> -262279965
A25: آهن و فولاد غدیر ایرانیان | C25: 0 | E25: 0 | G25: 0 | I25: =E25+G25 -> 0 | K25: 3800000 | M25: 17086596178 | O25: -18012280402 | Q25: =M25+O25 -> -925684224
A26: هامون نایزه | C26: 0 | E26: 0 | G26: 0 | I26: =E26+G26 -> 0 | K26: 1228500 | M26: 9374913708 | O26: -10276201173 | Q26: =M26+O26 -> -901287465
A27: سنگ آهن گهرزمین | C27: 0 | E27: 0 | G27: 0 | I27: =E27+G27 -> 0 | K27: 5000000 | M27: 25005204172 | O27: -24955590500 | Q27: =M27+O27 -> 49613672
A28: گروه‌صنعتی‌سپاهان‌ | C28: 0 | E28: 0 | G28: 0 | I28: =E28+G28 -> 0 | K28: 3864644 | M28: 14555021470 | O28: -14380388636 | Q28: =M28+O28 -> 174632834
A29: مس‌ شهیدباهنر | C29: 0 | E29: 0 | G29: 0 | I29: =E29+G29 -> 0 | K29: 4100000 | M29: 42496940104 | O29: -46704164360 | Q29: =M29+O29 -> -4207224256
A30: ح . سرمایه گذاری صدرتامین | C30: 0 | E30: 0 | G30: 0 | I30: =E30+G30 -> 0 | K30: 6514 | M30: 74655122 | O30: -75753940 | Q30: =M30+O30 -> -1098818
A31: شمش نقره SilverBar | C31: 0 | E31: 0 | G31: 0 | I31: =E31+G31 -> 0 | K31: 14062 | M31: 51767584984 | O31: -51132975624 | Q31: =M31+O31 -> 634609360
A32: معدنی و صنعتی گل گهر | C32: 0 | E32: 0 | G32: 0 | I32: =E32+G32 -> 0 | K32: 18000000 | M32: 34056995496 | O32: -36561180336 | Q32: =M32+O32-10667036 -> -2514851876
A33: مخابرات ایران | C33: 0 | E33: 0 | G33: 0 | I33: =E33+G33 -> 0 | K33: 32000000 | M33: 24365189990 | O33: -20491063984 | Q33: =M33+O33 -> 3874126006
A34: تولیدی چدن سازان | C34: 0 | E34: 0 | G34: 0 | I34: =E34+G34 -> 0 | K34: 16000000 | M34: 43236180857 | O34: -38553332067 | Q34: =M34+O34 -> 4682848790
A35: ح . توسعه‌معادن‌وفلزات‌ | C35: 0 | E35: 0 | G35: 0 | I35: =E35+G35 -> 0 | K35: 29274157 | M35: 34019182993 | O35: -30529309022 | Q35: =M35+O35 -> 3489873971
A36: صبا فولاد خلیج فارس | C36: 0 | E36: 0 | G36: 0 | I36: =E36+G36 -> 0 | K36: 1000000 | M36: 3010655839 | O36: -2715842990 | Q36: =M36+O36 -> 294812849
A37: توسعه‌معادن‌وفلزات‌ | C37: 0 | E37: 0 | G37: 0 | I37: =E37+G37 -> 0 | K37: 17000000 | M37: 34564016453 | O37: -37566349933 | Q37: =M37+O37 -> -3002333480
A38: جمع | C38: =SUM(C8:C37) -> 87634175 | E38: =SUM(E8:E37) -> 549386935953 | G38: =SUM(G8:G37) -> -424880891459 | I38: =SUM(I8:I37) -> 124495377458 | K38: =SUM(K8:K37) -> 349065665 | M38: =SUM(M8:M37) -> 1542409691212 | O38: =SUM(O8:O37) -> -1422668000262 | Q38: =SUM(Q8:R37) -> 119731023914

Sheet درآمد ناشی از تغییر قیمت اوراق
A1: صندوق سرمایه گذاری بخشی صنایع سورنا
A2: صورت وضعیت درآمدها رویین
A3: برای ماه منتهی به 1405/06/31
A5: درآمد ناشی از تغییر قیمت اوراق بهادار
A6: شرح | C6: طی ماه | K6: از ابتدای سال مالی
C7: تعداد | E7: خالص ارزش فروش | G7: ارزش دفتری | I7: سود و زیان ناشی از تغییر قیمت | K7: تعداد | M7: خالص ارزش فروش | O7: ارزش دفتری | Q7: سود و زیان ناشی از تغییر قیمت
A8: فولاد امیرکبیرکاشان | C8: 50015091 | E8: 333999632352 | G8: -268490046214 | I8: =E8+G8 -> 65509586138 | K8: 50015091 | M8: 333999632352 | O8: -164022107766 | Q8: =M8+O8 -> 169977524586
A9: سرمایه‌گذاری‌توکافولاد(هلدینگ | C9: 37 | E9: 128866 | G9: -110802 | I9: =E9+G9 -> 18064 | K9: 37 | M9: 128866 | O9: -84809 | Q9: =M9+O9 -> 44057
A10: نوردوقطعات‌ فولادی‌ | C10: 60320196 | E10: 697298178309 | G10: -596969351056 | I10: =E10+G10 -> 100328827253 | K10: 60320196 | M10: 697298178309 | O10: -436858192805 | Q10: =M10+O10 -> 260439985504
A11: مخابرات ایران | C11: 43736548 | E11: 43962644522 | G11: -49993158454 | I11: =E11+G11 -> -6030513932 | K11: 43736548 | M11: 43962644522 | O11: -49993158454 | Q11: =M11+O11 -> -6030513932
A12: ایران‌ خودرو | C12: 134832133 | E12: 89104060487 | G12: -95530743129 | I12: =E12+G12 -> -6426682642 | K12: 134832133 | M12: 89104060487 | O12: -95530743129 | Q12: =M12+O12 -> -6426682642
A13: گروه‌صنعتی‌سپاهان‌ | C13: 10755550 | E13: 87513758707 | G13: -60619286519 | I13: =E13+G13 -> 26894472188 | K13: 10755550 | M13: 87513758707 | O13: -40021535990 | Q13: =M13+O13 -> 47492222717
A14: آلومینیوم‌ایران‌ | C14: 18700697 | E14: 269064038876 | G14: -277225353697 | I14: =E14+G14 -> -8161314821 | K14: 18700697 | M14: 269064038876 | O14: -202800503041 | Q14: =M14+O14 -> 66263535835
A15: ملی‌ صنایع‌ مس‌ ایران‌ | C15: 83676665 | E15: 2006001040209 | G15: -1605799944579 | I15: =E15+G15 -> 400201095630 | K15: 83676665 | M15: 2006001040209 | O15: -1337691207594 | Q15: =M15+O15 -> 668309832615
A16: فروسیلیس‌ ایران‌ | C16: 17330000 | E16: 74114928521 | G16: -79766168720 | I16: =E16+G16 -> -5651240199 | K16: 17330000 | M16: 74114928521 | O16: -79766168720 | Q16: =M16+O16 -> -5651240199
A17: توسعه‌معادن‌وفلزات‌ | C17: 239491903 | E17: 772332049416 | G17: -677907179985 | I17: =E17+G17 -> 94424869431 | K17: 239491903 | M17: 772332049416 | O17: -549506628070 | Q17: =M17+O17 -> 222825421346
A18: معدنی و صنعتی گل گهر | C18: 49120475 | E18: 134524535489 | G18: -139933964766 | I18: =E18+G18 -> -5409429277 | K18: 49120475 | M18: 134524535489 | O18: -107633366567 | Q18: =M18+O18 -> 26891168922
A19: فولاد مبارکه اصفهان | C19: 386540608 | E19: 1238875056593 | G19: -990006762149 | I19: =E19+G19 -> 248868294444 | K19: 386540608 | M19: 1238875056593 | O19: -713571943754 | Q19: =M19+O19 -> 525303112839
... A31: اختیارخ فملی-23547-1405/07/08 | C31: 2742000 | E31: 3890690567 | G31: -10616550524 | I31: =E31+G31 -> -6725859957 | K31: 2742000 | M31: 3890690567 | O31: -10616550524 | Q31: =M31+O31 -> -6725859957
A32: کالسیمین‌ | C32: 13115430 | E32: 63495538855 | G32: -32379601444 | I32: =E32+G32 -> 31115937411 | K32: 13115430 | M32: 63495538855 | O32: -32379601444 | Q32: =M32+O32+5206921885 -> 36322859296
A33: اختیارخ فملی-25547-1405/07/08 | C33: 2742000 | E33: 2005623588 | G33: -2005623588 | I33: =E33+G33 -> 0 | K33: 2742000 | M33: 2005623588 | O33: -2005623588 | Q33: =M33+O33 -> 0
A34: جمع | C34: =SUM(C8:C33) -> 1441227194 | E34: =SUM(E8:E33) -> 7145188238082 | G34: =SUM(G8:G33) -> -5780180194648 | I34: =SUM(I8:I33) -> 1365008043434 | K34: =SUM(K8:K33) -> 1441227194 | M34: =SUM(M8:M33) -> 7145188238082 | O34: =SUM(O8:O33) -> -4687698576064 | Q34: =SUM(Q8:R33) -> 2462696583903
