Workbook

Sheet صورت وضعیت
A1: صندوق سرمایه گذاری بخشی صنایع سورنا
A2: صورت وضعیت پرتفوی سورنافود
A3: برای ماه منتهی به 1405/06/31

Sheet سهام
A1: صندوق سرمایه گذاری بخشی صنایع سورنا
A2: صورت وضعیت پرتفوی سورنافود
A3: برای ماه منتهی به 1405/06/31
A4: -1 | B4: سرمایه گذاری ها
A5: -1-1 | C5: سرمایه گذاری در سهام و حق تقدم سهام
F6: 1405/05/31 | L6: تغییرات طی دوره | T6: 1405/06/31
A7: نام شرکت | E7: تعداد | H7: بهای تمام شده | J7: خالص ارزش فروش | L7: خرید طی دوره | P7: فروش طی دوره | T7: تعداد | V7: قیمت بازار هر سهم | X7: بهای تمام شده | Z7: خالص ارزش فروش | AB7: درصد به کل دارایی‌ها
L8: تعداد | N8: بهای تمام شده | P8: تعداد | R8: مبلغ فروش
A9: اقتصادی و خودکفایی آزادگان | E9: 4682731 | H9: 40374771828 | J9: 6.4726212e+10 | L9: 300000 | N9: 4820286826 | P9: -550000 | R9: 7701007503 | T9: 4432731 | V9: 14110 | X9: 40311338869 | Z9: 6.2062355e+10 | AB9: =(Z9/10140089832344)*100 -> 0.61204936
A10: بهار رز عالیس چناران | E10: 30576495 | H10: 111341016243 | J10: 1.6687076e+11 | L10: 537983 | N10: 2869861117 | P10: -5471658 | R10: 32479289925 | T10: 25642820 | V10: 5860 | X10: 94126244707 | Z10: 1.4910536e+11 | AB10: =(Z10/10140089832344)*100 -> 1.4704541
A11: بهنوش‌ ایران‌ | E11: 1894800 | H11: 165950101997 | J11: 1.448658e+11 | L11: 0 | N11: 0 | P11: -460000 | R11: 37602169625 | T11: 1434800 | V11: 83100 | X11: 125662447936 | Z11: 1.1831022e+11 | AB11: =(Z11/10140089832344)*100 -> 1.1667571
A12: پارس‌ مینو | E12: 69049271 | H12: 98952403975 | J12: 1.2092989e+11 | L12: 5497779 | N12: 10330131741 | P12: -1925184 | R12: 3779246398 | T12: 72621866 | V12: 1994 | X12: 106460304799 | Z12: 1.4368863e+11 | AB12: =(Z12/10140089832344)*100 -> 1.4170351
A13: پاکدیس | E13: 37218580 | H13: 296248524784 | J13: 4.5794292e+11 | L13: 0 | N13: 0 | P13: -17441055 | R13: 206724256100 | T13: 19777525 | V13: 11660 | X13: 157423056045 | Z13: 2.2882336e+11 | AB13: =(Z13/10140089832344)*100 -> 2.2566206
A14: پگاه‌آذربایجان‌غربی‌ | E14: 5888464 | H14: 66823409757 | J14: 1.0435502e+11 | L14: 0 | N14: 0 | P14: -1038695 | R14: 19311067723 | T14: 4849769 | V14: 18270 | X14: 55036101280 | Z14: 8.7920361e+10 | AB14: =(Z14/10140089832344)*100 -> 0.86705702
A15: توسعه نیشکر و صنایع جانبی | E15: 1655223 | H15: 92905583214 | J15: 1.0033593e+11 | L15: 0 | N15: 0 | P15: -1170891 | R15: 70927806240 | T15: 484332 | V15: 60320 | X15: 27184945430 | Z15: 2.8989075e+10 | AB15: =(Z15/10140089832344)*100 -> 0.28588578
A16: توسعه‌ صنایع‌ بهشهر | E16: 181694313 | H16: 631983941591 | J16: 9.1947806e+11 | L16: 0 | N16: 0 | P16: -10386690 | R16: 62279026778 | T16: 171307623 | V16: 6720 | X16: 595856111401 | Z16: 1.1422885e+12 | AB16: =(Z16/10140089832344)*100 -> 11.265073
A17: تولیدی کوچین | E17: 4341976 | H17: 39390147967 | J17: 6.5961796e+10 | L17: 1736914 | N17: 28677258338 | P17: -63295 | R17: 1074772893 | T17: 6015595 | V17: 15800 | X17: 67365048224 | Z17: 9.4311692e+10 | AB17: =(Z17/10140089832344)*100 -> 0.93008735
A18: تولیدی‌مهرام‌ | E18: 19466444 | H18: 204227247760 | J18: 3.5637962e+11 | L18: 0 | N18: 0 | P18: -3360337 | R18: 60474737035 | T18: 16106107 | V18: 20600 | X18: 168973126504 | Z18: 3.292211e+11 | AB18: =(Z18/10140089832344)*100 -> 3.2467276
A19: دشت‌ مرغاب‌ | E19: 19122382 | H19: 52979216946 | J19: 7.0964877e+10 | L19: 10550000 | N19: 40316583186 | P19: -8171257 | R19: 31326406174 | T19: 21501125 | V19: 3730 | X19: 68122608594 | Z19: 7.9579256e+10 | AB19: =(Z19/10140089832344)*100 -> 0.78479834
A20: زرین ذرت شاهرود | E20: 435000 | H20: 8833569575 | J20: 11395228680 | L20: 1015000 | N20: 0 | P20: -1 | R20: 1 | T20: 1449999 | V20: 9630 | X20: 8833563483 | Z20: 1.3855553e+10 | AB20: =(Z20/10140089832344)*100 -> 0.13664132
... A40: صنایع دامپروری و لبنی رضوی | E40: 0 | H40: 0 | J40: 0 | L40: 4010000 | N40: 38708384958 | P40: 0 | R40: 0 | T40: 4010000 | V40: 11380 | X40: 38708384958 | Z40: 45281050726 | AB40: =(Z40/10140089832344)*100 -> 0.44655473
A41: جمع | F41: =SUM(E9:F40) -> 1109201458 | H41: =SUM(H9:H40) -> 4872259679056 | J41: =SUM(J9:J40) -> 9.1864763e+12 | L41: =SUM(L9:L40) -> 74658365 | N41: =SUM(N9:N40) -> 1017925257591 | P41: =SUM(P9:P40) -> -138294053 | R41: =SUM(R9:R40) -> 1431012426961 | T41: =SUM(T9:T40) -> 1045565770 | X41: =SUM(X9:X40) -> 5013227294100 | Z41: =SUM(Z9:Z40) -> 9.9097291e+12 | AB41: =SUM(AB9:AB40) -> 97.728218

Sheet سپرده
A1: صندوق سرمایه گذاری بخشی صنایع سورنا
A2: صورت وضعیت پرتفوی سورنافود
A3: برای ماه منتهی به 1405/06/31
A5: -4-1 | B5: سرمایه‌گذاری در سپرده‌ بانکی
D6: 1405/05/31 | F6: تغییرات طی دوره | J6: 1405/06/31
D7: مبلغ | F7: افزایش | H7: کاهش | J7: مبلغ | L7: درصد به کل دارایی ها
A8: سپرده های بانکی
A9: سپرده کوتاه مدت بانک خاورمیانه نیایش | D9: 1015330401 | F9: 521245951600 | H9: -522236861540 | J9: =D9+F9+H9 -> 24420461 | L9: =(J9/10140089832344)*100 -> 0.00024083082
A10: سپرده کوتاه مدت بانک ملی بورس اوراق بهادار | D10: 3010091 | F10: 12783 | H10: 0 | J10: =D10+F10+H10 -> 3022874 | L10: =(J10/10140089832344)*100 -> 2.9811117e-05
A11: سپرده کوتاه مدت بانک دی حافظ | D11: 12077078 | F11: 51069 | H11: 0 | J11: =D11+F11+H11 -> 12128147 | L11: =(J11/10140089832344)*100 -> 0.00011960591
A12: سپرده کوتاه مدت بانک ملت گلشهر | D12: 28869320772 | F12: 37776 | H12: -28860425000 | J12: =D12+F12+H12 -> 8933548 | L12: =(J12/10140089832344)*100 -> 8.8101271e-05
A13: جمع | D13: =SUM(D9:D12) -> 29899738342 | F13: =SUM(F9:F12) -> 521246053228 | H13: =SUM(H9:H12) -> -551097286540 | J13: =SUM(J9:J12) -> 48505030 | L13: =SUM(L9:L12) -> 0.00047834912

Sheet درآمد
A1: صندوق سرمایه گذاری بخشی صنایع سورنا
A2: صورت وضعیت درآمدها سورنافود
A3: برای ماه منتهی به 1405/06/31
A5: -2 | B5: درآمد حاصل از سرمایه گذاری ها
D6: یادداشت | F6: مبلغ | H6: درصد از کل درآمدها | J6: درصد از کل دارایی ها
A7: شرح
A8: درآمد حاصل از سرمایه گذاری در سهام و حق تقدم سهام | D8: 1-2 | F8: ='درآمد سرمایه گذاری در سهام'!J56 -> 1138295759359 | H8: =(F8/F11)*100 -> 99.670675 | J8: =(F8/10140089832344)*100 -> 11.225697
A9: درآمد حاصل از سرمایه گذاری در سپرده بانکی و گواهی سپرده | D9: 1-2 | F9: ='درآمد سپرده بانکی'!D12 -> 118562 | H9: =(F9/F11)*100 -> 1.0381445e-05 | J9: =(F9/10140089832344)*100 -> 1.1692401e-06
A10: سایر درآمدها | D10: 5-2 | F10: ='سایر درآمدها'!D11 -> 3760964878 | H10: =(F10/F11)*100 -> 0.32931503 | J10: =(F10/10140089832344)*100 -> 0.037090055
A11: جمع | F11: =SUM(F8:F10) -> 1142056842799 | H11: =SUM(H8:H10) -> 100 | J11: =SUM(J8:J10) -> 11.262788

Sheet درآمد سرمایه گذاری در سهام
A1: صندوق سرمایه گذاری بخشی صنایع سورنا
A2: صورت وضعیت درآمدها سورنافود
A3: برای ماه منتهی به 1405/06/31
A5: -1-2 | B5: درآمد حاصل از سرمایه­گذاری در سهام و حق تقدم سهام
D6: طی ماه | N6: از ابتدای سال مالی
D7: درآمد سود سهام | F7: درآمد تغییر ارزش | H7: درآمد فروش | J7: جمع | N7: درآمد سود سهام | P7: درآمد تغییر ارزش | S7: درآمد فروش | U7: جمع
A8: سهام | J8: مبلغ | L8: درصد از کل درآمدها | U8: مبلغ | W8: درصد از کل درآمدها
A9: صنعتی زر ماکارون | D9: 0 | F9: 106760988563 | H9: 6159843823 | J9: =D9+F9+H9 -> 112920832386 | N9: 35158411472 | P9: 166756705589 | S9: -1537895661 | U9: =P9+S9 -> 165218809928
A10: توسعه نیشکر و صنایع جانبی | D10: 0 | F10: -6797635788 | H10: 6378582813 | J10: =D10+F10+H10 -> -419052975 | N10: 0 | P10: 2288678074 | S10: 2452391112 | U10: =P10+S10 -> 4741069186
A11: صنعتی مینو | D11: 0 | F11: -129130197154 | H11: 12200594159 | J11: =D11+F11+H11 -> -116929602995 | N11: 0 | P11: 70630580841 | S11: 8929273397 | U11: =P11+S11 -> 79559854238
A12: نشاسته و گلوکز آردینه | D12: 0 | F12: -2320196878 | H12: 227741357 | J12: =D12+F12+H12 -> -2092455521 | N12: 0 | P12: 674702652 | S12: 227741357 | U12: =P12+S12 -> 902444009
A13: پگاه‌آذربایجان‌غربی‌ | D13: 0 | F13: -1490826033 | H13: 4367235921 | J13: =D13+F13+H13 -> 2876409888 | N13: 0 | P13: 18146142027 | S13: 5103308533 | U13: =P13+S13 -> 23249450560
A14: گلوکوزان‌ | D14: 0 | F14: -1344324611 | H14: -50973013 | J14: =D14+F14+H14 -> -1395297624 | N14: 0 | P14: -262432592 | S14: -50973013 | U14: =P14+S14 -> -313405605
A15: صنعتی بهپاک | D15: 0 | F15: -23368727588 | H15: 21796344642 | J15: =D15+F15+H15 -> -1572382946 | N15: 0 | P15: 23724283632 | S15: 11934205066 | U15: =P15+S15 -> 35658488698
A16: ویتانا | D16: 0 | F16: 0 | H16: 3258566254 | J16: =D16+F16+H16 -> 3258566254 | N16: 0 | P16: 0 | S16: 3328900731 | U16: =P16+S16 -> 3328900731
A17: کارخانجات‌ قند قزوین‌ | D17: 0 | F17: 0 | H17: -214689820 | J17: =D17+F17+H17 -> -214689820 | N17: 0 | P17: 0 | S17: -3066927733 | U17: =P17+S17 -> -3066927733
A18: سیمرغ | D18: 0 | F18: 15092274523 | H18: 7075806456 | J18: =D18+F18+H18 -> 22168080979 | N18: 1091439182 | P18: 38706937706 | S18: 4631443873 | U18: =P18+S18 -> 43338381579
A19: سالمین‌ | D19: 0 | F19: -10403847524 | H19: 6819519064 | J19: =D19+F19+H19 -> -3584328460 | N19: 11104535693 | P19: 4578127915 | S19: 1554447919 | U19: =P19+S19 -> 6132575834
A20: تولیدی کوچین | D20: 0 | F20: 519092624 | H20: 228318486 | J20: =D20+F20+H20 -> 747411110 | N20: 0 | P20: 13476015776 | S20: 9989893537 | U20: =P20+S20 -> 23465909313
... A55: صنایع دامپروری و لبنی رضوی | D55: 0 | F55: 6572665767 | H55: 0 | J55: =D55+F55+H55 -> 6572665767 | N55: 0 | P55: 6572665767 | S55: 0 | U55: =P55+S55 -> 6572665767
A56: جمع | D56: =SUM(D9:D55) -> 2730007895 | F56: =SUM(F9:F55) -> 941506457724 | H56: =SUM(H9:H55) -> 194059293740 | J56: =SUM(J9:J55) -> 1138295759359 | N56: =SUM(N9:N55) -> 292907743517 | P56: =SUM(P9:Q55) -> 2578748740318 | S56: =SUM(S9:S55) -> 99018663386 | U56: =SUM(U9:U55) -> 2677767403704

Sheet درآمد سپرده بانکی
A1: صندوق سرمایه گذاری بخشی صنایع سورنا
A2: صورت وضعیت درآمدها سورنافود
A3: برای ماه منتهی به 1405/06/31
A5: =-2-2 -> -4 | B5: درآمد حاصل از سرمایه­گذاری در سپرده بانکی و گواهی سپرده
D6: طی ماه | H6: از ابتدای سال مالی
A7: نام سپرده بانکی | D7: سود سپرده بانکی و گواهی سپرده | F7: درصد سود به میانگین سپرده | H7: سود سپرده بانکی و گواهی سپرده | J7: درصد سود به میانگین سپرده
A8: سپرده کوتاه مدت بانک خاورمیانه نیایش | D8: ='سود سپرده بانکی'!G8 -> 16934 | H8: ='سود سپرده بانکی'!M8 -> 661365
A9: سپرده کوتاه مدت بانک ملی بورس اوراق بهادار | D9: ='سود سپرده بانکی'!G9 -> 12783 | H9: ='سود سپرده بانکی'!M9 -> 40851
A10: سپرده کوتاه مدت بانک دی حافظ | D10: ='سود سپرده بانکی'!G10 -> 51069 | H10: ='سود سپرده بانکی'!M10 -> 158911
A11: سپرده کوتاه مدت بانک ملت گلشهر | D11: ='سود سپرده بانکی'!G11 -> 37776 | H11: ='سود سپرده بانکی'!M11 -> 81048
A12: جمع | D12: =SUM(D8:D11) -> 118562 | H12: =SUM(H8:H11) -> 942175

Sheet سایر درآمدها
A1: صندوق سرمایه گذاری بخشی صنایع سورنا
A2: صورت وضعیت درآمدها سورنافود
A3: برای ماه منتهی به 1405/06/31
B5: سایر درآمدها
D6: طی ماه | F6: از ابتدای سال مالی
A7: سایر درآمدها | D7: مبلغ | F7: مبلغ
A8: سایر درآمدها | D8: 1979344439 | F8: 10433539042
A9: معین برای سایر درآمدهای تنزیل سود بانک | D9: 0 | F9: 0
A10: تعدیل کارمزد کارگزار | D10: 1781620439 | F10: 4524316589
A11: جمع | D11: =SUM(D8:D10) -> 3760964878 | F11: =SUM(F8:F10) -> 14957855631

Sheet درآمد سود سهام
A1: صندوق سرمایه گذاری بخشی صنایع سورنا
A2: صورت وضعیت درآمدها سورنافود
A3: برای ماه منتهی به 1405/06/31
A5: درآمد سود سهام
A6: نام سهام | C6: اطلاعات مجمع | I6: طی ماه | O6: از ابتدای سال مالی
C7: تاریخ تشکیل مجمع | E7: تعداد سهام متعلقه در زمان مجمع | G7: سود متعلق به هر سهم | I7: جمع درآمد سود سهام | K7: هزینه تنزیل | M7: خالص درآمد سود سهام | O7: جمع درآمد سود سهام | Q7: هزینه تنزیل | S7: خالص درآمد سود سهام
A8: توسعه‌ صنایع‌ بهشهر | C8: 1405/04/11 | E8: 126285154 | G8: 480 | I8: 0 | K8: 0 | M8: =I8+K8 -> 0 | O8: =E8*G8 -> 60616873920 | Q8: -6020553178 | S8: =O8+Q8 -> 54596320742
A9: سالمین‌ | C9: 1405/04/27 | E9: 35573630 | G9: 350 | I9: 0 | K9: 0 | M9: =I9+K9 -> 0 | O9: =E9*G9 -> 12450770500 | Q9: -1346234807 | S9: =O9+Q9 -> 11104535693
A10: شهد ایران ‌ | C10: 1405/04/30 | E10: 4759690 | G10: 1200 | I10: 0 | K10: 0 | M10: =I10+K10 -> 0 | O10: =E10*G10 -> 5711628000 | Q10: 0 | S10: =O10+Q10 -> 5711628000
A11: تولیدی‌مهرام‌ | C11: 1405/04/29 | E11: 15527440 | G11: 850 | I11: 0 | K11: 0 | M11: =I11+K11 -> 0 | O11: =E11*G11 -> 13198324000 | Q11: -1441427697 | S11: =O11+Q11 -> 11756896303
A12: بهنوش‌ ایران‌ | C12: 1405/05/31 | E12: 1894800 | G12: 1650 | I12: =E12*G12 -> 3126420000 | K12: -396412105 | M12: =I12+K12 -> 2730007895 | O12: =E12*G12 -> 3126420000 | Q12: -396412105 | S12: =O12+Q12 -> 2730007895
A13: اقتصادی و خودکفایی آزادگان | C13: 1405/04/09 | E13: 5999986 | G13: 750 | I13: 0 | K13: 0 | M13: =I13+K13 -> 0 | O13: =E13*G13 -> 4499989500 | Q13: -441938438 | S13: =O13+Q13 -> 4058051062
A14: پاکدیس | C14: 1405/04/10 | E14: 9350000 | G14: 5800 | I14: 0 | K14: 0 | M14: =I14+K14 -> 0 | O14: =E14*G14 -> 54230000000 | Q14: -5356049383 | S14: =O14+Q14 -> 48873950617
A15: فروشگاههای زنجیره ای افق کوروش | C15: 1405/04/10 | E15: 2526000 | G15: 3650 | I15: 0 | K15: 0 | M15: =I15+K15 -> 0 | O15: =E15*G15 -> 9219900000 | Q15: 0 | S15: =O15+Q15 -> 9219900000
A16: سیمرغ | C16: 1405/04/11 | E16: 28852298 | G16: 42 | I16: 0 | K16: 0 | M16: =I16+K16 -> 0 | O16: =E16*G16 -> 1211796516 | Q16: -120357334 | S16: =O16+Q16 -> 1091439182
A17: صنعتی زر ماکارون | C17: 1405/04/31 | E17: 158068365 | G17: 250 | I17: 0 | K17: 0 | M17: =I17+K17 -> 0 | O17: =E17*G17 -> 39517091250 | Q17: -4358679778 | S17: =O17+Q17 -> 35158411472
A18: صنعت غذایی کورش | C18: 1405/04/21 | E18: 50100000 | G18: 1600 | I18: 0 | K18: 0 | M18: =I18+K18 -> 0 | O18: =E18*G18 -> 80160000000 | Q18: 0 | S18: =O18+Q18 -> 80160000000
A19: بهار رز عالیس چناران | C19: 1405/04/28 | E19: 31781945 | G19: 424 | I19: 0 | K19: 0 | M19: =I19+K19 -> 0 | O19: =E19*G19 -> 13475544680 | Q19: -1464375429 | S19: =O19+Q19 -> 12011169251
A20: فرآورده های دامی ولبنی دالاهو | C20: 1405/04/27 | E20: 12642641 | G20: 1300 | I20: 0 | K20: 0 | M20: =I20+K20 -> 0 | O20: =E20*G20 -> 16435433300 | Q20: 0 | S20: =O20+Q20 -> 16435433300
A21: جمع | I21: 3126420000 | K21: 396412105 | M21: 2730007895 | O21: 313853771666 | Q21: =SUM(Q8:Q20) -> -20946028149 | S21: =SUM(S8:S20) -> 292907743517

Sheet سود سپرده بانکی
A1: صندوق سرمایه گذاری بخشی صنایع سورنا
A2: صورت وضعیت درآمدها سورنافود
A3: برای ماه منتهی به 1405/06/31
A5: سود سپرده بانکی
A6: شرح | C6: طی ماه | I6: از ابتدای سال مالی
C7: درآمد سود | E7: هزینه تنزیل | G7: خالص درآمد | I7: درآمد سود | K7: هزینه تنزیل | M7: خالص درآمد
A8: سپرده کوتاه مدت بانک خاورمیانه نیایش | C8: 16934 | E8: 0 | G8: =C8+E8 -> 16934 | I8: 661365 | K8: 0 | M8: 661365
A9: سپرده کوتاه مدت بانک ملی بورس اوراق بهادار | C9: 12783 | E9: 0 | G9: =C9+E9 -> 12783 | I9: 40851 | K9: 0 | M9: 40851
A10: سپرده کوتاه مدت بانک دی حافظ | C10: 51069 | E10: 0 | G10: =C10+E10 -> 51069 | I10: 158911 | K10: 0 | M10: 158911
A11: سپرده کوتاه مدت بانک ملت گلشهر | C11: 37776 | E11: 0 | G11: =C11+E11 -> 37776 | I11: 81048 | K11: 0 | M11: 81048
A12: جمع | C12: =SUM(C8:C11) -> 118562 | E12: =SUM(E8:E11) -> 0 | G12: =SUM(G8:G11) -> 118562 | I12: =SUM(I8:I11) -> 942175 | K12: =SUM(K8:K11) -> 0 | M12: =SUM(M8:M11) -> 942175

Sheet درآمد ناشی از فروش
A1: صندوق سرمایه گذاری بخشی صنایع سورنا
A2: صورت وضعیت درآمدها سورنافود
A3: برای ماه منتهی به 1405/06/31
A5: سود(زیان) حاصل از فروش اوراق بهادار
A6: شرح | C6: طی ماه | K6: از ابتدای سال مالی
C7: تعداد | E7: خالص بهای فروش | G7: ارزش دفتری | I7: سود و زیان ناشی از فروش | K7: تعداد | M7: خالص بهای فروش | O7: ارزش دفتری | Q7: سود و زیان ناشی از فروش
A8: صنعتی زر ماکارون | C8: 7137938 | E8: 31788772888 | G8: -25628929065 | I8: =E8+G8 -> 6159843823 | K8: 21265032 | M8: 74815594227 | O8: -76353489888 | Q8: =M8+O8 -> -1537895661
A9: توسعه نیشکر و صنایع جانبی | C9: 1170891 | E9: 70927806240 | G9: -64549223427 | I9: =E9+G9 -> 6378582813 | K9: 2266552 | M9: 127678219605 | O9: -125225828493 | Q9: =M9+O9 -> 2452391112
A10: صنعتی مینو | C10: 20887668 | E10: 119305221237 | G10: -107104627078 | I10: =E10+G10 -> 12200594159 | K10: 51586174 | M10: 272738820078 | O10: -263809546681 | Q10: =M10+O10 -> 8929273397
A11: نشاسته و گلوکز آردینه | C11: 554204 | E11: 16772824075 | G11: -16545082718 | I11: =E11+G11 -> 227741357 | K11: 554204 | M11: 16772824075 | O11: -16545082718 | Q11: =M11+O11 -> 227741357
A12: پگاه‌آذربایجان‌غربی‌ | C12: 1038695 | E12: 19311067723 | G12: -14943831802 | I12: =E12+G12 -> 4367235921 | K12: 2348353 | M12: 38889895238 | O12: -33786586705 | Q12: =M12+O12 -> 5103308533
A13: گلوکوزان‌ | C13: 4998674 | E13: 33886919974 | G13: -33937892987 | I13: =E13+G13 -> -50973013 | K13: 4998674 | M13: 33886919974 | O13: -33937892987 | Q13: =M13+O13 -> -50973013
A14: صنعتی بهپاک | C14: 13453614 | E14: 214030837857 | G14: -192234493215 | I14: =E14+G14 -> 21796344642 | K14: 37243046 | M14: 544088469076 | O14: -532154264010 | Q14: =M14+O14 -> 11934205066
A15: ویتانا | C15: 2984025 | E15: 15907780911 | G15: -12649214657 | I15: =E15+G15 -> 3258566254 | K15: 3278160 | M15: 17224947015 | O15: -13896046284 | Q15: =M15+O15 -> 3328900731
A16: کارخانجات‌ قند قزوین‌ | C16: 475306 | E16: 5315251146 | G16: -5529940966 | I16: =E16+G16 -> -214689820 | K16: 2394038 | M16: 22339731338 | O16: -25406659071 | Q16: =M16+O16 -> -3066927733
A17: سیمرغ | C17: 3637566 | E17: 19223476064 | G17: -12147669608 | I17: =E17+G17 -> 7075806456 | K17: 14037566 | M17: 50479833868 | O17: -45848389995 | Q17: =M17+O17 -> 4631443873
A18: سالمین‌ | C18: 12505372 | E18: 106213250024 | G18: -99393730960 | I18: =E18+G18 -> 6819519064 | K18: 29953199 | M18: 239624950593 | O18: -238070502674 | Q18: =M18+O18 -> 1554447919
A19: تولیدی کوچین | C19: 63295 | E19: 1074772893 | G19: -846454407 | I19: =E19+G19 -> 228318486 | K19: 6254883 | M19: 82504115633 | O19: -72514222096 | Q19: =M19+O19 -> 9989893537
... A53: ح.فرآورده های دامی ولبنی دالاهو | C53: 0 | E53: 0 | G53: 0 | I53: =E53+G53 -> 0 | K53: 35349755 | M53: 144863295990 | O53: -183800867303 | Q53: =M53+O53 -> -38937571313
A54: جمع | C54: =SUM(C8:C53) -> 138294053 | E54: =SUM(E8:E53) -> 1431012426961 | G54: =SUM(G8:G53) -> -1236953133221 | I54: =SUM(I8:I53) -> 194059293740 | K54: =SUM(K8:K53) -> 523560298 | M54: =SUM(M8:M53) -> 4114818108963 | O54: =SUM(O8:O53) -> -4015799445577 | Q54: =SUM(Q8:Q53) -> 99018663386

Sheet درآمد ناشی از تغییر قیمت اوراق
A1: صندوق سرمایه گذاری بخشی صنایع سورنا
A2: صورت وضعیت درآمدها سورنافود
A3: برای ماه منتهی به 1405/06/31
A5: درآمد ناشی از تغییر قیمت اوراق بهادار
A6: شرح | C6: طی ماه | K6: از ابتدای سال مالی
C7: تعداد | E7: خالص ارزش فروش | G7: ارزش دفتری | I7: سود و زیان ناشی از تغییر قیمت | K7: تعداد | M7: خالص ارزش فروش | O7: ارزش دفتری | Q7: سود و زیان ناشی از تغییر قیمت
A8: توسعه‌ صنایع‌ بهشهر(هلدینگ | C8: 171307623 | E8: 1142288549298 | G8: -868878646485 | I8: =E8+G8 -> 273409902813 | K8: 171307623 | M8: 1142288549298 | O8: -834535881164 | Q8: =M8+O8 -> 307752668134
A9: سالمین‌ | C9: 10029984 | E9: 84297270334 | G9: -94701117859 | I9: =E9+G9 -> -10403847525 | K9: 10029984 | M9: 84297270334 | O9: -79719142419 | Q9: =M9+O9 -> 4578127915
A10: گلوکوزان‌ | C10: 644284 | E10: 4110722692 | G10: -5455047304 | I10: =E10+G10 -> -1344324612 | K10: 644284 | M10: 4110722692 | O10: -4373155285 | Q10: =M10+O10 -> -262432593
A11: صنعتی‌ بهشهر | C11: 121577963 | E11: 2142533816545 | G11: -1717818406843 | I11: =E11+G11 -> 424715409702 | K11: 121577963 | M11: 2142533816545 | O11: -1110183451329 | Q11: =M11+O11 -> 1032350365216
A12: دشت‌ مرغاب‌ | C12: 21501125 | E12: 79579256462 | G12: -84667908826 | I12: =E12+G12 -> -5088652364 | K12: 21501125 | M12: 79579256462 | O12: -71464314901 | Q12: =M12+O12 -> 8114941561
A13: پارس‌ مینو | C13: 72621866 | E13: 143688634957 | G13: -128055976264 | I13: =E13+G13 -> 15632658693 | K13: 72621866 | M13: 143688634957 | O13: -120863243150 | Q13: =M13+O13 -> 22825391807
A14: کشت‌ و صنعت‌ چین‌ چین | C14: 8898529 | E14: 40087034903 | G14: -44215511241 | I14: =E14+G14 -> -4128476338 | K14: 8898529 | M14: 40087034903 | O14: -33066938075 | Q14: =M14+O14 -> 7020096828
A15: پگاه‌آذربایجان‌غربی‌ | C15: 4849769 | E15: 87920360818 | G15: -89411186852 | I15: =E15+G15 -> -1490826034 | K15: 4849769 | M15: 87920360818 | O15: -69774218791 | Q15: =M15+O15 -> 18146142027
A16: تولیدی‌مهرام‌ | C16: 16106107 | E16: 329221099933 | G16: -304277971184 | I16: =E16+G16 -> 24943128749 | K16: 16106107 | M16: 329221099933 | O16: -249723369457 | Q16: =M16+O16 -> 79497730476
A17: بهنوش‌ ایران‌ | C17: 1434800 | E17: 118310217567 | G17: -101006080559 | I17: =E17+G17 -> 17304137008 | K17: 1434800 | M17: 118310217567 | O17: -136804197476 | Q17: =M17+O17 -> -18493979909
A18: شیرپاستوریزه‌پگاه‌اصفهان‌ | C18: 4217474 | E18: 100353252765 | G18: -83959614588 | I18: =E18+G18 -> 16393638177 | K18: 4217474 | M18: 100353252765 | O18: -71469926719 | Q18: =M18+O18 -> 28883326046
A19: اقتصادی و خودکفایی آزادگان | C19: 4432731 | E19: 62062355110 | G19: -64051516785 | I19: =E19+G19 -> -1989161675 | K19: 4432731 | M19: 62062355110 | O19: -45090780247 | Q19: =M19+O19 -> 16971574863
A20: پاکدیس | C20: 19777525 | E20: 228823357572 | G20: -269680577277 | I20: =E20+G20 -> -40857219705 | K20: 19777525 | M20: 228823357572 | O20: -213482677754 | Q20: =M20+O20 -> 15340679818
A21: صنعتی بهپاک | C21: 17976768 | E21: 280588713286 | G21: -303957440875 | I21: =E21+G21 -> -23368727589 | K21: 17976768 | M21: 280588713286 | O21: -256864429654 | Q21: =M21+O21 -> 23724283632 | U21: s
A22: شیر پاستوریزه پگاه گلپایگان | C22: 14421546 | E22: 325554034474 | G22: -297579225328 | I22: =E22+G22 -> 27974809146 | K22: 14421546 | M22: 325554034474 | O22: -198558904760 | Q22: =M22+O22 -> 126995129714
A23: سیمرغ | C23: 18799102 | E23: 102595817178 | G23: -87503542655 | I23: =E23+G23 -> 15092274523 | K23: 18799102 | M23: 102595817178 | O23: -63888879472 | Q23: =M23+O23 -> 38706937706
A24: فروشگاههای زنجیره ای افق کوروش | C24: 1909344 | E24: 131446291403 | G24: -142122506741 | I24: =E24+G24 -> -10676215338 | K24: 1909344 | M24: 131446291403 | O24: -119595508684 | Q24: =M24+O24 -> 11850782719
A25: صنعتی زر ماکارون | C25: 143452736 | E25: 681827024019 | G25: -575066035456 | I25: =E25+G25 -> 106760988563 | K25: 143452736 | M25: 681827024019 | O25: -515070318430 | Q25: =M25+O25 -> 166756705589
A26: صنعت غذایی کورش | C26: 67231219 | E26: 1634432281089 | G26: -1430594780126 | I26: =E26+G26 -> 203837500963 | K26: 67231219 | M26: 1634432281089 | O26: -1223076222303 | Q26: =M26+O26 -> 411356058786
A27: سپید ماکیان | C27: 3789044 | E27: 160955098273 | G27: -192546728746 | I27: =E27+G27 -> -31591630473 | K27: 3789044 | M27: 160955098273 | O27: -113575869320 | Q27: =M27+O27 -> 47379228953
A28: صنعتی مینو | C28: 237588881 | E28: 1289565184655 | G28: -1418695381810 | I28: =E28+G28 -> -129130197155 | K28: 237588881 | M28: 1289565184655 | O28: -1218934603814 | Q28: =M28+O28 -> 70630580841
A29: بهار رز عالیس چناران | C29: 25642820 | E29: 149105361868 | G29: -141463605256 | I29: =E29+G29 -> 7641756612 | K29: 25642820 | M29: 149105361868 | O29: -132519704080 | Q29: =M29+O29 -> 16585657788
A30: نشاسته و گلوکز آردینه | C30: 704312 | E30: 22084218316 | G30: -24404415195 | I30: =E30+G30 -> -2320196879 | K30: 704312 | M30: 22084218316 | O30: -21409515664 | Q30: =M30+O30 -> 674702652
A31: توسعه نیشکر و صنایع جانبی | C31: 484332 | E31: 28989075014 | G31: -35786710803 | I31: =E31+G31 -> -6797635789 | K31: 484332 | M31: 28989075014 | O31: -26700396940 | Q31: =M31+O31 -> 2288678074
A32: تولیدی کوچین | C32: 6015595 | E32: 94311692320 | G32: -93792599696 | I32: =E32+G32 -> 519092624 | K32: 6015595 | M32: 94311692320 | O32: -80835676544 | Q32: =M32+O32 -> 13476015776
A33: فرآورده های دامی ولبنی دالاهو | C33: 44688550 | E33: 380907293498 | G33: -313715268969 | I33: =E33+G33 -> 67192024529 | K33: 44688550 | M33: 380907293498 | O33: -267665540597 | Q33: =M33+O33 -> 113241752901
... A36: صنایع دامپروری و لبنی رضوی | C36: 4010000 | E36: 45281050726 | G36: -38708384958 | I36: =E36+G36 -> 6572665768 | K36: 4010000 | M36: 45281050726 | O36: -38708384958 | Q36: =M36+O36 -> 6572665768
A37: جمع | C37: =SUM(C8:C36) -> 1045565770 | E37: =SUM(E8:E36) -> 9909729141941 | G37: =SUM(G8:G36) -> -8968222684229 | I37: =SUM(I8:I36) -> 941506457712 | K37: =SUM(K8:K36) -> 1045565770 | M37: =SUM(M8:M36) -> 9909729141941 | O37: =SUM(O8:O36) -> -7330980401624 | Q37: =SUM(Q8:Q36) -> 2578748740317
