Workbook

Sheet صورت وضعیت
A1: صندوق سرمایه گذاری بخشی صنایع سورنا
A2: صورت وضعیت پرتفوی امگا
A3: برای ماه منتهی به 1405/06/31

Sheet سهام
A1: صندوق سرمایه گذاری بخشی صنایع سورنا
A2: صورت وضعیت پرتفوی امگا
A3: برای ماه منتهی به 1405/06/31
A4: -1 | B4: سرمایه گذاری ها
A5: -1-1 | C5: سرمایه گذاری در سهام و حق تقدم سهام
F6: 1405/05/31 | L6: تغییرات طی دوره | T6: 1405/06/31
E7: تعداد | H7: بهای تمام شده | J7: خالص ارزش فروش | L7: خرید طی دوره | P7: فروش طی دوره | T7: تعداد | V7: قیمت بازار هر سهم | X7: بهای تمام شده | Z7: خالص ارزش فروش | AB7: درصد به کل دارایی ها
A8: نام شرکت | L8: تعداد | N8: بهای تمام شده | P8: تعداد | R8: مبلغ فروش
A9: ایران‌ ترانسفو | E9: 15095883 | H9: 42383014770 | J9: 4.6585287e+10 | L9: 7500000 | N9: 24947298203 | P9: -10134757 | R9: 32966486474 | T9: 12461126 | V9: 3550 | X9: 37796730932 | Z9: 4.3895045e+10 | AB9: =(Z9/3540636297020)*100 -> 1.2397502
A10: برق و انرژی پیوندگستر پارس | E10: 10825759 | H10: 158821260664 | J10: 2.0678496e+11 | L10: 139706 | N10: 2494632582 | P10: -2893713 | R10: 54449532945 | T10: 8071752 | V10: 17880 | X10: 118792739388 | Z10: 1.4320731e+11 | AB10: =(Z10/3540636297020)*100 -> 4.0446772
A11: بورس انرژی ایران | E11: 8109833 | H11: 134675416708 | J11: 1.8130215e+11 | L11: 1500000 | N11: 36854920494 | P11: -9609833 | R11: 230598714869 | T11: 0 | X11: 0 | Z11: 0 | AB11: =(Z11/3540636297020)*100 -> 0
A12: بورس کالای ایران | E12: 7871433 | H12: 65527677819 | J12: 7.2013611e+10 | L12: 0 | N12: 0 | P12: -6008096 | R12: 53988566261 | T12: 1863337 | V12: 10850 | X12: 15511806625 | Z12: 2.0060927e+10 | AB12: =(Z12/3540636297020)*100 -> 0.56659102
A13: توسعه مسیر برق گیلان | E13: 5525858 | H13: 107249687159 | J13: 1.4645475e+11 | L13: 613669 | N13: 17414602462 | P13: -763363 | R13: 20622750781 | T13: 5376164 | V13: 26100 | X13: 109719915364 | Z13: 1.3923322e+11 | AB13: =(Z13/3540636297020)*100 -> 3.9324351
A14: توسعه مولد نیروگاهی جهرم | E14: 13206504 | H14: 32367383728 | J14: 4.2851446e+10 | L14: 32328626 | N14: 107329552722 | P14: -1620621 | R14: 5285699519 | T14: 43914509 | V14: 3040 | X14: 135207956716 | Z14: 1.3246815e+11 | AB14: =(Z14/3540636297020)*100 -> 3.7413657
A15: تولید انرژی برق شمس پاسارگاد | E15: 6511121 | H15: 38644604325 | J15: 7.5655851e+10 | L15: 0 | N15: 0 | P15: -510908 | R15: 5949693774 | T15: 6000213 | V15: 11510 | X15: 35612278939 | Z15: 6.8528599e+10 | AB15: =(Z15/3540636297020)*100 -> 1.9354882
A16: تولید برق عسلویه مپنا | E16: 27980862 | H16: 147232976970 | J16: 1.8574497e+11 | L16: 702663 | N16: 6375663948 | P16: -9583525 | R16: 73266824198 | T16: 19100000 | V16: 8180 | X16: 103060402661 | Z16: 155030280260 | AB16: =(Z16/3540636297020)*100 -> 4.3785994
A17: تولید نیروی برق دماوند | E17: 31196866 | H17: 299565107133 | J17: 4.1233011e+11 | L17: 0 | N17: 0 | P17: -5217000 | R17: 69345943254 | T17: 25979866 | V17: 13060 | X17: 249469332647 | Z17: 3.3667428e+11 | AB17: =(Z17/3540636297020)*100 -> 9.5088638
A18: سرمایه گذاری نیروگاهی ایران | E18: 500000 | H18: 11260694702 | J18: 13564330900 | L18: 597506 | N18: 20336543366 | P18: 0 | R18: 0 | T18: 1097506 | V18: 45790 | X18: 31597238068 | Z18: 4.986633e+10 | AB18: =(Z18/3540636297020)*100 -> 1.4084002
A19: سرمایه‌گذاری‌نیرو | E19: 24835592 | H19: 70648721485 | J19: 6.3728383e+10 | L19: 1800000 | N19: 6870253683 | P19: 0 | R19: 0 | T19: 26635592 | V19: 3820 | X19: 77518975168 | Z19: 1.0096145e+11 | AB19: =(Z19/3540636297020)*100 -> 2.8515058
A20: گروه مپنا (سهامی عام) | E20: 14455410 | H20: 272672970235 | J20: 4.2199076e+11 | L20: 13099002 | N20: 2709867473 | P20: -1516412 | R20: 46858074336 | T20: 26038000 | V20: 16750 | X20: 246778698212 | Z20: 432765164855 | AB20: =(Z20/3540636297020)*100 -> 12.222808
A21: مبین انرژی خلیج فارس | E21: 1102489 | H21: 16101748782 | J21: 1.0154199e+10 | L21: 7696541 | N21: 96481066712 | P21: 0 | R21: 0 | T21: 8799030 | V21: 12080 | X21: 112582815494 | Z21: 1.0547064e+11 | AB21: =(Z21/3540636297020)*100 -> 2.9788613
A22: مدیریت انرژی امید تابان هور | E22: 74252557 | H22: 154446757882 | J22: 2.0128989e+11 | L22: 40811068 | N22: 115107008667 | P22: -30004860 | R22: 71584579269 | T22: 85058765 | V22: 2397 | X22: 199266661296 | Z22: 2.0230982e+11 | AB22: =(Z22/3540636297020)*100 -> 5.7139397
A23: مدیریت نیروگاهی ایرانیان مپنا | E23: 28592776 | H23: 618471850565 | J23: 1.0812475e+12 | L23: 3290 | N23: 139831837 | P23: -3567175 | R23: 148727365334 | T23: 25028891 | V23: 41000 | X23: 541448622434 | Z23: 1.0182521e+12 | AB23: =(Z23/3540636297020)*100 -> 28.759015
... A29: فجر انرژی خلیج فارس | E29: 0 | H29: 0 | J29: 0 | L29: 100000 | N29: 1217234087 | P29: 0 | R29: 0 | T29: 100000 | V29: 10700 | X29: 1217234087 | Z29: 1061728900 | AB29: =(Z29/3540636297020)*100 -> 0.029986952
A30: صنعت غذایی کورش | E30: 0 | H30: 0 | J30: 0 | L30: 100000 | N30: 2132666318 | P30: -100000 | R30: 2173071300 | T30: 0 | X30: 0 | Z30: 0 | AB30: =(Z30/3540636297020)*100 -> 0
A31: جمع | F31: =SUM(E9:F30) -> 314355949 | H31: =SUM(H9:H30) -> 2425718552323 | J31: =SUM(J9:J30) -> 3.5288987e+12 | L31: =SUM(L9:L30) -> 119059433 | N31: =SUM(N9:N30) -> 671249965293 | P31: =SUM(P9:P30) -> -97907934 | R31: =SUM(R9:R30) -> 972317774864 | T31: =SUM(T9:T30) -> 335507448 | X31: =SUM(X9:X30) -> 2395379315653 | Z31: =SUM(Z9:Z30) -> 3.4056641e+12 | AB31: =SUM(AB9:AB30) -> 96.187913

Sheet سپرده
A1: صندوق سرمایه گذاری بخشی صنایع سورنا
A2: صورت وضعیت پرتفوی امگا
A3: برای ماه منتهی به 1405/06/31
A5: -4-1 | B5: سرمایه‌گذاری در سپرده‌ بانکی
D6: 1405/05/31 | F6: تغییرات طی دوره | J6: 1405/06/31
D7: مبلغ | F7: افزایش | H7: کاهش | J7: مبلغ | L7: درصد به کل دارایی ها
A8: سپرده های بانکی
A9: سپرده کوتاه مدت بانک خاورمیانه نیایش | D9: 1327580603 | F9: 323561869148 | H9: -291917375124 | J9: =D9+F9+H9 -> 32972074627 | L9: =(J9/3540636297020)*100 -> 0.93124715
A10: سپرده کوتاه مدت بانک گردشگری نیاوران | D10: 2450902 | F10: 10363 | H10: 0 | J10: =D10+F10+H10 -> 2461265 | L10: =(J10/3540636297020)*100 -> 6.9514765e-05
A11: سپرده کوتاه مدت بانک ملی بورس اوراق بهادار | D11: 5534254 | F11: 23247 | H11: -60000 | J11: =D11+F11+H11 -> 5497501 | L11: =(J11/3540636297020)*100 -> 0.00015526873
A12: جمع | D12: =SUM(D9:D11) -> 1335565759 | F12: =SUM(F9:F11) -> 323561902758 | H12: =SUM(H9:H11) -> -291917435124 | J12: =SUM(J9:J11) -> 32980033393 | L12: =SUM(L9:L11) -> 0.93147193

Sheet درآمد
A1: صندوق سرمایه گذاری بخشی صنایع سورنا
A2: صورت وضعیت درآمدها امگا
A3: برای ماه منتهی به 1405/06/31
A5: -2 | B5: درآمد حاصل از سرمایه گذاری ها
D6: یادداشت | F6: مبلغ | H6: درصد از کل درآمدها | J6: درصد از کل دارایی ها
A7: شرح
A8: درآمد حاصل از سرمایه گذاری در سهام و حق تقدم سهام | D8: 1-2 | F8: ='درآمد سرمایه گذاری در سهام'!J39 -> 223553412421 | H8: =(F8/F11)*100 -> 99.501014 | J8: =(F8/3540636297020)*100 -> 6.3139333
A9: درآمد حاصل از سرمایه گذاری در سپرده بانکی و گواهی سپرده | D9: 1-2 | F9: ='درآمد سپرده بانکی'!D11 -> 49102 | H9: =F9/F11 -> 2.1854727e-07 | J9: =(F9/3540636297020)*100 -> 1.3868129e-06
A10: سایر درآمدها | D10: 5-2 | F10: ='سایر درآمدها'!D11 -> 1121045280 | H10: =(F10/F11)*100 -> 0.49896417 | J10: =(F10/3540636297020)*100 -> 0.031662255
A11: جمع | F11: =SUM(F8:F10) -> 224674506803 | H11: =SUM(H8:H10) -> 99.999978 | J11: =SUM(J8:J10) -> 6.3455969

Sheet درآمد سرمایه گذاری در سهام
A1: صندوق سرمایه گذاری بخشی صنایع سورنا
A2: صورت وضعیت درآمدها امگا
A3: برای ماه منتهی به 1405/06/31
A5: -1-2 | B5: درآمد حاصل از سرمایه­گذاری در سهام و حق تقدم سهام
D6: طی ماه | N6: از ابتدای سال مالی
D7: درآمد سود سهام | F7: درآمد تغییر ارزش | H7: درآمد فروش | J7: جمع | N7: درآمد سود سهام | P7: درآمد تغییر ارزش | S7: درآمد فروش | U7: جمع
A8: سهام | J8: مبلغ | L8: درصد از کل درآمدها | U8: مبلغ | W8: درصد از کل درآمدها
A9: توسعه مسیر برق گیلان | D9: 0 | F9: -9546903918 | H9: 5533522750 | J9: =D9+F9+H9 -> -4013381168 | N9: 0 | P9: 28589533750 | S9: 6930068774 | U9: =N9+P9+S9 -> 35519602524
A10: ایران‌ ترانسفو | D10: 0 | F10: 3226980999 | H10: 2101966009 | J10: =D10+F10+H10 -> 5328947008 | N10: 10146111467 | P10: 4934608852 | S10: -4898334067 | U10: =N10+P10+S10 -> 10182386252
A11: بورس کالای ایران | D11: 0 | F11: -1936811868 | H11: 3972695067 | J11: =D11+F11+H11 -> 2035883199 | N11: 0 | P11: 4549120819 | S11: 3093323326 | U11: =N11+P11+S11 -> 7642444145
A12: نیروگاه زاگرس کوثر | D12: 0 | F12: -6101936684 | H12: 19127274629 | J12: =D12+F12+H12 -> 13025337945 | N12: 5075880592 | P12: 19050984664 | S12: 17660965306 | U12: =N12+P12+S12 -> 41787830562
A13: صنعت غذایی کورش | D13: 0 | F13: 0 | H13: 40404982 | J13: =D13+F13+H13 -> 40404982 | N13: 0 | P13: 0 | S13: 40404982 | U13: =N13+P13+S13 -> 40404982
A14: گروه مپنا | D14: 11181023529 | F14: 39215159367 | H14: 15707450344 | J14: =D14+F14+H14 -> 66103633240 | N14: 11181023529 | P14: 164258230638 | S14: 18667081035 | U14: =N14+P14+S14 -> 194106335202
A15: برق و انرژی پیوندگستر پارس | D15: 0 | F15: -19493401457 | H15: 7870650618 | J15: =D15+F15+H15 -> -11622750839 | N15: 20054102161 | P15: 13177845265 | S15: 4409079626 | U15: =N15+P15+S15 -> 37641027052
A16: تولید انرژی برق شمس پاسارگاد | D16: 0 | F16: -3358985608 | H16: 2181426956 | J16: =D16+F16+H16 -> -1177558652 | N16: 0 | P16: 24273266117 | S16: 11016318196 | U16: =N16+P16+S16 -> 35289584313
A17: آلومینیوم‌ایران‌ | D17: 0 | F17: -5642049154 | H17: -67766854 | J17: =D17+F17+H17 -> -5709816008 | N17: 0 | P17: -5642049154 | S17: -67766854 | U17: =N17+P17+S17 -> -5709816008
A18: تولید برق عسلویه مپنا | D18: 0 | F18: 11321485874 | H18: 24854981759 | J18: =D18+F18+H18 -> 36176467633 | N18: 0 | P18: 55467152080 | S18: 24343849117 | U18: =N18+P18+S18 -> 79811001197
A19: بورس انرژی ایران | D19: 0 | F19: 0 | H19: 46980804142 | J19: =D19+F19+H19 -> 46980804142 | N19: 439505472 | P19: 0 | S19: 48085510218 | U19: =N19+P19+S19 -> 48525015690
A20: مولد نیروگاهی تجارت فارس | D20: 0 | F20: -34795947226 | H20: 28863706352 | J20: =D20+F20+H20 -> -5932240874 | N20: 0 | P20: 46740669761 | S20: 34961899032 | U20: =N20+P20+S20 -> 81702568793
... A36: فجر انرژی خلیج فارس | D36: 0 | F36: -155505187 | H36: 0 | J36: =D36+F36+H36 -> -155505187 | N36: 0 | P36: -155505187 | S36: 0 | U36: =N36+P36+S36 -> -155505187
A37: صندوق س.بخشی صنایع سورنا3 | D37: 0 | F37: 0 | H37: 0 | J37: 0 | L37: 0 | N37: 0 | P37: 0 | S37: {='درآمد ناشی از فروش'!Q26:R26} -> -2656165 | T37: 0 | U37: {=N37+P37+_xlfn.ANCHORARRAY(S37)} -> -2656165 | V37: 0
A38: تولید نیروی برق سبز منجیل | D38: 0 | F38: 15879673699 | H38: 0 | J38: =D38+F38+H38 -> 15879673699 | N38: 0 | P38: 15879673695 | S38: 0 | U38: =N38+P38+S38 -> 15879673695
A39: جمع | D39: =SUM(D9:D38) -> 11181023529 | F39: =SUM(F9:F38) -> -19925927587 | H39: =SUM(H9:H38) -> 232298316480 | J39: 223553412421 | N39: =SUM(N9:N38) -> 100038472835 | Q39: =SUM(P9:Q38) -> 843317783025 | S39: =SUM(S9:S38) -> 249332147654 | U39: =SUM(U9:U38) -> 1192688403514

Sheet درآمد سپرده بانکی
A1: صندوق سرمایه گذاری بخشی صنایع سورنا
A2: صورت وضعیت درآمدها امگا
A3: برای ماه منتهی به 1405/06/31
A5: -4-2 | B5: درآمد حاصل از سرمایه­گذاری در سپرده بانکی و گواهی سپرده
D6: طی ماه | H6: از ابتدای سال مالی
A7: نام سپرده بانکی | D7: سود سپرده بانکی و گواهی سپرده | F7: درصد سود به میانگین سپرده | H7: سود سپرده بانکی و گواهی سپرده | J7: درصد سود به میانگین سپرده
A8: سپرده کوتاه مدت بانک گردشگری نیاوران | D8: ='سود سپرده بانکی'!G8 -> 10363 | H8: ='سود سپرده بانکی'!M8 -> 31003
A9: سپرده کوتاه مدت بانک خاورمیانه نیایش | D9: ='سود سپرده بانکی'!G9 -> 15492 | H9: ='سود سپرده بانکی'!M9 -> 53994
A10: سپرده کوتاه مدت بانک ملی بورس اوراق بهادار | D10: ='سود سپرده بانکی'!G10 -> 23247 | H10: ='سود سپرده بانکی'!M10 -> 93059
A11: جمع | D11: =SUM(D8:D10) -> 49102 | H11: =SUM(H8:H10) -> 178056

Sheet سایر درآمدها
A1: صندوق سرمایه گذاری بخشی صنایع سورنا
A2: صورت وضعیت درآمدها امگا
A3: برای ماه منتهی به 1405/06/31
A5: -5-2 | B5: سایر درآمدها
D6: طی ماه | F6: از ابتدای سال مالی
A7: سایر درآمدها | D7: مبلغ | F7: مبلغ
A8: سایر درآمدها | D8: 8998138 | F8: 12222355
A9: معین برای سایر درآمدهای تنزیل سود بانک | D9: 0 | F9: 0
A10: تعدیل کارمزد کارگزار | D10: 1112047142 | F10: 1788610613
A11: جمع | D11: =SUM(D8:D10) -> 1121045280 | F11: =SUM(F8:F10) -> 1800832968

Sheet درآمد سود سهام
A1: صندوق سرمایه گذاری بخشی صنایع سورنا
A2: صورت وضعیت درآمدها امگا
A3: برای ماه منتهی به 1405/06/31
A5: درآمد سود سهام
A6: نام سهام | C6: اطلاعات مجمع | I6: طی ماه | O6: از ابتدای سال مالی
C7: تاریخ تشکیل مجمع | E7: تعداد سهام متعلقه در زمان مجمع | G7: سود متعلق به هر سهم | I7: جمع درآمد سود سهام | K7: هزینه تنزیل | M7: خالص درآمد سود سهام | O7: جمع درآمد سود سهام | Q7: هزینه تنزیل | S7: خالص درآمد سود سهام
A8: گروه مپنا | C8: 1405/06/29 | E8: 13019000 | G8: 1000 | I8: =E8*G8 -> 13019000000 | K8: -1837976471 | M8: =I8+K8 -> 11181023529 | O8: =E8*G8 -> 13019000000 | Q8: -1837976471 | S8: =O8+Q8 -> 11181023529
A9: سرمایه‌گذاری‌نیرو | C9: 1405/05/31 | E9: 24835592 | G9: 90 | I9: 0 | K9: 0 | M9: 0 | O9: =E9*G9 -> 2235203280 | Q9: -283410942 | S9: =O9+Q9 -> 1951792338
A10: ایران‌ ترانسفو | C10: 1405/04/22 | E10: 54006699 | G10: 210 | I10: 0 | K10: 0 | M10: 0 | O10: =E10*G10 -> 11341406790 | Q10: -1195295323 | S10: =O10+Q10 -> 10146111467
A11: مبین انرژی خلیج فارس | C11: 1405/04/27 | E11: 1102489 | G11: 1600 | I11: 0 | K11: 0 | M11: 0 | O11: =E11*G11 -> 1763982400 | Q11: -190729924 | S11: =O11+Q11 -> 1573252476
A12: تولید نیروی برق دماوند | C12: 1405/04/31 | E12: 34965865 | G12: 398 | I12: 0 | K12: 0 | M12: 0 | O12: =E12*G12 -> 13916414270 | Q12: -1534960989 | S12: =O12+Q12 -> 12381453281
A13: نیروگاه زاگرس کوثر | C13: 1405/04/31 | E13: 18403712 | G13: 310 | I13: 0 | K13: 0 | M13: 0 | O13: =E13*G13 -> 5705150720 | Q13: -629270128 | S13: =O13+Q13 -> 5075880592
A14: توسعه مولد نیروگاهی جهرم | C14: 1405/04/29 | E14: 9206504 | G14: 100 | I14: 0 | K14: 0 | M14: 0 | O14: =E14*G14 -> 920650400 | Q14: -100546932 | S14: =O14+Q14 -> 820103468
A15: بورس انرژی ایران | C15: 1405/04/07 | E15: 10464416 | G15: 42 | I15: 0 | K15: 0 | M15: 0 | O15: =E15*G15 -> 439505472 | Q15: 0 | S15: =O15+Q15 -> 439505472
A16: تولید نیروی برق آبادان | C16: 1405/04/02 | E16: 1156410 | G16: 252 | I16: 0 | K16: 0 | M16: 0 | O16: =E16*G16 -> 291415320 | Q16: 0 | S16: =O16+Q16 -> 291415320
A17: برق و انرژی پیوندگستر پارس | C17: 1405/04/08 | E17: 14347146 | G17: 1550 | I17: 0 | K17: 0 | M17: 0 | O17: =E17*G17 -> 22238076300 | Q17: -2183974139 | S17: =O17+Q17 -> 20054102161
A18: مدیریت نیروگاهی ایرانیان مپنا | C18: 1405/05/04 | E18: 27992550 | G18: 1454 | I18: 0 | K18: 0 | M18: 0 | O18: =E18*G18 -> 40701167700 | Q18: -4577334969 | S18: =O18+Q18 -> 36123832731
A19: جمع | I19: =SUM(I8:I18) -> 13019000000 | K19: =SUM(K8:K18) -> -1837976471 | M19: =SUM(M8:M18) -> 11181023529 | O19: =SUM(O8:O18) -> 112571972652 | Q19: =SUM(Q8:Q18) -> -12533499817 | S19: =SUM(S8:S18) -> 100038472835

Sheet سود سپرده بانکی
A1: صندوق سرمایه گذاری بخشی صنایع سورنا
A2: صورت وضعیت درآمدها امگا
A3: برای ماه منتهی به 1405/06/31
A5: سود سپرده بانکی
A6: شرح | C6: طی ماه | I6: از ابتدای سال مالی
C7: درآمد سود | E7: هزینه تنزیل | G7: خالص درآمد | I7: درآمد سود | K7: هزینه تنزیل | M7: خالص درآمد
A8: سپرده کوتاه مدت بانک گردشگری نیاوران | C8: 10363 | E8: 0 | G8: =C8+E8 -> 10363 | I8: 31003 | K8: 0 | M8: =I8+K8 -> 31003
A9: سپرده کوتاه مدت بانک خاورمیانه نیایش | C9: 15492 | E9: 0 | G9: =C9+E9 -> 15492 | I9: 53994 | K9: 0 | M9: =I9+K9 -> 53994
A10: سپرده کوتاه مدت بانک ملی بورس اوراق بهادار | C10: 23247 | E10: 0 | G10: =C10+E10 -> 23247 | I10: 93059 | K10: 0 | M10: =I10+K10 -> 93059
A11: جمع | C11: =SUM(C8:C10) -> 49102 | E11: =SUM(E8:E10) -> 0 | G11: =SUM(G8:G10) -> 49102 | I11: =SUM(I8:I10) -> 178056 | K11: =SUM(K8:K10) -> 0 | M11: =SUM(M8:M10) -> 178056

Sheet درآمد ناشی از فروش
A1: صندوق سرمایه گذاری بخشی صنایع سورنا
A2: صورت وضعیت درآمدها امگا
A3: برای ماه منتهی به 1405/06/31
A5: سود(زیان) حاصل از فروش اوراق بهادار
A6: شرح | C6: طی ماه | K6: از ابتدای سال مالی
C7: تعداد | E7: خالص بهای فروش | G7: ارزش دفتری | I7: سود و زیان ناشی از فروش | K7: تعداد | M7: خالص بهای فروش | O7: ارزش دفتری | Q7: سود و زیان ناشی از فروش
A8: توسعه مسیر برق گیلان | C8: 763363 | E8: 20622750781 | G8: -15089228031 | I8: =E8+G8 -> 5533522750 | K8: 1566464 | M8: 37522118365 | O8: -30592049591 | Q8: =M8+O8 -> 6930068774
A9: ایران‌ ترانسفو | C9: 10134757 | E9: 32966486474 | G9: -30864520465 | I9: =E9+G9 -> 2101966009 | K9: 53343542 | M9: 154419030535 | O9: -159317364602 | Q9: =M9+O9 -> -4898334067
A10: بورس کالای ایران | C10: 6008096 | E10: 53988566261 | G10: -50015871194 | I10: =E10+G10 -> 3972695067 | K10: 11426489 | M10: 97537258334 | O10: -94443935008 | Q10: =M10+O10 -> 3093323326
A11: نیروگاه زاگرس کوثر | C11: 7189552 | E11: 61311471221 | G11: -42184196592 | I11: =E11+G11 -> 19127274629 | K11: 9103676 | M11: 71028159095 | O11: -53367193789 | Q11: =M11+O11 -> 17660965306
A12: صنعت غذایی کورش | C12: 100000 | E12: 2173071300 | G12: -2132666318 | I12: =E12+G12 -> 40404982 | K12: 100000 | M12: 2173071300 | O12: -2132666318 | Q12: =M12+O12 -> 40404982
A13: گروه مپنا | C13: 1516412 | E13: 46858074336 | G13: -31150623992 | I13: =E13+G13 -> 15707450344 | K13: 2531393 | M13: 68681790605 | O13: -50014709570 | Q13: =M13+O13 -> 18667081035
A14: برق و انرژی پیوندگستر پارس | C14: 2893713 | E14: 54449532945 | G14: -46578882327 | I14: =E14+G14 -> 7870650618 | K14: 6431691 | M14: 107893997231 | O14: -103484917605 | Q14: =M14+O14 -> 4409079626
A15: تولید انرژی برق شمس پاسارگاد | C15: 510908 | E15: 5949693774 | G15: -3768266818 | I15: =E15+G15 -> 2181426956 | K15: 3843804 | M15: 37918652946 | O15: -26902334750 | Q15: =M15+O15 -> 11016318196
A16: آلومینیوم‌ایران‌ | C16: 100000 | E16: 1496343164 | G16: -1564110018 | I16: =E16+G16 -> -67766854 | K16: 100000 | M16: 1496343164 | O16: -1564110018 | Q16: =M16+O16 -> -67766854
A17: تولید برق عسلویه مپنا | C17: 9583525 | E17: 73266824198 | G17: -48411842439 | I17: =E17+G17 -> 24854981759 | K17: 16771483 | M17: 109130906494 | O17: -84787057377 | Q17: =M17+O17 -> 24343849117
A18: بورس انرژی ایران | C18: 9609833 | E18: 230598714869 | G18: -183617910727 | I18: =E18+G18 -> 46980804142 | K18: 15688473 | M18: 335603187479 | O18: -287517677261 | Q18: =M18+O18 -> 48085510218
A19: مولد نیروگاهی تجارت فارس | C19: 8588119 | E19: 80541968957 | G19: -51678262605 | I19: =E19+G19 -> 28863706352 | K19: 13295366 | M19: 112804063049 | O19: -77842164017 | Q19: =M19+O19 -> 34961899032
... A33: شمش طلا GoldBar | C33: 0 | E33: 0 | G33: 0 | I33: =E33+G33 -> 0 | K33: 1218 | M33: 30653978364 | O33: -29991978399 | Q33: =M33+O33 -> 661999965
A34: جمع | C34: 97907934 | E34: 972317774864 | G34: =SUM(G8:G33) -> -740019458384 | I34: 232298316480 | K34: =SUM(K8:K33) -> 212076617 | M34: =SUM(M8:M33) -> 1655382377074 | O34: =SUM(O8:O33) -> -1406050229420 | Q34: =SUM(Q8:R33) -> 249332147654

Sheet درآمد ناشی از تغییر قیمت اوراق
A1: صندوق سرمایه گذاری بخشی صنایع سورنا
A2: صورت وضعیت درآمدها امگا
A3: برای ماه منتهی به 1405/06/31
A5: درآمد ناشی از تغییر قیمت اوراق بهادار
A6: شرح | C6: طی ماه | K6: از ابتدای سال مالی
C7: تعداد | E7: خالص ارزش فروش | G7: ارزش دفتری | I7: سود و زیان ناشی از تغییر قیمت | K7: تعداد | M7: خالص ارزش فروش | O7: ارزش دفتری | Q7: سود و زیان ناشی از تغییر قیمت
A8: گروه مپنا | C8: 26038000 | E8: 432765164855 | G8: -393550005487 | I8: =E8+G8 -> 39215159368 | K8: 26038000 | M8: 432765164855 | O8: -268506934217 | Q8: =M8+O8 -> 164258230638
A9: آلومینیوم‌ایران‌ | C9: 4928462 | E9: 70910292336 | G9: -76552341491 | I9: =E9+G9 -> -5642049155 | K9: 4928462 | M9: 70910292336 | O9: -76552341491 | Q9: =M9+O9 -> -5642049155
A10: ملی‌ صنایع‌ مس‌ ایران‌ | C10: 1550000 | E10: 37158526960 | G10: -40299271150 | I10: =E10+G10 -> -3140744190 | K10: 1550000 | M10: 37158526960 | O10: -40299271150 | Q10: =M10+O10 -> -3140744190
A11: سرمایه‌گذاری‌نیرو | C11: 26635592 | E11: 100961449698 | G11: -70598636574 | I11: =E11+G11 -> 30362813124 | K11: 26635592 | M11: 100961449698 | O11: -79766060563 | Q11: =M11+O11 -> 21195389135
A12: ایران‌ ترانسفو | C12: 12461126 | E12: 43895045310 | G12: -40668064311 | I12: =E12+G12 -> 3226980999 | K12: 12461126 | M12: 43895045310 | O12: -38960436458 | Q12: =M12+O12 -> 4934608852
A13: سرمایه گذاری نیروگاهی ایران | C13: 1097506 | E13: 49866330138 | G13: -33900874266 | I13: =E13+G13 -> 15965455872 | K13: 1097506 | M13: 49866330138 | O13: -31597238068 | Q13: =M13+O13 -> 18269092070
A14: تولید برق عسلویه مپنا | C14: 19100000 | E14: 155030280260 | G14: -143708794385 | I14: =E14+G14 -> 11321485875 | K14: 19100000 | M14: 155030280260 | O14: -99563128180 | Q14: =M14+O14 -> 55467152080
A15: مبین انرژی خلیج فارس | C15: 8799030 | E15: 105470643057 | G15: -106635266178 | I15: =E15+G15 -> -1164623121 | K15: 8799030 | M15: 105470643057 | O15: -107860508949 | Q15: =M15+O15 -> -2389865892
A16: مدیریت انرژی امید تابان هور | C16: 85058765 | E16: 202309822009 | G16: -246343472639 | I16: =E16+G16 -> -44033650630 | K16: 85058765 | M16: 202309822009 | O16: -198604465353 | Q16: =M16+O16 -> 3705356656
A17: تولید نیروی برق دماوند | C17: 25979866 | E17: 336674283763 | G17: -361543355555 | I17: =E17+G17 -> -24869071792 | K17: 25979866 | M17: 336674283763 | O17: -253039867369 | Q17: =M17+O17 -> 83634416394
A18: توسعه مسیر برق گیلان | C18: 5376164 | E18: 139233223184 | G18: -148780127103 | I18: =E18+G18 -> -9546903919 | K18: 5376164 | M18: 139233223184 | O18: -110643689434 | Q18: =M18+O18 -> 28589533750
A19: فجر انرژی خلیج فارس | C19: 100000 | E19: 1061728900 | G19: -1217234087 | I19: =E19+G19 -> -155505187 | K19: 100000 | M19: 1061728900 | O19: -1217234087 | Q19: =M19+O19 -> -155505187
... A27: تولید نیروی برق سبز منجیل | C27: 3558900 | E27: 101280256682 | G27: -85400582984 | I27: =E27+G27 -> 15879673698 | K27: 3558900 | M27: 101280256682 | O27: -85400582984 | Q27: =M27+O27 -> 15879673698
A28: جمع | C28: =SUM(C8:C27) -> 335507448 | E28: =SUM(E8:E27) -> 3405664144109 | G28: =SUM(G8:G27) -> -3425590071706 | I28: =SUM(I8:I27) -> -19925927597 | K28: =SUM(K8:K27) -> 335507448 | M28: =SUM(M8:M27) -> 3405664144109 | O28: =SUM(O8:O27) -> -2562346361084 | Q28: =SUM(Q8:R27) -> 843317783025
